Report for Package-Data-Inheritable-0.05

Back
From: metabase:user:8286d1fc-3d52-11e2-9ec4-cb9cdd236785
Subject: PASS Package-Data-Inheritable-0.05 v5.8.9 GNU/Linux
Date: 2013-07-24T10:49:03Z

This distribution has been tested as part of the CPAN Testers
project, supporting the Perl programming language.  See
http://wiki.cpantesters.org/ for more information or email
questions to cpan-testers-discuss@perl.org


--
Dear Giacomo Cerrai,

This is a computer-generated report for Package-Data-Inheritable-0.05
on perl 5.8.9, created by CPAN-Reporter-1.2010.

Thank you for uploading your work to CPAN.  Congratulations!
All tests were successful.

Sections of this report:

    * Tester comments
    * Program output
    * Prerequisites
    * Environment and other context

------------------------------
TESTER COMMENTS
------------------------------

Additional comments from tester:

this report is from an automated smoke testing program
and was not reviewed by a human for accuracy

------------------------------
PROGRAM OUTPUT
------------------------------

Output from '/usr/local/bin/make test':

PERL_DL_NONLAZY=1 /opt/perl431-no-5.8.9/bin/perl "-MExtUtils::Command::MM" "-e" "test_harness(0, 'blib/lib', 'blib/arch')" t/*.t
# Testing Package::Data::Inheritable 0.05, Perl 5.008009, /opt/perl431-no-5.8.9/bin/perl
t/00-load.t .......................... ok
t/boilerplate.t ...................... ok
t/M00-debug_dump.t ................... ok
t/M01-export_inherit.t ............... ok
t/M02-isa.t .......................... ok
t/M03-export_exportok.t .............. ok
t/M05-export_values.t ................ ok
t/M07-code_usage.t ................... ok
t/M08-const_scalar.t ................. ok
t/Mtest_perl_c++_java_equivalency.t .. ok
t/O00-debug_dump.t ................... ok
t/O01-export_inherit.t ............... ok
t/O02-isa.t .......................... ok
t/O03-export_exportok.t .............. ok
t/O05-export_values.t ................ ok
t/O07-code_usage.t ................... ok
t/Otest_perl_c++_java_equivalency.t .. ok
t/pod-coverage.t ..................... ok
t/pod.t .............................. ok
All tests successful.
Files=19, Tests=70,  6 wallclock secs ( 0.23 usr  0.10 sys +  1.72 cusr  0.33 csys =  2.38 CPU)
Result: PASS

------------------------------
PREREQUISITES
------------------------------

Prerequisite modules loaded:

requires:

    Module              Need Have
    ------------------- ---- ----
    Carp                0    1.26
    Exporter            0    5.68
    Test::More          0    0.98

build_requires:

    Module              Need Have
    ------------------- ---- ----
    ExtUtils::MakeMaker 0    6.68


------------------------------
ENVIRONMENT AND OTHER CONTEXT
------------------------------

Environment variables:

    AUTHOR_TESTING = 1
    AUTOMATED_TESTING = 1
    LANG = en_US.UTF-8
    LD_LIBRARY_PATH = /usr/local/lib
    PATH = /usr/lib/qt-3.3/bin:/usr/kerberos/sbin:/usr/kerberos/bin:/usr/lib/ccache:/usr/local/sbin:/usr/local/bin:/sbin:/bin:/usr/sbin:/usr/bin:/usr/X11R6/bin:/usr/lib/alliance/bin:/opt/real/RealPlayer:/root/bin:/usr/lib/alliance/bin:/opt/real/RealPlayer
    PERL5LIB = /root/.cpan/build/Package-Constants-0.02-N0ZzXR/blib/arch:/root/.cpan/build/Package-Constants-0.02-N0ZzXR/blib/lib:/root/.cpan/build/Package-Butcher-0.02-uX25dR/blib/arch:/root/.cpan/build/Package-Butcher-0.02-uX25dR/blib/lib:/root/.cpan/build/Package-Alias-0.13-cqBln8/blib/arch:/root/.cpan/build/Package-Alias-0.13-cqBln8/blib/lib:/root/.cpan/build/Object-Hybrid-0.06-T3upLO/blib/arch:/root/.cpan/build/Object-Hybrid-0.06-T3upLO/blib/lib
    PERL5OPT = 
    PERL5_CPANPLUS_IS_RUNNING = 5037
    PERL5_CPAN_IS_RUNNING = 5037
    PERL5_CPAN_IS_RUNNING_IN_RECURSION = 8994,5037
    PERL_MM_USE_DEFAULT = 1
    SHELL = /bin/bash
    TERM = xterm

Perl special variables (and OS-specific diagnostics, for MSWin32):

    $^X = /opt/perl431-no-5.8.9/bin/perl
    $UID/$EUID = 0 / 0
    $GID = 0 0 1 2 3 4 6 10
    $EGID = 0 0 1 2 3 4 6 10

Perl module toolchain versions installed:

    Module              Have    
    ------------------- --------
    CPAN                2.00    
    CPAN::Meta          2.131560
    Cwd                 3.40    
    ExtUtils::CBuilder  0.280205
    ExtUtils::Command   1.16    
    ExtUtils::Install   1.54    
    ExtUtils::MakeMaker 6.68    
    ExtUtils::Manifest  1.61    
    ExtUtils::ParseXS   3.18    
    File::Spec          3.40    
    JSON                2.59    
    JSON::PP            2.27202 
    Module::Build       0.4007  
    Module::Signature   n/a     
    Parse::CPAN::Meta   1.4405  
    Test::Harness       3.28    
    Test::More          0.98    
    YAML                0.84    
    YAML::Syck          1.27    
    version             0.9902  


--

Summary of my perl5 (revision 5 version 8 subversion 9) configuration:
  Platform:
    osname=linux, osvers=2.6.22.14-72.fc6, archname=i686-linux
    uname='linux localhost.localdomain 2.6.22.14-72.fc6 #1 smp wed nov 21 13:44:07 est 2007 i686 i686 i386 gnulinux '
    config_args='-Dcc=/opt/7cc/bin/gcc -Doptimize=-g -DDMALLOC=/usr/local/bin/dmalloc -Dprefix=/opt/perl431-no-5.8.9 -DDEBUGGING'
    hint=previous, useposix=true, d_sigaction=define
    usethreads=undef use5005threads=undef useithreads=undef usemultiplicity=undef
    useperlio=define d_sfio=undef uselargefiles=undef usesocks=undef
    use64bitint=undef use64bitall=undef uselongdouble=undef
    usemymalloc=n, bincompat5005=undef
  Compiler:
    cc='/opt/7cc/bin/gcc', ccflags ='-DDMALLOC -I/usr/include/gdbm',
    optimize='-g',
    cppflags='-DDMALLOc -I/usr/include/gdbm -DDMALLOC -I/usr/include/gdbm'
    ccversion='', gccversion='4.3.1', gccosandvers=''
    intsize=4, longsize=4, ptrsize=4, doublesize=8, byteorder=1234
    d_longlong=define, longlongsize=8, d_longdbl=define, longdblsize=12
    ivtype='long', ivsize=4, nvtype='double', nvsize=8, Off_t='off_t', lseeksize=4
    alignbytes=4, prototype=define
  Linker and Libraries:
    ld='/opt/7cc/bin/gcc', ldflags =' -L/usr/local/lib'
    libpth=/usr/local/lib /lib /usr/lib
    libs=-lnsl -lgdbm -ldb -ldl -lm -lcrypt -lutil -lc
    perllibs=-lnsl -ldl -lm -lcrypt -lutil -lc
    libc=/lib/libc-2.5.so, so=so, useshrplib=false, libperl=libperl.a
    gnulibc_version='2.5'
  Dynamic Linking:
    dlsrc=dl_dlopen.xs, dlext=so, d_dlsymun=undef, ccdlflags='-Wl,-E'
    cccdlflags='-fPIC', lddlflags='-shared -g -L/usr/local/lib'


Characteristics of this binary (from libperl): 
  Compile-time options: PERL_MALLOC_WRAP USE_FAST_STDIO USE_PERLIO
  Built under linux
  Compiled at Jul  1 2013 11:33:01
  %ENV:
    PERL5LIB="/root/.cpan/build/Package-Constants-0.02-N0ZzXR/blib/arch:/root/.cpan/build/Package-Constants-0.02-N0ZzXR/blib/lib:/root/.cpan/build/Package-Butcher-0.02-uX25dR/blib/arch:/root/.cpan/build/Package-Butcher-0.02-uX25dR/blib/lib:/root/.cpan/build/Package-Alias-0.13-cqBln8/blib/arch:/root/.cpan/build/Package-Alias-0.13-cqBln8/blib/lib:/root/.cpan/build/Object-Hybrid-0.06-T3upLO/blib/arch:/root/.cpan/build/Object-Hybrid-0.06-T3upLO/blib/lib"
    PERL5OPT=""
    PERL5_CPANPLUS_IS_RUNNING="5037"
    PERL5_CPAN_IS_RUNNING="5037"
    PERL5_CPAN_IS_RUNNING_IN_RECURSION="8994,5037"
    PERL_MM_USE_DEFAULT="1"
  @INC:
    /root/.cpan/build/Package-Constants-0.02-N0ZzXR/blib/arch
    /root/.cpan/build/Package-Constants-0.02-N0ZzXR/blib/lib
    /root/.cpan/build/Package-Butcher-0.02-uX25dR/blib/arch
    /root/.cpan/build/Package-Butcher-0.02-uX25dR/blib/lib
    /root/.cpan/build/Package-Alias-0.13-cqBln8/blib/arch
    /root/.cpan/build/Package-Alias-0.13-cqBln8/blib/lib
    /root/.cpan/build/Object-Hybrid-0.06-T3upLO/blib/arch
    /root/.cpan/build/Object-Hybrid-0.06-T3upLO/blib/lib
    /opt/perl431-no-5.8.9/lib/5.8.9/i686-linux
    /opt/perl431-no-5.8.9/lib/5.8.9
    /opt/perl431-no-5.8.9/lib/site_perl/5.8.9/i686-linux
    /opt/perl431-no-5.8.9/lib/site_perl/5.8.9
    .