Parallel-ForkManager v2.02 Perl 5 v5.29.0 i86pc-solaris
- Status
- Pass
- From
- Serguei Trouchelle (STRO)
- Dist
-
Parallel-ForkManager v2.02
- Platform
- Perl 5 v5.29.0 i86pc-solaris
- Date
- 2018-10-23 21:29:00
- ID
- a7e3998c-d70a-11e8-8297-566eec3b2b51
This distribution has been tested as part of the CPAN Testers
project, supporting the Perl programming language. See
http://wiki.cpantesters.org/ for more information or email
questions to cpan-testers-discuss@perl.org
--
Dear Yanick Champoux,
This is a computer-generated report for Parallel-ForkManager-2.02
on perl 5.29.0, created by CPAN-Reporter-1.2018.
Thank you for uploading your work to CPAN. Congratulations!
All tests were successful.
Sections of this report:
* Tester comments
* Program output
* Prerequisites
* Environment and other context
------------------------------
TESTER COMMENTS
------------------------------
Additional comments from tester:
this report is from an automated smoke testing program
and was not reviewed by a human for accuracy
------------------------------
PROGRAM OUTPUT
------------------------------
Output from '/usr/bin/make test':
PERL_DL_NONLAZY=1 "/home/stro/perl/5.29.0/bin/perl" "-MExtUtils::Command::MM" "-MTest::Harness" "-e" "undef *Test::Harness::Switches; test_harness(0, 'blib/lib', 'blib/arch')" t/*.t
t/00-compile.t ............ ok
# time: 0 seconds
# time: 3 seconds
# time: 0 seconds
# time: 2 seconds
t/00-load.t ............... ok
#
# Versions for all modules listed in MYMETA.json (including optional ones):
#
# === Configure Requires ===
#
# Module Want Have
# ------------------- ---- ----
# ExtUtils::MakeMaker any 7.34
#
# === Build Requires ===
#
# Module Want Have
# ------------------- ---- ----
# ExtUtils::MakeMaker any 7.34
#
# === Test Requires ===
#
# Module Want Have
# ------------------- ---- --------
# ExtUtils::MakeMaker any 7.34
# File::Spec any 3.74
# IO::Handle any 1.39
# IPC::Open3 any 1.20
# Test::More 0.94 1.302140
# Test::Warn any 0.36
#
# === Test Recommends ===
#
# Module Want Have
# ---------- -------- --------
# CPAN::Meta 2.120900 2.150010
#
# === Runtime Requires ===
#
# Module Want Have
# ---------- ---- --------
# Carp any 1.50
# File::Path any 2.15
# File::Spec any 3.74
# File::Temp any 0.2304
# Moo any 2.003004
# Moo::Role any 2.003004
# POSIX any 1.84
# Storable any 3.08
# strict any 1.11
# warnings any 1.42
#
t/00-report-prereqs.t ..... ok
t/01-utf8-all.t ........... skipped: Need utf8::all for this test crashing on Windows
# This test can take 10-20 seconds, please wait. Started at Tue Oct 23 13:32:58 2018
t/02-callback.t ........... ok
# This test can take 2-6 seconds, please wait. Started at Tue Oct 23 13:33:14 2018
t/03-callback-data.t ...... ok
t/basic-methods.t ......... ok
t/changing-pids.t ......... ok
t/start_child.t ........... ok
# code outside of P::FM stole 28190
child process '28190' disappeared. A call to `waitpid` outside of Parallel::ForkManager might have reaped it.
t/waitpid-conflict.t ...... ok
# code outside of P::FM stole 28192
t/waitpid-waitonechild.t .. ok
t/waitpid_blocking.t ...... ok
All tests successful.
Test Summary Report
-------------------
t/waitpid-conflict.t (Wstat: 0 Tests: 2 Failed: 0)
TODO passed: 1-2
t/waitpid-waitonechild.t (Wstat: 0 Tests: 3 Failed: 0)
TODO passed: 1-3
Files=12, Tests=28, 42 wallclock secs ( 0.04 usr 0.02 sys + 1.47 cusr 0.32 csys = 1.85 CPU)
Result: PASS
------------------------------
PREREQUISITES
------------------------------
Prerequisite modules loaded:
requires:
Module Need Have
------------------- ----- --------
Carp 0 1.50
File::Path 0 2.15
File::Spec 0 3.74
File::Temp 0 0.2304
Moo 0 2.003004
Moo::Role 0 2.003004
perl 5.006 5.029000
POSIX 0 1.84
Storable 0 3.08
strict 0 1.11
warnings 0 1.42
build_requires:
Module Need Have
------------------- ----- --------
ExtUtils::MakeMaker 0 7.34
File::Spec 0 3.74
IO::Handle 0 1.39
IPC::Open3 0 1.20
Test::More 0.94 1.302140
Test::Warn 0 0.36
configure_requires:
Module Need Have
------------------- ----- --------
ExtUtils::MakeMaker 0 7.34
------------------------------
ENVIRONMENT AND OTHER CONTEXT
------------------------------
Environment variables:
AUTOMATED_TESTING = 1
LANG = en_US.UTF-8
PATH = /usr/gnu/bin:/usr/bin:/usr/sbin:/sbin:/usr/sfw/bin:
PERL5LIB =
PERL5OPT =
PERL5_CPANPLUS_IS_RUNNING = 27987
PERL5_CPAN_IS_RUNNING = 27987
PERL5_CPAN_IS_RUNNING_IN_RECURSION = 20174,27987
PERL_CR_SMOKER_CURRENT = Parallel-Loops-0.09
PERL_EXTUTILS_AUTOINSTALL = --defaultdeps
PERL_MM_USE_DEFAULT = 1
PERL_USE_UNSAFE_INC = 1
SHELL = /bin/bash
TERM = xterm
Perl special variables (and OS-specific diagnostics, for MSWin32):
$^X = /home/stro/perl/5.29.0/bin/perl
$UID/$EUID = 101 / 101
$GID = 10 10
$EGID = 10 10
Perl module toolchain versions installed:
Module Have
------------------- --------
CPAN 2.20
CPAN::Meta 2.150010
Cwd 3.74
ExtUtils::CBuilder 0.280230
ExtUtils::Command 7.34
ExtUtils::Install 2.14
ExtUtils::MakeMaker 7.34
ExtUtils::Manifest 1.70
ExtUtils::ParseXS 3.39
File::Spec 3.74
JSON 2.97001
JSON::PP 2.97001
Module::Build 0.4224
Module::Signature n/a
Parse::CPAN::Meta 2.150010
Test::Harness 3.42
Test::More 1.302140
YAML 1.26
YAML::Syck 1.30
version 0.9923
--
Summary of my perl5 (revision 5 version 29 subversion 0) configuration:
Platform:
osname=solaris
osvers=2.11
archname=i86pc-solaris
uname='sunos vm-openindiana-001 5.11 illumos-ed992b0aac i86pc i386 i86pc solaris '
config_args=''
hint=recommended
useposix=true
d_sigaction=define
useithreads=undef
usemultiplicity=undef
use64bitint=undef
use64bitall=undef
uselongdouble=undef
usemymalloc=n
default_inc_excludes_dot=define
bincompat5005=undef
Compiler:
cc='/opt/SUNWspro/bin/cc'
ccflags ='-I/usr/gnu/include -D_LARGEFILE_SOURCE -D_FILE_OFFSET_BITS=64 -DPERL_USE_SAFE_PUTENV'
optimize='-O'
cppflags='-I/usr/gnu/include'
ccversion='Sun C 5.10 SunOS_i386 2009/06/03'
gccversion=''
gccosandvers=''
intsize=4
longsize=4
ptrsize=4
doublesize=8
byteorder=1234
doublekind=3
d_longlong=define
longlongsize=8
d_longdbl=define
longdblsize=12
longdblkind=3
ivtype='long'
ivsize=4
nvtype='double'
nvsize=8
Off_t='off_t'
lseeksize=8
alignbytes=4
prototype=define
Linker and Libraries:
ld='/opt/SUNWspro/bin/cc'
ldflags =' -L/usr/lib -L/usr/ccs/lib -L/opt/sunstudio12.1/prod/lib -L/lib -L/usr/gnu/lib '
libpth=/usr/lib /usr/ccs/lib /opt/sunstudio12.1/prod/lib /lib /usr/gnu/lib
libs=-lpthread -lsocket -lnsl -lgdbm -ldb -ldl -lm -lc
perllibs=-lpthread -lsocket -lnsl -ldl -lm -lc
libc=/lib/libc.so
so=so
useshrplib=true
libperl=libperl.so
gnulibc_version=''
Dynamic Linking:
dlsrc=dl_dlopen.xs
dlext=so
d_dlsymun=undef
ccdlflags=' -R /home/stro/perl/5.29.0/lib/5.29.0/i86pc-solaris/CORE'
cccdlflags='-KPIC'
lddlflags='-G -L/usr/lib -L/usr/ccs/lib -L/opt/sunstudio12.1/prod/lib -L/lib -L/usr/gnu/lib'
Characteristics of this binary (from libperl):
Compile-time options:
HAS_TIMES
PERLIO_LAYERS
PERL_COPY_ON_WRITE
PERL_DONT_CREATE_GVSV
PERL_MALLOC_WRAP
PERL_OP_PARENT
PERL_PRESERVE_IVUV
PERL_USE_SAFE_PUTENV
USE_LARGE_FILES
USE_LOCALE
USE_LOCALE_COLLATE
USE_LOCALE_CTYPE
USE_LOCALE_NUMERIC
USE_LOCALE_TIME
USE_PERLIO
USE_PERL_ATOF
Built under solaris
Compiled at Oct 15 2018 09:23:53
%ENV:
PERL5LIB=""
PERL5OPT=""
PERL5_CPANPLUS_IS_RUNNING="27987"
PERL5_CPAN_IS_RUNNING="27987"
PERL5_CPAN_IS_RUNNING_IN_RECURSION="20174,27987"
PERL_CR_SMOKER_CURRENT="Parallel-Loops-0.09"
PERL_EXTUTILS_AUTOINSTALL="--defaultdeps"
PERL_MM_USE_DEFAULT="1"
PERL_USE_UNSAFE_INC="1"
@INC:
/home/stro/perl/5.29.0/lib/site_perl/5.29.0/i86pc-solaris
/home/stro/perl/5.29.0/lib/site_perl/5.29.0
/home/stro/perl/5.29.0/lib/5.29.0/i86pc-solaris
/home/stro/perl/5.29.0/lib/5.29.0
.