Back
From: metabase:user:31d414ea-2aae-11df-837a-5e0a49663a4f
Subject: PASS Params-Validate-Array-0.03 v5.16.3 GNU/Linux
Date: 2014-03-18T20:41:17Z
This distribution has been tested as part of the CPAN Testers
project, supporting the Perl programming language. See
http://wiki.cpantesters.org/ for more information or email
questions to cpan-testers-discuss@perl.org
--
Dear Sam Brain,
This is a computer-generated report for Params-Validate-Array-0.03
on perl 5.16.3, created by CPAN-Reporter-1.2009.
Thank you for uploading your work to CPAN. Congratulations!
All tests were successful.
Sections of this report:
* Tester comments
* Program output
* Prerequisites
* Environment and other context
------------------------------
TESTER COMMENTS
------------------------------
Additional comments from tester:
this report is from an automated smoke testing program
and was not reviewed by a human for accuracy
------------------------------
PROGRAM OUTPUT
------------------------------
Output from './Build test':
t/01-validate-array.t ........ ok
t/01-validate.t .............. ok
t/02-noop-array.t ............ ok
t/02-noop.t .................. ok
t/04-defaults-array.t ........ ok
t/04-defaults.t .............. ok
t/05-noop_default-array.t .... ok
t/05-noop_default.t .......... ok
t/06-options.t ............... ok
t/09-regex-array.t ........... ok
t/09-regex.t ................. ok
t/10-noop_regex-array.t ...... ok
t/10-noop_regex.t ............ ok
t/11-cb.t .................... ok
t/11-cb_array.t .............. ok
t/12-noop_cb-array.t ......... ok
t/12-noop_cb.t ............... ok
t/13-taint.t ................. ok
t/14-no_validate.t ........... ok
t/14-no_validate_array.t ..... ok
t/17-callbacks-array.t ....... ok
t/17-callbacks.t ............. ok
t/18-depends-array.t ......... ok
t/18-depends.t ............... ok
t/19-untaint.t ............... skipped: These tests require Test::Taint 0.02+ to run
t/21-can.t ................... ok
t/22-overload-can-bug.t ...... ok
t/23-readonly.t .............. skipped: Need Readonly::XS and Readonly for this test
t/24-tied.t .................. ok
t/25-undef-regex.t ........... ok
t/26-isa.t ................... ok
t/27-string-as-type.t ........ ok
t/28-readonly-return.t ....... ok
t/29-taint-mode.t ............ skipped: This test is flaky
t/30-hashref-alteration.t .... ok
t/31-incorrect-spelling.t .... skipped: Spec validation is disabled for now
t/32-regex-as-value.t ........ ok
t/33-keep-errsv.t ............ ok
t/34-recursive-validation.t .. ok
t/35-default-xs-bug.t ........ ok
All tests successful.
Test Summary Report
-------------------
t/34-recursive-validation.t (Wstat: 0 Tests: 1 Failed: 0)
TODO passed: 1
Files=40, Tests=636, 5 wallclock secs ( 0.15 usr 0.18 sys + 1.35 cusr 0.34 csys = 2.02 CPU)
Result: PASS
------------------------------
PREREQUISITES
------------------------------
Prerequisite modules loaded:
requires:
Module Need Have
---------------- ---- --------
Carp 0 1.26
Params::Validate 1.07 1.08
Test::More 0 1.001002
version 0 0.99
configure_requires:
Module Need Have
---------------- ---- --------
Module::Build 0.38 0.4205
------------------------------
ENVIRONMENT AND OTHER CONTEXT
------------------------------
Environment variables:
AUTOMATED_TESTING = 1
PATH = /usr/local/bin:/usr/bin:/bin:/usr/games
PERL = 5.16.3
PERL5LIB =
PERL5OPT =
PERL5_CPANPLUS_IS_RUNNING = 25093
PERL5_CPAN_IS_RUNNING = 25093
PERLVER = 5.16.3
PERL_INLINE_DIRECTORY = /home/david/.Inline-5.16.3
PERL_MM_USE_DEFAULT = 1
SHELL = /bin/bash
TERM = screen
Perl special variables (and OS-specific diagnostics, for MSWin32):
$^X = /home/david/cpantesting/perl-5.16.3/bin/perl
$UID/$EUID = 1000 / 1000
$GID = 1000 1000
$EGID = 1000 1000
Perl module toolchain versions installed:
Module Have
------------------- --------
CPAN 1.9800
CPAN::Meta 2.140640
Cwd 3.40
ExtUtils::CBuilder 0.280206
ExtUtils::Command 1.17
ExtUtils::Install 1.58
ExtUtils::MakeMaker 6.92
ExtUtils::Manifest 1.61
ExtUtils::ParseXS 3.24
File::Spec 3.40
JSON 2.53
JSON::PP 2.27203
Module::Build 0.4205
Module::Signature n/a
Parse::CPAN::Meta 1.4414
Test::Harness 3.30
Test::More 1.001002
YAML 0.90
YAML::Syck 1.27
version 0.99
--
Summary of my perl5 (revision 5 version 16 subversion 3) configuration:
Platform:
osname=linux, osvers=3.2.0-4-amd64, archname=x86_64-linux-thread-multi
uname='linux pigsty.barnyard.co.uk 3.2.0-4-amd64 #1 smp debian 3.2.35-2 x86_64 gnulinux '
config_args='-de -Dprefix=/home/david/cpantesting/perl-5.16.3 -Dusethreads -Duse64bitall'
hint=recommended, useposix=true, d_sigaction=define
useithreads=define, usemultiplicity=define
useperlio=define, d_sfio=undef, uselargefiles=define, usesocks=undef
use64bitint=define, use64bitall=define, uselongdouble=undef
usemymalloc=n, bincompat5005=undef
Compiler:
cc='cc', ccflags ='-D_REENTRANT -D_GNU_SOURCE -fno-strict-aliasing -pipe -fstack-protector -I/usr/local/include -D_LARGEFILE_SOURCE -D_FILE_OFFSET_BITS=64',
optimize='-O2',
cppflags='-D_REENTRANT -D_GNU_SOURCE -fno-strict-aliasing -pipe -fstack-protector -I/usr/local/include'
ccversion='', gccversion='4.1.2 20061115 (prerelease) (Debian 4.1.1-21)', gccosandvers=''
intsize=4, longsize=8, ptrsize=8, doublesize=8, byteorder=12345678
d_longlong=define, longlongsize=8, d_longdbl=define, longdblsize=16
ivtype='long', ivsize=8, nvtype='double', nvsize=8, Off_t='off_t', lseeksize=8
alignbytes=8, prototype=define
Linker and Libraries:
ld='cc', ldflags =' -fstack-protector -L/usr/local/lib'
libpth=/usr/local/lib /lib /usr/lib /lib64 /usr/lib64
libs=-lnsl -lgdbm -ldb -ldl -lm -lcrypt -lutil -lpthread -lc -lgdbm_compat
perllibs=-lnsl -ldl -lm -lcrypt -lutil -lpthread -lc
libc=/lib/libc-2.3.6.so, so=so, useshrplib=false, libperl=libperl.a
gnulibc_version='2.3.6'
Dynamic Linking:
dlsrc=dl_dlopen.xs, dlext=so, d_dlsymun=undef, ccdlflags='-Wl,-E'
cccdlflags='-fPIC', lddlflags='-shared -O2 -L/usr/local/lib -fstack-protector'
Characteristics of this binary (from libperl):
Compile-time options: HAS_TIMES MULTIPLICITY PERLIO_LAYERS
PERL_DONT_CREATE_GVSV PERL_IMPLICIT_CONTEXT
PERL_MALLOC_WRAP PERL_PRESERVE_IVUV USE_64_BIT_ALL
USE_64_BIT_INT USE_ITHREADS USE_LARGE_FILES
USE_LOCALE USE_LOCALE_COLLATE USE_LOCALE_CTYPE
USE_LOCALE_NUMERIC USE_PERLIO USE_PERL_ATOF
USE_REENTRANT_API
Built under linux
Compiled at Mar 22 2013 21:25:26
%ENV:
PERL="5.16.3"
PERL5LIB=""
PERL5OPT=""
PERL5_CPANPLUS_IS_RUNNING="25093"
PERL5_CPAN_IS_RUNNING="25093"
PERLVER="5.16.3"
PERL_INLINE_DIRECTORY="/home/david/.Inline-5.16.3"
PERL_MM_USE_DEFAULT="1"
@INC:
/home/david/cpantesting/perl-5.16.3/lib/site_perl/5.16.3/x86_64-linux-thread-multi
/home/david/cpantesting/perl-5.16.3/lib/site_perl/5.16.3
/home/david/cpantesting/perl-5.16.3/lib/5.16.3/x86_64-linux-thread-multi
/home/david/cpantesting/perl-5.16.3/lib/5.16.3
.