Report for SmokeRunner-Multi-0.21

Back
From: metabase:user:314402c4-2aae-11df-837a-5e0a49663a4f
Subject: PASS SmokeRunner-Multi-0.21 v5.12.5 GNU/Linux
Date: 2015-11-11T14:01:07Z

This distribution has been tested as part of the CPAN Testers
project, supporting the Perl programming language.  See
http://wiki.cpantesters.org/ for more information or email
questions to cpan-testers-discuss@perl.org


--
Dear Yanick Champoux,

This is a computer-generated report for SmokeRunner-Multi-0.21
on perl 5.12.5, created by CPAN-Reporter-1.2015.

Thank you for uploading your work to CPAN.  Congratulations!
All tests were successful.

Sections of this report:

    * Tester comments
    * Program output
    * Prerequisites
    * Environment and other context

------------------------------
TESTER COMMENTS
------------------------------

Additional comments from tester:

none provided

------------------------------
PROGRAM OUTPUT
------------------------------

Output from '/usr/bin/make test':

PERL_DL_NONLAZY=1 "/bbbike/perl-5.12.5/bin/perl5.12.5" "-MExtUtils::Command::MM" "-MTest::Harness" "-e" "undef *Test::Harness::Switches; test_harness(0, 'blib/lib', 'blib/arch')" t/*.t t/Reporter/*.t t/Runner/*.t t/TestSet/*.t
t/00-compile.t ......... ok
# 
# Versions for all modules listed in MYMETA.json (including optional ones):
# 
# === Configure Requires ===
# 
#     Module              Want Have
#     ------------------- ---- ----
#     ExtUtils::MakeMaker  any 7.04
# 
# === Build Requires ===
# 
#     Module              Want Have
#     ------------------- ---- ----
#     ExtUtils::MakeMaker  any 7.04
# 
# === Test Requires ===
# 
#     Module              Want     Have
#     ------------------- ---- --------
#     ExtUtils::MakeMaker  any     7.04
#     File::Copy           any     2.18
#     File::Spec           any     3.47
#     IO::Handle           any     1.28
#     IPC::Open3           any     1.05
#     Test::More           any 1.001014
#     lib                  any     0.62
# 
# === Test Recommends ===
# 
#     Module         Want     Have
#     ---------- -------- --------
#     CPAN::Meta 2.120900 2.150005
# 
# === Runtime Requires ===
# 
#     Module                     Want     Have
#     -------------------------- ---- --------
#     Archive::Tar                any     2.04
#     Class::Accessor::Fast       any     0.34
#     Class::Factory::Util        any      1.7
#     Cwd                         any     3.47
#     DBD::SQLite                 any     1.48
#     DBI                         any    1.633
#     DateTime::Format::Strptime  any     1.56
#     Exporter                    any     5.72
#     File::Basename              any     2.78
#     File::Find::Rule            any     0.33
#     File::HomeDir               any     1.00
#     File::Path                  any     2.09
#     File::Spec                  any     3.47
#     File::Temp                  any   0.2304
#     File::Which                 any     1.19
#     File::chdir                 any   0.1010
#     IPC::Run3                   any    0.048
#     List::Util                  any     1.42
#     Moo                         any 2.000002
#     MooX::Singleton             any     1.20
#     Params::Validate            any     1.19
#     Scalar::Util                any     1.42
#     YAML::Syck                  any     1.29
#     base                        any     2.18
#     strict                      any     1.04
#     warnings                    any     1.09
# 
t/00-report-prereqs.t .. ok
t/Config.t ............. ok
t/DBI.t ................ ok
t/Multi.t .............. ok
t/pod-coverage.t ....... skipped: This test is only run for the module author
t/pod.t ................ skipped: This test is only run for the module author
t/Reporter.t ........... ok
t/Reporter/Screen.t .... ok
t/Reporter/Smolder.t ... ok
t/Runner.t ............. ok
t/Runner/Prove.t ....... ok
t/Runner/TAPArchive.t .. ok
t/smokerunner-multi.t .. ok
t/TestSet.t ............ ok
t/TestSet/SVN.t ........ ok
All tests successful.
Files=16, Tests=82,  8 wallclock secs ( 0.06 usr  0.07 sys +  2.66 cusr  0.78 csys =  3.57 CPU)
Result: PASS

------------------------------
PREREQUISITES
------------------------------

Prerequisite modules loaded:

requires:

    Module                     Need  Have    
    -------------------------- ----- --------
    Archive::Tar               0     2.04    
    base                       0     2.18    
    Class::Accessor::Fast      0     0.34    
    Class::Factory::Util       0     1.7     
    Cwd                        0     3.47    
    DateTime::Format::Strptime 0     1.56    
    DBD::SQLite                0     1.48    
    DBI                        0     1.633   
    Exporter                   0     5.72    
    File::Basename             0     2.78    
    File::chdir                0     0.1010  
    File::Find::Rule           0     0.33    
    File::HomeDir              0     1.00    
    File::Path                 0     2.09    
    File::Spec                 0     3.47    
    File::Temp                 0     0.2304  
    File::Which                0     1.19    
    IPC::Run3                  0     0.048   
    List::Util                 0     1.42    
    Moo                        0     2.000002
    MooX::Singleton            0     1.20    
    Params::Validate           0     1.19    
    perl                       5.006 5.012005
    Scalar::Util               0     1.42    
    strict                     0     1.04    
    warnings                   0     1.09    
    YAML::Syck                 0     1.29    

build_requires:

    Module                     Need  Have    
    -------------------------- ----- --------
    ExtUtils::MakeMaker        0     7.04    
    File::Copy                 0     2.18    
    File::Spec                 0     3.47    
    IO::Handle                 0     1.28    
    IPC::Open3                 0     1.05    
    lib                        0     0.62    
    Test::More                 0     1.001014

configure_requires:

    Module                     Need  Have    
    -------------------------- ----- --------
    ExtUtils::MakeMaker        0     7.04    


------------------------------
ENVIRONMENT AND OTHER CONTEXT
------------------------------

Environment variables:

    LANG = C
    LC_ALL = de_DE.UTF-8
    PATH = /usr/local/bin:/usr/bin:/bin:/usr/local/sbin:/usr/sbin:/sbin:/home/eserte/bin/linux-gnu:/home/eserte/bin/sh:/home/eserte/bin:/usr/games:/home/eserte/devel:/home/eserte/src/srezic-misc/scripts
    PERL5LIB = /home/eserte/.cpan/build/2015111112/Perinci-CmdLine-Lite-1.37-ykYAV2/blib/arch:/home/eserte/.cpan/build/2015111112/Perinci-CmdLine-Lite-1.37-ykYAV2/blib/lib
    PERL5OPT = 
    PERL5_CPANPLUS_IS_RUNNING = 17012
    PERL5_CPAN_IS_RUNNING = 17012
    PERL5_CPAN_IS_RUNNING_IN_RECURSION = 16950,17012
    PERLDOC = -MPod::Perldoc::ToTextOverstrike
    PERL_BATCH = yes
    PERL_CANARY_STABILITY_NOPROMPT = 1
    PERL_CPAN_REPORTER_CONFIG = /var/tmp/cpansmoker-1001/2015111112/cpanreporter_000_config.ini
    PERL_EXTUTILS_AUTOINSTALL = --defaultdeps
    PERL_PARALLEL_SMOKER = yes
    SHELL = /bin/zsh
    TERM = screen
    TMPDIR = /var/tmp/cpansmoker-1001/2015111112

Perl special variables (and OS-specific diagnostics, for MSWin32):

    $^X = /bbbike/perl-5.12.5/bin/perl5.12.5
    $UID/$EUID = 1001 / 1001
    $GID = 1001 109 1001
    $EGID = 1001 109 1001

Perl module toolchain versions installed:

    Module              Have    
    ------------------- --------
    CPAN                2.05    
    CPAN::Meta          2.150005
    Cwd                 3.47    
    ExtUtils::CBuilder  0.280223
    ExtUtils::Command   1.16    
    ExtUtils::Install   2.04    
    ExtUtils::MakeMaker 7.04    
    ExtUtils::Manifest  1.68    
    ExtUtils::ParseXS   3.24    
    File::Spec          3.47    
    JSON                2.90    
    JSON::PP            2.27300 
    Module::Build       0.4214  
    Module::Signature   0.78    
    Parse::CPAN::Meta   1.4414  
    Test::Harness       3.35    
    Test::More          1.001014
    YAML                1.15    
    YAML::Syck          1.29    
    version             0.9912  


--

Summary of my perl5 (revision 5 version 12 subversion 5) configuration:
   
  Platform:
    osname=linux, osvers=3.2.0-4-amd64, archname=x86_64-linux
    uname='linux eserte 3.2.0-4-amd64 #1 smp debian 3.2.57-3 x86_64 gnulinux '
    config_args='-ds -e -Dprefix=/opt/perl-5.12.5'
    hint=recommended, useposix=true, d_sigaction=define
    useithreads=undef, usemultiplicity=undef
    useperlio=define, d_sfio=undef, uselargefiles=define, usesocks=undef
    use64bitint=define, use64bitall=define, uselongdouble=undef
    usemymalloc=n, bincompat5005=undef
  Compiler:
    cc='cc', ccflags ='-fno-strict-aliasing -pipe -fstack-protector -I/usr/local/include -D_LARGEFILE_SOURCE -D_FILE_OFFSET_BITS=64',
    optimize='-O2',
    cppflags='-fno-strict-aliasing -pipe -fstack-protector -I/usr/local/include'
    ccversion='', gccversion='4.7.2', gccosandvers=''
    intsize=4, longsize=8, ptrsize=8, doublesize=8, byteorder=12345678
    d_longlong=define, longlongsize=8, d_longdbl=define, longdblsize=16
    ivtype='long', ivsize=8, nvtype='double', nvsize=8, Off_t='off_t', lseeksize=8
    alignbytes=8, prototype=define
  Linker and Libraries:
    ld='cc', ldflags =' -fstack-protector -L/usr/local/lib'
    libpth=/usr/local/lib /lib/x86_64-linux-gnu /lib/../lib /usr/lib/x86_64-linux-gnu /usr/lib/../lib /lib /usr/lib
    libs=-lnsl -ldb -ldl -lm -lcrypt -lutil -lc
    perllibs=-lnsl -ldl -lm -lcrypt -lutil -lc
    libc=, so=so, useshrplib=false, libperl=libperl.a
    gnulibc_version='2.13'
  Dynamic Linking:
    dlsrc=dl_dlopen.xs, dlext=so, d_dlsymun=undef, ccdlflags='-Wl,-E'
    cccdlflags='-fPIC', lddlflags='-shared -O2 -L/usr/local/lib -fstack-protector'


Characteristics of this binary (from libperl): 
  Compile-time options: PERL_DONT_CREATE_GVSV PERL_MALLOC_WRAP USE_64_BIT_ALL
                        USE_64_BIT_INT USE_LARGE_FILES USE_PERLIO
                        USE_PERL_ATOF
  Built under linux
  Compiled at May 15 2014 14:26:58
  %ENV:
    PERL5LIB="/home/eserte/.cpan/build/2015111112/Perinci-CmdLine-Lite-1.37-ykYAV2/blib/arch:/home/eserte/.cpan/build/2015111112/Perinci-CmdLine-Lite-1.37-ykYAV2/blib/lib"
    PERL5OPT=""
    PERL5_CPANPLUS_IS_RUNNING="17012"
    PERL5_CPAN_IS_RUNNING="17012"
    PERL5_CPAN_IS_RUNNING_IN_RECURSION="16950,17012"
    PERLDOC="-MPod::Perldoc::ToTextOverstrike"
    PERL_BATCH="yes"
    PERL_CANARY_STABILITY_NOPROMPT="1"
    PERL_CPAN_REPORTER_CONFIG="/var/tmp/cpansmoker-1001/2015111112/cpanreporter_000_config.ini"
    PERL_EXTUTILS_AUTOINSTALL="--defaultdeps"
    PERL_PARALLEL_SMOKER="yes"
  @INC:
    /home/eserte/.cpan/build/2015111112/Perinci-CmdLine-Lite-1.37-ykYAV2/blib/arch
    /home/eserte/.cpan/build/2015111112/Perinci-CmdLine-Lite-1.37-ykYAV2/blib/lib
    /opt/perl-5.12.5/lib/site_perl/5.12.5/x86_64-linux
    /opt/perl-5.12.5/lib/site_perl/5.12.5
    /opt/perl-5.12.5/lib/5.12.5/x86_64-linux
    /opt/perl-5.12.5/lib/5.12.5
    .