Report for Test-Pod-LinkCheck-0.008

Back
From: metabase:user:0d96120c-29e2-11e5-b049-ede3035d37de
Subject: PASS Test-Pod-LinkCheck-0.008 v5.18.4 GNU/Linux
Date: 2015-07-23T08:13:09Z

This distribution has been tested as part of the CPAN Testers
project, supporting the Perl programming language.  See
http://wiki.cpantesters.org/ for more information or email
questions to cpan-testers-discuss@perl.org


--
Dear Apocalypse,

This is a computer-generated report for Test-Pod-LinkCheck-0.008
on perl 5.18.4, created by CPAN-Reporter-1.2014.

Thank you for uploading your work to CPAN.  Congratulations!
All tests were successful.

Sections of this report:

    * Tester comments
    * Program output
    * Prerequisites
    * Environment and other context

------------------------------
TESTER COMMENTS
------------------------------

Additional comments from tester:

this report is from an automated smoke testing program
and was not reviewed by a human for accuracy

------------------------------
PROGRAM OUTPUT
------------------------------

Output from './Build test':

t/00-compile.t ................ ok
# 
You should load Test::Tester before Test::Builder (or anything that loads Test::Builder) at /home/perltest/perl5/perlbrew/perls/perl-5.18.4-thread-multi-ld/lib/site_perl/5.18.4/Test/Tester.pm line 9.
# 
# Generated by Dist::Zilla::Plugin::ReportVersions::Tiny v1.10
# perl: 5.018004 (wanted 5.006) on linux from /data/perl5/perlbrew/perls/perl-5.18.4-thread-multi-ld/bin/perl
# 
# App::PodLinkCheck::ParseLinks                 => 12         (want 4)      
# App::PodLinkCheck::ParseSections              => 12         (want any version)
# Capture::Tiny                                 => 0.30       (want any version)
# Exporter                                      => 5.68       (want any version)
# ExtUtils::MakeMaker                           => 6.66       (want any version)
# File::Spec                                    => 3.40       (want any version)
# File::Temp                                    => 0.23       (want any version)
# IO::Handle                                    => 1.34       (want any version)
# IPC::Open3                                    => 1.13       (want any version)
# Module::Build::Tiny                           => 0.039      (want 0.039)  
# Moose                                         => 2.1405     (want 1.01)   
# Moose::Util::TypeConstraints                  => 2.1405     (want 1.01)   
# Pod::Find                                     => 1.60       (want any version)
# Test::Builder                                 => 1.001014   (want 0.94)   
# Test::More                                    => 1.001014   (want 0.88)   
# Test::Pod                                     => 1.51       (want 1.44)   
# Test::Tester                                  => 0.114      (want any version)
# parent                                        => 0.225      (want any version)
# strict                                        => 1.07       (want any version)
# warnings                                      => 1.18       (want any version)
# 
# Thanks for using my code.  I hope it works for you.
# If not, please try and include this output in the bug report.
# That will help me reproduce the issue and solve your problem.
# 
t/000-report-versions-tiny.t .. ok
t/apocalypse.t ................ skipped: Test::Apocalypse required for validating the distribution
CPANPLUS::Backend will be removed from the Perl core distribution in the next major release. Please install it from CPAN. It is being used at /data/.cpan/build/Test-Pod-LinkCheck-0.008-IiOJRm/blib/lib/Test/Pod/LinkCheck.pm, line 642.
CPANPLUS will be removed from the Perl core distribution in the next major release. Please install it from CPAN. It is being used at /home/perltest/perl5/perlbrew/perls/perl-5.18.4-thread-multi-ld/lib/5.18.4/CPANPLUS/Config.pm, line 13.
t/cpan_backend.t .............. ok
t/functions.t ................. ok
CPANPLUS::Backend will be removed from the Perl core distribution in the next major release. Please install it from CPAN. It is being used at /data/.cpan/build/Test-Pod-LinkCheck-0.008-IiOJRm/blib/lib/Test/Pod/LinkCheck.pm, line 642.
CPANPLUS will be removed from the Perl core distribution in the next major release. Please install it from CPAN. It is being used at /home/perltest/perl5/perlbrew/perls/perl-5.18.4-thread-multi-ld/lib/5.18.4/CPANPLUS/Config.pm, line 13.
t/simple.t .................... ok
All tests successful.

Test Summary Report
-------------------
t/cpan_backend.t            (Wstat: 0 Tests: 24 Failed: 0)
  TODO passed:   1-8, 21-24
Files=6, Tests=130,  6 wallclock secs ( 0.03 usr  0.02 sys +  4.86 cusr  0.37 csys =  5.28 CPU)
Result: PASS

------------------------------
PREREQUISITES
------------------------------

Prerequisite modules loaded:

requires:

    Module                           Need  Have    
    -------------------------------- ----- --------
    App::PodLinkCheck::ParseLinks    4     12      
    App::PodLinkCheck::ParseSections 0     12      
    Capture::Tiny                    0     0.30    
    Exporter                         0     5.68    
    File::Spec                       0     3.40    
    Moose                            1.01  2.1405  
    Moose::Util::TypeConstraints     1.01  2.1405  
    parent                           0     0.225   
    perl                             5.006 5.018004
    Pod::Find                        0     1.60    
    strict                           0     1.07    
    Test::Builder                    0.94  1.001014
    Test::Pod                        1.44  1.51    
    warnings                         0     1.18    

build_requires:

    Module                           Need  Have    
    -------------------------------- ----- --------
    File::Spec                       0     3.40    
    File::Temp                       0     0.23    
    IO::Handle                       0     1.34    
    IPC::Open3                       0     1.13    
    perl                             5.006 5.018004
    Test::More                       0.88  1.001014
    Test::Tester                     0     0.114   

configure_requires:

    Module                           Need  Have    
    -------------------------------- ----- --------
    ExtUtils::MakeMaker              0     6.66    
    Module::Build::Tiny              0.039 0.039   
    perl                             5.006 5.018004


------------------------------
ENVIRONMENT AND OTHER CONTEXT
------------------------------

Environment variables:

    AUTOMATED_TESTING = 1
    LANG = en_US.UTF-8
    NONINTERACTIVE_TESTING = 1
    PATH = /home/perltest/sysperl/bin:/home/perltest/perl5/perlbrew/bin:/home/perltest/perl5/perlbrew/perls/perl-5.18.4-thread-multi-ld/bin:/home/perltest/perltest/bin:/home/perltest/perl5/perlbrew/bin:/home/perltest/perl5/perlbrew/perls/perl-5.18.4-ld/bin:/usr/local/sbin:/usr/local/bin:/usr/sbin:/usr/bin:/sbin:/bin:/usr/games:/usr/local/games:/home/perltest/perltest/bin
    PERL5LIB = /home/perltest/.cpan/build/Test-Pod-1.51-XDUbCI/blib/arch:/home/perltest/.cpan/build/Test-Pod-1.51-XDUbCI/blib/lib:/home/perltest/.cpan/build/podlinkcheck-12-gG0lug/blib/arch:/home/perltest/.cpan/build/podlinkcheck-12-gG0lug/blib/lib:/home/perltest/.cpan/build/libintl-perl-1.24-KbJh42/blib/arch:/home/perltest/.cpan/build/libintl-perl-1.24-KbJh42/blib/lib:/home/perltest/.cpan/build/File-Find-Iterator-0.4-iPJOBB/blib/arch:/home/perltest/.cpan/build/File-Find-Iterator-0.4-iPJOBB/blib/lib:/home/perltest/.cpan/build/Class-Iterator-0.3-JGk0PD/blib/arch:/home/perltest/.cpan/build/Class-Iterator-0.3-JGk0PD/blib/lib:/home/perltest/.cpan/build/IPC-Run-0.94-OhM9x0/blib/arch:/home/perltest/.cpan/build/IPC-Run-0.94-OhM9x0/blib/lib:/home/perltest/.cpan/build/constant-defer-6-YY1fMM/blib/arch:/home/perltest/.cpan/build/constant-defer-6-YY1fMM/blib/lib:/home/perltest/sysperl/lib/perl5
    PERL5OPT = 
    PERL5_CPANPLUS_IS_RUNNING = 18344
    PERL5_CPAN_IS_RUNNING = 18344
    PERL5_CPAN_IS_RUNNING_IN_RECURSION = 2733,18344
    PERLBREW_BASHRC_VERSION = 0.73
    PERLBREW_HOME = /home/perltest/.perlbrew
    PERLBREW_LIB = 
    PERLBREW_MANPATH = /home/perltest/perl5/perlbrew/perls/perl-5.18.4-thread-multi-ld/man
    PERLBREW_PATH = /home/perltest/perl5/perlbrew/bin:/home/perltest/perl5/perlbrew/perls/perl-5.18.4-thread-multi-ld/bin
    PERLBREW_PERL = perl-5.18.4-thread-multi-ld
    PERLBREW_ROOT = /home/perltest/perl5/perlbrew
    PERLBREW_VERSION = 0.73
    PERL_CR_SMOKER_CURRENT = Dist-Zilla-Plugin-Test-Pod-LinkCheck-1.002
    PERL_EXTUTILS_AUTOINSTALL = --defaultdeps
    PERL_LOCAL_LIB_ROOT = /home/perltest/sysperl:
    PERL_MB_OPT = --install_base "//home/perltest/sysperl"
    PERL_MM_OPT = INSTALL_BASE=/home/perltest/sysperl
    PERL_MM_USE_DEFAULT = 1
    SHELL = /bin/bash
    TERM = screen

Perl special variables (and OS-specific diagnostics, for MSWin32):

    $^X = /data/perl5/perlbrew/perls/perl-5.18.4-thread-multi-ld/bin/perl
    $UID/$EUID = 2000 / 2000
    $GID = 2000 2000
    $EGID = 2000 2000

Perl module toolchain versions installed:

    Module              Have    
    ------------------- --------
    CPAN                2.00    
    CPAN::Meta          2.150005
    Cwd                 3.40    
    ExtUtils::CBuilder  0.280210
    ExtUtils::Command   1.17    
    ExtUtils::Install   1.59    
    ExtUtils::MakeMaker 6.66    
    ExtUtils::Manifest  1.70    
    ExtUtils::ParseXS   3.18    
    File::Spec          3.40    
    JSON                2.90    
    JSON::PP            2.27202 
    Module::Build       0.4214  
    Module::Signature   n/a     
    Parse::CPAN::Meta   1.4417  
    Test::Harness       3.35    
    Test::More          1.001014
    YAML                1.15    
    YAML::Syck          n/a     
    version             0.9912  


--

Summary of my perl5 (revision 5 version 18 subversion 4) configuration:
   
  Platform:
    osname=linux, osvers=3.19.0-18-generic, archname=x86_64-linux-thread-multi-ld
    uname='linux perltest.antelope.net 3.19.0-18-generic #18-ubuntu smp tue may 19 18:31:35 utc 2015 x86_64 x86_64 x86_64 gnulinux '
    config_args='-de -Dprefix=/home/perltest/perl5/perlbrew/perls/perl-5.18.4-thread-multi-ld -Dusemultiplicity -Duselongdouble -Dusethreads -Aeval:scriptdir=/home/perltest/perl5/perlbrew/perls/perl-5.18.4-thread-multi-ld/bin'
    hint=recommended, useposix=true, d_sigaction=define
    useithreads=define, usemultiplicity=define
    useperlio=define, d_sfio=undef, uselargefiles=define, usesocks=undef
    use64bitint=define, use64bitall=define, uselongdouble=define
    usemymalloc=n, bincompat5005=undef
  Compiler:
    cc='cc', ccflags ='-D_REENTRANT -D_GNU_SOURCE -fno-strict-aliasing -pipe -fstack-protector -I/usr/local/include -D_LARGEFILE_SOURCE -D_FILE_OFFSET_BITS=64',
    optimize='-O2',
    cppflags='-D_REENTRANT -D_GNU_SOURCE -fno-strict-aliasing -pipe -fstack-protector -I/usr/local/include'
    ccversion='', gccversion='4.9.2', gccosandvers=''
    intsize=4, longsize=8, ptrsize=8, doublesize=8, byteorder=12345678
    d_longlong=define, longlongsize=8, d_longdbl=define, longdblsize=16
    ivtype='long', ivsize=8, nvtype='long double', nvsize=16, Off_t='off_t', lseeksize=8
    alignbytes=16, prototype=define
  Linker and Libraries:
    ld='cc', ldflags =' -fstack-protector -L/usr/local/lib'
    libpth=/usr/local/lib /lib/x86_64-linux-gnu /lib/../lib /usr/lib/x86_64-linux-gnu /usr/lib/../lib /lib /usr/lib
    libs=-lnsl -ldb -ldl -lm -lcrypt -lutil -lpthread -lc
    perllibs=-lnsl -ldl -lm -lcrypt -lutil -lpthread -lc
    libc=libc-2.21.so, so=so, useshrplib=false, libperl=libperl.a
    gnulibc_version='2.21'
  Dynamic Linking:
    dlsrc=dl_dlopen.xs, dlext=so, d_dlsymun=undef, ccdlflags='-Wl,-E'
    cccdlflags='-fPIC', lddlflags='-shared -O2 -L/usr/local/lib -fstack-protector'


Characteristics of this binary (from libperl): 
  Compile-time options: HAS_TIMES MULTIPLICITY PERLIO_LAYERS
                        PERL_DONT_CREATE_GVSV
                        PERL_HASH_FUNC_ONE_AT_A_TIME_HARD
                        PERL_IMPLICIT_CONTEXT PERL_MALLOC_WRAP
                        PERL_PRESERVE_IVUV PERL_SAWAMPERSAND USE_64_BIT_ALL
                        USE_64_BIT_INT USE_ITHREADS USE_LARGE_FILES
                        USE_LOCALE USE_LOCALE_COLLATE USE_LOCALE_CTYPE
                        USE_LOCALE_NUMERIC USE_LONG_DOUBLE USE_PERLIO
                        USE_PERL_ATOF USE_REENTRANT_API
  Locally applied patches:
	Devel::PatchPerl 1.38
  Built under linux
  Compiled at Jul 19 2015 23:12:48
  %ENV:
    PERL5LIB="/home/perltest/.cpan/build/Test-Pod-1.51-XDUbCI/blib/arch:/home/perltest/.cpan/build/Test-Pod-1.51-XDUbCI/blib/lib:/home/perltest/.cpan/build/podlinkcheck-12-gG0lug/blib/arch:/home/perltest/.cpan/build/podlinkcheck-12-gG0lug/blib/lib:/home/perltest/.cpan/build/libintl-perl-1.24-KbJh42/blib/arch:/home/perltest/.cpan/build/libintl-perl-1.24-KbJh42/blib/lib:/home/perltest/.cpan/build/File-Find-Iterator-0.4-iPJOBB/blib/arch:/home/perltest/.cpan/build/File-Find-Iterator-0.4-iPJOBB/blib/lib:/home/perltest/.cpan/build/Class-Iterator-0.3-JGk0PD/blib/arch:/home/perltest/.cpan/build/Class-Iterator-0.3-JGk0PD/blib/lib:/home/perltest/.cpan/build/IPC-Run-0.94-OhM9x0/blib/arch:/home/perltest/.cpan/build/IPC-Run-0.94-OhM9x0/blib/lib:/home/perltest/.cpan/build/constant-defer-6-YY1fMM/blib/arch:/home/perltest/.cpan/build/constant-defer-6-YY1fMM/blib/lib:/home/perltest/sysperl/lib/perl5"
    PERL5OPT=""
    PERL5_CPANPLUS_IS_RUNNING="18344"
    PERL5_CPAN_IS_RUNNING="18344"
    PERL5_CPAN_IS_RUNNING_IN_RECURSION="2733,18344"
    PERLBREW_BASHRC_VERSION="0.73"
    PERLBREW_HOME="/home/perltest/.perlbrew"
    PERLBREW_LIB=""
    PERLBREW_MANPATH="/home/perltest/perl5/perlbrew/perls/perl-5.18.4-thread-multi-ld/man"
    PERLBREW_PATH="/home/perltest/perl5/perlbrew/bin:/home/perltest/perl5/perlbrew/perls/perl-5.18.4-thread-multi-ld/bin"
    PERLBREW_PERL="perl-5.18.4-thread-multi-ld"
    PERLBREW_ROOT="/home/perltest/perl5/perlbrew"
    PERLBREW_VERSION="0.73"
    PERL_CR_SMOKER_CURRENT="Dist-Zilla-Plugin-Test-Pod-LinkCheck-1.002"
    PERL_EXTUTILS_AUTOINSTALL="--defaultdeps"
    PERL_LOCAL_LIB_ROOT="/home/perltest/sysperl:"
    PERL_MB_OPT="--install_base "//home/perltest/sysperl""
    PERL_MM_OPT="INSTALL_BASE=/home/perltest/sysperl"
    PERL_MM_USE_DEFAULT="1"
  @INC:
    /home/perltest/.cpan/build/Test-Pod-1.51-XDUbCI/blib/arch
    /home/perltest/.cpan/build/Test-Pod-1.51-XDUbCI/blib/lib
    /home/perltest/.cpan/build/podlinkcheck-12-gG0lug/blib/arch
    /home/perltest/.cpan/build/podlinkcheck-12-gG0lug/blib/lib
    /home/perltest/.cpan/build/libintl-perl-1.24-KbJh42/blib/arch
    /home/perltest/.cpan/build/libintl-perl-1.24-KbJh42/blib/lib
    /home/perltest/.cpan/build/File-Find-Iterator-0.4-iPJOBB/blib/arch
    /home/perltest/.cpan/build/File-Find-Iterator-0.4-iPJOBB/blib/lib
    /home/perltest/.cpan/build/Class-Iterator-0.3-JGk0PD/blib/arch
    /home/perltest/.cpan/build/Class-Iterator-0.3-JGk0PD/blib/lib
    /home/perltest/.cpan/build/IPC-Run-0.94-OhM9x0/blib/arch
    /home/perltest/.cpan/build/IPC-Run-0.94-OhM9x0/blib/lib
    /home/perltest/.cpan/build/constant-defer-6-YY1fMM/blib/arch
    /home/perltest/.cpan/build/constant-defer-6-YY1fMM/blib/lib
    /home/perltest/sysperl/lib/perl5/x86_64-linux-thread-multi-ld
    /home/perltest/sysperl/lib/perl5
    /home/perltest/perl5/perlbrew/perls/perl-5.18.4-thread-multi-ld/lib/site_perl/5.18.4/x86_64-linux-thread-multi-ld
    /home/perltest/perl5/perlbrew/perls/perl-5.18.4-thread-multi-ld/lib/site_perl/5.18.4
    /home/perltest/perl5/perlbrew/perls/perl-5.18.4-thread-multi-ld/lib/5.18.4/x86_64-linux-thread-multi-ld
    /home/perltest/perl5/perlbrew/perls/perl-5.18.4-thread-multi-ld/lib/5.18.4
    .