Back
From: metabase:user:a0e144f2-373b-11e6-8edd-c6848980b093
Subject: PASS POE-Loop-Event-1.305 v5.24.0 GNU/Linux
Date: 2016-10-17T20:52:45Z
This distribution has been tested as part of the CPAN Testers
project, supporting the Perl programming language. See
http://wiki.cpantesters.org/ for more information or email
questions to cpan-testers-discuss@perl.org
--
Dear Rocco Caputo,
This is a computer-generated report for POE-Loop-Event-1.305
on perl 5.24.0, created by CPAN-Reporter-1.2018.
Thank you for uploading your work to CPAN. Congratulations!
All tests were successful.
Sections of this report:
* Tester comments
* Program output
* Prerequisites
* Environment and other context
------------------------------
TESTER COMMENTS
------------------------------
Additional comments from tester:
this report is from an automated smoke testing program
and was not reviewed by a human for accuracy
------------------------------
PROGRAM OUTPUT
------------------------------
Output from '/usr/bin/make test':
PERL_DL_NONLAZY=1 "/home/cpan3/install/bin/perl" "-MExtUtils::Command::MM" "-MTest::Harness" "-e" "undef *Test::Harness::Switches; test_harness(0, 'blib/lib', 'blib/arch')" t/*.t t/poe_loop_event/*.t
t/poe_loop_event/all_errors.t .................... skipped: most of these should move into other test files
# Testing POE 1.367, Perl 5.024000, /home/cpan3/install/bin/perl on linux
t/00_info.t ...................................... ok
# You might see a 'disconnect' error during this test.
# It may be ignored.
# Testing POE 1.367, POE::Test::Loops 1.360, Using Loop(POE::Loop::Event), Perl 5.024000, /home/cpan3/install/bin/perl on linux
t/poe_loop_event/00_info.t ....................... ok
t/poe_loop_event/comp_tcp.t ...................... ok
t/poe_loop_event/connect_errors.t ................ ok
t/poe_loop_event/comp_tcp_concurrent.t ........... ok
t/poe_loop_event/k_run_returns.t ................. ok
t/poe_loop_event/k_aliases.t ..................... ok
t/poe_loop_event/k_alarms.t ...................... ok
t/poe_loop_event/k_detach.t ...................... ok
t/poe_loop_event/k_signals_rerun.t ............... ok
t/poe_loop_event/ses_nfa.t ....................... ok
# This test generates some STDERR during trace testing.
t/poe_loop_event/sbk_signal_init.t ............... ok
t/poe_loop_event/k_sig_child.t ................... ok
t/poe_loop_event/k_signals.t ..................... ok
t/poe_loop_event/wheel_curses.t .................. skipped: Curses not available
t/poe_loop_event/k_selects.t ..................... ok
t/poe_loop_event/wheel_readline.t ................ ok
t/poe_loop_event/wheel_run_size.t ................ ok
t/poe_loop_event/wheel_run.t ..................... ok
t/poe_loop_event/wheel_readwrite.t ............... ok
t/poe_loop_event/wheel_sf_ipv6.t ................. skipped: Socket::GetAddrInfo is needed for IPv6 tests
t/poe_loop_event/wheel_sf_tcp.t .................. ok
t/poe_loop_event/wheel_sf_unix.t ................. ok
t/poe_loop_event/wheel_accept.t .................. ok
t/poe_loop_event/z_kogman_sig_order.t ............ ok
t/poe_loop_event/wheel_sf_udp.t .................. ok
# Using '/bin/true' as our thing to run under system()
t/poe_loop_event/z_merijn_sigchld_system.t ....... ok
# Parent 13266 waiting 3sec for slow systems to settle.
t/poe_loop_event/z_rt39872_sigchld.t ............. ok
t/poe_loop_event/wheel_tail.t .................... ok
t/poe_loop_event/z_leolo_wheel_run.t ............. ok
t/poe_loop_event/z_steinert_signal_integrity.t ... ok
t/poe_loop_event/z_rt53302_fh_watchers.t ......... ok
=== 13219 === 23 -> _start (from /home/cpan3/install/lib/perl5/site_perl/5.24.0/POE/Kernel.pm at 1497)
=== 13219 === 23 -> woot (from /home/cpan3/install/lib/perl5/site_perl/5.24.0/POE/Test/Loops/ses_session.pm at 691)
=== 13219 === 23 -> narf (from /home/cpan3/install/lib/perl5/site_perl/5.24.0/POE/Test/Loops/ses_session.pm at 692)
=== 13219 === 23 -> _stop (from /home/cpan3/install/lib/perl5/site_perl/5.24.0/POE/Resource/Sessions.pm at 571)
t/poe_loop_event/ses_session.t ................... ok
# sending sigusr1
# sent sigusr1
t/poe_loop_event/z_rt39872_sigchld_stop.t ........ ok
t/poe_loop_event/z_rt54319_bazerka_followtail.t .. ok
All tests successful.
Files=36, Tests=490, 8 wallclock secs ( 0.21 usr 0.04 sys + 26.82 cusr 1.05 csys = 28.12 CPU)
Result: PASS
------------------------------
PREREQUISITES
------------------------------
Prerequisite modules loaded:
requires:
Module Need Have
------------------- ----- -----
Event 1.21 1.26
POE 1.356 1.367
build_requires:
Module Need Have
------------------- ----- -----
ExtUtils::MakeMaker 0 7.24
configure_requires:
Module Need Have
------------------- ----- -----
ExtUtils::MakeMaker 0 7.24
POE::Test::Loops 1.352 1.360
------------------------------
ENVIRONMENT AND OTHER CONTEXT
------------------------------
Environment variables:
AUTOMATED_TESTING = 1
HARNESS_OPTIONS = j5
LANG = en_US.UTF-8
PATH = /usr/local/bin:/usr/bin:/bin:/usr/local/games:/usr/games
PERL5LIB =
PERL5OPT =
PERL5_CPANPLUS_IS_RUNNING = 11136
PERL5_CPAN_IS_RUNNING = 11136
PERL5_CPAN_IS_RUNNING_IN_RECURSION = 31488,11136
PERLBREW_BASHRC_VERSION = 0.76
PERLBREW_HOME = /home/dcollins/.perlbrew
PERLBREW_ROOT = /home/dcollins/toolchain/perl5
PERL_CR_SMOKER_CURRENT = POE-Loop-Event-1.305
PERL_CR_SMOKER_RUNONCE = 1
PERL_EXTUTILS_AUTOINSTALL = --defaultdeps
PERL_MM_USE_DEFAULT = 1
SHELL = /bin/bash
TERM = putty
Perl special variables (and OS-specific diagnostics, for MSWin32):
$^X = /home/cpan3/install/bin/perl
$UID/$EUID = 1004 / 1004
$GID = 1004 1004
$EGID = 1004 1004
Perl module toolchain versions installed:
Module Have
------------------- --------
CPAN 2.14
CPAN::Meta 2.150010
Cwd 3.62
ExtUtils::CBuilder 0.280224
ExtUtils::Command 7.24
ExtUtils::Install 2.04
ExtUtils::MakeMaker 7.24
ExtUtils::Manifest 1.70
ExtUtils::ParseXS 3.30
File::Spec 3.62
JSON 2.90
JSON::PP 2.27400
Module::Build 0.4220
Module::Signature 0.81
Parse::CPAN::Meta 2.150010
Test::Harness 3.36
Test::More 1.302061
YAML 1.18
YAML::Syck 1.29
version 0.9917
--
Summary of my perl5 (revision 5 version 24 subversion 0) configuration:
Commit id: be2c0c650b028f54e427f2469a59942edfdff8a9
Platform:
osname=linux, osvers=3.16.0-4-amd64, archname=x86_64-linux-thread-multi
uname='linux digitalis 3.16.0-4-amd64 #1 smp debian 3.16.36-1+deb8u1 (2016-09-03) x86_64 gnulinux '
config_args='-Dusedevel -DDEBUGGING -Dusethreads -Dprefix=/home/cpan3/install -Uversiononly -des'
hint=recommended, useposix=true, d_sigaction=define
useithreads=define, usemultiplicity=define
use64bitint=define, use64bitall=define, uselongdouble=undef
usemymalloc=n, bincompat5005=undef
Compiler:
cc='cc', ccflags ='-D_REENTRANT -D_GNU_SOURCE -fwrapv -DDEBUGGING -fno-strict-aliasing -pipe -fstack-protector-strong -I/usr/local/include -D_LARGEFILE_SOURCE -D_FILE_OFFSET_BITS=64 -D_FORTIFY_SOURCE=2',
optimize='-O2 -g',
cppflags='-D_REENTRANT -D_GNU_SOURCE -fwrapv -DDEBUGGING -fno-strict-aliasing -pipe -fstack-protector-strong -I/usr/local/include'
ccversion='', gccversion='4.9.2', gccosandvers=''
intsize=4, longsize=8, ptrsize=8, doublesize=8, byteorder=12345678, doublekind=3
d_longlong=define, longlongsize=8, d_longdbl=define, longdblsize=16, longdblkind=3
ivtype='long', ivsize=8, nvtype='double', nvsize=8, Off_t='off_t', lseeksize=8
alignbytes=8, prototype=define
Linker and Libraries:
ld='cc', ldflags =' -fstack-protector-strong -L/usr/local/lib'
libpth=/usr/local/lib /usr/lib/gcc/x86_64-linux-gnu/4.9/include-fixed /usr/include/x86_64-linux-gnu /usr/lib /lib/x86_64-linux-gnu /lib/../lib /usr/lib/x86_64-linux-gnu /usr/lib/../lib /lib
libs=-lpthread -lnsl -ldl -lm -lcrypt -lutil -lc
perllibs=-lpthread -lnsl -ldl -lm -lcrypt -lutil -lc
libc=libc-2.19.so, so=so, useshrplib=false, libperl=libperl.a
gnulibc_version='2.19'
Dynamic Linking:
dlsrc=dl_dlopen.xs, dlext=so, d_dlsymun=undef, ccdlflags='-Wl,-E'
cccdlflags='-fPIC', lddlflags='-shared -O2 -g -L/usr/local/lib -fstack-protector-strong'
Characteristics of this binary (from libperl):
Compile-time options: DEBUGGING HAS_TIMES MULTIPLICITY PERLIO_LAYERS
PERL_COPY_ON_WRITE PERL_DONT_CREATE_GVSV
PERL_HASH_FUNC_ONE_AT_A_TIME_HARD
PERL_IMPLICIT_CONTEXT PERL_MALLOC_WRAP
PERL_PRESERVE_IVUV PERL_TRACK_MEMPOOL PERL_USE_DEVEL
USE_64_BIT_ALL USE_64_BIT_INT USE_ITHREADS
USE_LARGE_FILES USE_LOCALE USE_LOCALE_COLLATE
USE_LOCALE_CTYPE USE_LOCALE_NUMERIC USE_LOCALE_TIME
USE_PERLIO USE_PERL_ATOF USE_REENTRANT_API
Built under linux
Compiled at Oct 12 2016 18:25:37
%ENV:
PERL5LIB=""
PERL5OPT=""
PERL5_CPANPLUS_IS_RUNNING="11136"
PERL5_CPAN_IS_RUNNING="11136"
PERL5_CPAN_IS_RUNNING_IN_RECURSION="31488,11136"
PERLBREW_BASHRC_VERSION="0.76"
PERLBREW_HOME="/home/dcollins/.perlbrew"
PERLBREW_ROOT="/home/dcollins/toolchain/perl5"
PERL_CR_SMOKER_CURRENT="POE-Loop-Event-1.305"
PERL_CR_SMOKER_RUNONCE="1"
PERL_EXTUTILS_AUTOINSTALL="--defaultdeps"
PERL_MM_USE_DEFAULT="1"
@INC:
/home/cpan3/install/lib/perl5/site_perl/5.24.0/x86_64-linux-thread-multi
/home/cpan3/install/lib/perl5/site_perl/5.24.0
/home/cpan3/install/lib/perl5/5.24.0/x86_64-linux-thread-multi
/home/cpan3/install/lib/perl5/5.24.0
.