Report for Text-Format-0.60

Back
From: metabase:user:2d7b16a6-3550-11e6-9a9d-71e3197220ed
Subject: PASS Text-Format-0.60 v5.22.2 GNU/Linux
Date: 2016-08-23T18:44:42Z

This distribution has been tested as part of the CPAN Testers
project, supporting the Perl programming language.  See
http://wiki.cpantesters.org/ for more information or email
questions to cpan-testers-discuss@perl.org


--
Dear Shlomi Fish,

This is a computer-generated report for Text-Format-0.60
on perl 5.22.2, created by CPAN-Reporter-1.2018.

Thank you for uploading your work to CPAN.  Congratulations!
All tests were successful.

Sections of this report:

    * Tester comments
    * Program output
    * Prerequisites
    * Environment and other context

------------------------------
TESTER COMMENTS
------------------------------

Additional comments from tester:

none provided

------------------------------
PROGRAM OUTPUT
------------------------------

Output from '/usr/bin/make test':

PERL_DL_NONLAZY=1 "/usr/bin/perl" "-MExtUtils::Command::MM" "-MTest::Harness" "-e" "undef *Test::Harness::Switches; test_harness(0, 'blib/lib', 'blib/arch')" t/*.t
t/cpan-changes.t .......... ok
t/format.t ................ ok
t/justify.t ............... ok
t/pod-coverage.t .......... ok
t/pod.t ................... ok
t/style-trailing-space.t .. ok
All tests successful.
Files=6, Tests=20,  1 wallclock secs ( 0.03 usr  0.01 sys +  0.45 cusr  0.04 csys =  0.53 CPU)
Result: PASS

------------------------------
PREREQUISITES
------------------------------

Prerequisite modules loaded:

requires:

    Module              Need Have    
    ------------------- ---- --------
    Carp                0    1.38    
    strict              0    1.09    
    Test::More          0    1.302052
    vars                0    1.03    
    warnings            0    1.34    

build_requires:

    Module              Need Have    
    ------------------- ---- --------
    ExtUtils::MakeMaker 0    7.24    

configure_requires:

    Module              Need Have    
    ------------------- ---- --------
    Module::Build       0    0.4220  


------------------------------
ENVIRONMENT AND OTHER CONTEXT
------------------------------

Environment variables:

    LANG = en
    LC_ADDRESS = en_US.iso88591
    LC_ALL = en_US.iso88591
    LC_COLLATE = en_US.iso88591
    LC_CTYPE = en_US.iso88591
    LC_IDENTIFICATION = en_US.iso88591
    LC_MEASUREMENT = en_US.iso88591
    LC_MESSAGES = en_US.iso88591
    LC_MONETARY = en_US.iso88591
    LC_NAME = en_US.iso88591
    LC_NUMERIC = en_US.iso88591
    LC_PAPER = A4
    LC_TELEPHONE = en_US.iso88591
    LC_TIME = POSIX
    LD_LIBRARY_PATH = /opt/sybase/ASE-15_0/lib:/opt/sybase/DataAccess64/ODBC/lib:/opt/sybase/DataAccess/ODBC/lib:/opt/sybase/OCS-15_0/lib3p:/opt/sybase/OCS-15_0/lib3p64:/opt/sybase/OCS-15_0/lib
    LIB = /opt/sybase/OCS-15_0/lib:/opt/sybase/OCS-15_0/lib
    NONINTERACTIVE_TESTING = 1
    PATH = /opt/sybase/ASE-15_0/jobscheduler/bin:/opt/sybase/ASE-15_0/bin:/opt/sybase/ASE-15_0/install:/opt/sybase/SCC-3_2/bin:/opt/sybase/DBISQL/bin:/opt/sybase/OCS-15_0/bin:/usr/lib64/qt-3.3/bin:/usr/lib64/ccache:/usr/local/bin:/usr/bin:/home/artur/bin:/usr/local/sbin:/usr/sbin
    PERL5LIB = 
    PERL5OPT = 
    PERL5_CPANPLUS_IS_RUNNING = 15079
    PERL5_CPAN_IS_RUNNING = 15079
    PERLDOC_PAGER = less -iMXFRs -+C
    PERL_MM_USE_DEFAULT = 1
    SHELL = zsh
    TERM = screen

Perl special variables (and OS-specific diagnostics, for MSWin32):

    $^X = /usr/bin/perl
    $UID/$EUID = 1000 / 1000
    $GID = 1000 10 18 48 964 965 967 979 985 1000 1001
    $EGID = 1000 10 18 48 964 965 967 979 985 1000 1001

Perl module toolchain versions installed:

    Module              Have    
    ------------------- --------
    CPAN                2.14    
    CPAN::Meta          2.150010
    Cwd                 3.62    
    ExtUtils::CBuilder  0.280224
    ExtUtils::Command   7.24    
    ExtUtils::Install   2.04    
    ExtUtils::MakeMaker 7.24    
    ExtUtils::Manifest  1.70    
    ExtUtils::ParseXS   3.30    
    File::Spec          3.62    
    JSON                2.90    
    JSON::PP            2.27400 
    Module::Build       0.4220  
    Module::Signature   0.80    
    Parse::CPAN::Meta   2.150010
    Test::Harness       3.36    
    Test::More          1.302052
    YAML                1.18    
    YAML::Syck          1.29    
    version             0.9917  


--

Summary of my perl5 (revision 5 version 22 subversion 2) configuration:
   
  Platform:
    osname=linux, osvers=4.6.3-300.fc24.x86_64, archname=x86_64-linux-thread-multi
    uname='linux buildvm-05.phx2.fedoraproject.org 4.6.3-300.fc24.x86_64 #1 smp fri jun 24 20:52:41 utc 2016 x86_64 x86_64 x86_64 gnulinux '
    config_args='-des -Doptimize=none -Dccflags=-O2 -g -pipe -Wall -Werror=format-security -Wp,-D_FORTIFY_SOURCE=2 -fexceptions -fstack-protector-strong --param=ssp-buffer-size=4 -grecord-gcc-switches  -m64 -mtune=generic -Dldflags=-Wl,-z,relro  -Dccdlflags=-Wl,--enable-new-dtags -Wl,-z,relro  -Dlddlflags=-shared -Wl,-z,relro  -Dshrpdir=/usr/lib64 -DDEBUGGING=-g -Dversion=5.22.2 -Dmyhostname=localhost -Dperladmin=root@localhost -Dcc=gcc -Dcf_by=Red Hat, Inc. -Dprefix=/usr -Dvendorprefix=/usr -Dsiteprefix=/usr/local -Dsitelib=/usr/local/share/perl5 -Dsitearch=/usr/local/lib64/perl5 -Dprivlib=/usr/share/perl5 -Dvendorlib=/usr/share/perl5/vendor_perl -Darchlib=/usr/lib64/perl5 -Dvendorarch=/usr/lib64/perl5/vendor_perl -Darchname=x86_64-linux-thread-multi -Dlibpth=/usr/local/lib64 /lib64 /usr/lib64 -Duseshrplib -Dusethreads -Duseithreads -Dusedtrace=/usr/bin/dtrace -Duselargefiles -Dd_semctl_semun -Di_db -Ui_ndbm -Di_gdbm -Di_shadow -Di_syslog -Dman3ext=3pm -Duseperlio -Dinstallusrbinperl=n -Ubincompat5005 -Uversiononly -Dpager=/usr/bin/less -isr -Dd_gethostent_r_proto -Ud_endhostent_r_proto -Ud_sethostent_r_proto -Ud_endprotoent_r_proto -Ud_setprotoent_r_proto -Ud_endservent_r_proto -Ud_setservent_r_proto -Dscriptdir=/usr/bin -Dusesitecustomize'
    hint=recommended, useposix=true, d_sigaction=define
    useithreads=define, usemultiplicity=define
    use64bitint=define, use64bitall=define, uselongdouble=undef
    usemymalloc=n, bincompat5005=undef
  Compiler:
    cc='gcc', ccflags ='-D_REENTRANT -D_GNU_SOURCE -O2 -g -pipe -Wall -Werror=format-security -Wp,-D_FORTIFY_SOURCE=2 -fexceptions -fstack-protector-strong --param=ssp-buffer-size=4 -grecord-gcc-switches -m64 -mtune=generic -fwrapv -fno-strict-aliasing -I/usr/local/include -D_LARGEFILE_SOURCE -D_FILE_OFFSET_BITS=64',
    optimize='  -g',
    cppflags='-D_REENTRANT -D_GNU_SOURCE -O2 -g -pipe -Wall -Werror=format-security -Wp,-D_FORTIFY_SOURCE=2 -fexceptions -fstack-protector-strong --param=ssp-buffer-size=4 -grecord-gcc-switches -m64 -mtune=generic -fwrapv -fno-strict-aliasing -I/usr/local/include'
    ccversion='', gccversion='6.1.1 20160621 (Red Hat 6.1.1-3)', gccosandvers=''
    intsize=4, longsize=8, ptrsize=8, doublesize=8, byteorder=12345678, doublekind=3
    d_longlong=define, longlongsize=8, d_longdbl=define, longdblsize=16, longdblkind=3
    ivtype='long', ivsize=8, nvtype='double', nvsize=8, Off_t='off_t', lseeksize=8
    alignbytes=8, prototype=define
  Linker and Libraries:
    ld='gcc', ldflags ='-Wl,-z,relro  -fstack-protector-strong -L/usr/local/lib'
    libpth=/usr/local/lib64 /lib64 /usr/lib64 /usr/local/lib /usr/lib /lib/../lib64 /usr/lib/../lib64 /lib
    libs=-lpthread -lresolv -lnsl -lgdbm -ldb -ldl -lm -lcrypt -lutil -lc -lgdbm_compat
    perllibs=-lpthread -lresolv -lnsl -ldl -lm -lcrypt -lutil -lc
    libc=libc-2.23.so, so=so, useshrplib=true, libperl=libperl.so
    gnulibc_version='2.23'
  Dynamic Linking:
    dlsrc=dl_dlopen.xs, dlext=so, d_dlsymun=undef, ccdlflags='-Wl,--enable-new-dtags -Wl,-z,relro '
    cccdlflags='-fPIC', lddlflags='-shared -Wl,-z,relro  -L/usr/local/lib -fstack-protector-strong'


Characteristics of this binary (from libperl): 
  Compile-time options: HAS_TIMES MULTIPLICITY PERLIO_LAYERS
                        PERL_DONT_CREATE_GVSV
                        PERL_HASH_FUNC_ONE_AT_A_TIME_HARD
                        PERL_IMPLICIT_CONTEXT PERL_MALLOC_WRAP
                        PERL_NEW_COPY_ON_WRITE PERL_PRESERVE_IVUV
                        USE_64_BIT_ALL USE_64_BIT_INT USE_ITHREADS
                        USE_LARGE_FILES USE_LOCALE USE_LOCALE_COLLATE
                        USE_LOCALE_CTYPE USE_LOCALE_NUMERIC USE_LOCALE_TIME
                        USE_PERLIO USE_PERL_ATOF USE_REENTRANT_API
                        USE_SITECUSTOMIZE
  Locally applied patches:
	Fedora Patch1: Removes date check, Fedora/RHEL specific
	Fedora Patch3: support for libdir64
	Fedora Patch4: use libresolv instead of libbind
	Fedora Patch5: USE_MM_LD_RUN_PATH
	Fedora Patch6: Skip hostname tests, due to builders not being network capable
	Fedora Patch7: Dont run one io test due to random builder failures
	Fedora Patch15: Define SONAME for libperl.so
	Fedora Patch16: Install libperl.so to -Dshrpdir value
	Fedora Patch22: Document Math::BigInt::CalcEmu requires Math::BigInt (CPAN RT#85015)
	Fedora Patch26: Make *DBM_File desctructors thread-safe (RT#61912)
	Fedora Patch27: Make PadlistNAMES() lvalue again (CPAN RT#101063)
	Fedora Patch28: Make magic vtable writable as a work-around for Coro (CPAN RT#101063)
	Fedora Patch29: Fix duplicating PerlIO::encoding when spawning threads (RT#31923)
	Fedora Patch30: Do not let XSLoader load relative paths (CVE-2016-6185)
	Fedora Patch31: Avoid loading optional modules from default . (CVE-2016-1238)
	Fedora Patch200: Link XS modules to libperl.so with EU::CBuilder on Linux
	Fedora Patch201: Link XS modules to libperl.so with EU::MM on Linux
  Built under linux
  Compiled at Aug  3 2016 13:39:13
  %ENV:
    PERL5LIB=""
    PERL5OPT=""
    PERL5_CPANPLUS_IS_RUNNING="15079"
    PERL5_CPAN_IS_RUNNING="15079"
    PERLDOC_PAGER="less -iMXFRs -+C"
    PERL_MM_USE_DEFAULT="1"
  @INC:
    /usr/local/lib64/perl5
    /usr/local/share/perl5
    /usr/lib64/perl5/vendor_perl
    /usr/share/perl5/vendor_perl
    /usr/lib64/perl5
    /usr/share/perl5
    .