DateTime v1.66 Perl 5 v5.38.2 arm-android

Status
Pass
From
Trizen
Dist
DateTime v1.66
Platform
Perl 5 v5.38.2 arm-android
Date
2025-05-27 17:04:30
ID
a76952a8-3b1c-11f0-ad93-ffb8a2c34972
This distribution has been tested as part of the CPAN Testers
project, supporting the Perl programming language.  See
http://wiki.cpantesters.org/ for more information or email
questions to cpan-testers-discuss@perl.org


--
Dear DROLSKY,

This is a computer-generated report for DateTime-1.66
on perl 5.38.2, created by App::cpanminus::reporter 0.21 (1.7047).

Thank you for uploading your work to CPAN.  Congratulations!
All tests were successful.

Sections of this report:

    * Tester comments
    * Program output
    * Prerequisites
    * Environment and other context

------------------------------
TESTER COMMENTS
------------------------------

Additional comments from tester:

none provided

------------------------------
PROGRAM OUTPUT
------------------------------

Output from '':

Building and testing DateTime-1.66
Running Mkbootstrap for DateTime ()
chmod 644 "DateTime.bs"
"/data/data/com.termux/files/usr/bin/perl" "/data/data/com.termux/files/usr/lib/perl5/5.38.2/ExtUtils/xsubpp"  -typemap '/data/data/com.termux/files/usr/lib/perl5/5.38.2/ExtUtils/typemap'  DateTime.xs > DateTime.xsc
cp lib/DateTime.pm blib/lib/DateTime.pm
cp lib/DateTime/PPExtra.pm blib/lib/DateTime/PPExtra.pm
cp lib/DateTime/Infinite.pm blib/lib/DateTime/Infinite.pm
cp lib/DateTime/PP.pm blib/lib/DateTime/PP.pm
cp lib/DateTime/Helpers.pm blib/lib/DateTime/Helpers.pm
cp lib/DateTime/Conflicts.pm blib/lib/DateTime/Conflicts.pm
cp lib/DateTime/LeapSecond.pm blib/lib/DateTime/LeapSecond.pm
cp lib/DateTime/Types.pm blib/lib/DateTime/Types.pm
cp lib/DateTime/Duration.pm blib/lib/DateTime/Duration.pm
"/data/data/com.termux/files/usr/bin/perl" -MExtUtils::Command::MM -e 'cp_nonempty' -- DateTime.bs blib/arch/auto/DateTime/DateTime.bs 644
mv DateTime.xsc DateTime.c
arm-linux-androideabi-clang -c   -I/data/data/com.termux/files/usr/include -D__USE_BSD=1 -D_LARGEFILE_SOURCE -D_FILE_OFFSET_BITS=64 -s -march=native -O3 -pipe -fno-plt   -DVERSION=\"1.66\" -DXS_VERSION=\"1.66\" -fPIC -Wno-unused-function "-I/data/data/com.termux/files/usr/lib/perl5/5.38.2/arm-android/CORE"   DateTime.c
clang: warning: argument unused during compilation: '-s' [-Wunused-command-line-argument]
clang: warning: argument unused during compilation: '-fno-plt' [-Wunused-command-line-argument]
rm -f blib/arch/auto/DateTime/DateTime.so
arm-linux-androideabi-clang -Wl,-rpath=/data/data/com.termux/files/usr/lib -Wl,--enable-new-dtags  -I/data/data/com.termux/files/usr/include -shared -I/data/data/com.termux/files/usr/include  -Wl,-rpath=/data/data/com.termux/files/usr/lib -L/data/data/com.termux/files/usr/lib -landroid-utimes -lm  DateTime.o  -o blib/arch/auto/DateTime/DateTime.so  \
    "-L/data/data/com.termux/files/usr/lib/perl5/5.38.2/arm-android/CORE" -lperl   \
  
chmod 755 blib/arch/auto/DateTime/DateTime.so
Manifying 6 pod documents
"/data/data/com.termux/files/usr/bin/perl" -MExtUtils::Command::MM -e 'cp_nonempty' -- DateTime.bs blib/arch/auto/DateTime/DateTime.bs 644
PERL_DL_NONLAZY=1 "/data/data/com.termux/files/usr/bin/perl" "-MExtUtils::Command::MM" "-MTest::Harness" "-e" "undef *Test::Harness::Switches; test_harness(0, 'blib/lib', 'blib/arch')" t/*.t
# 
# Versions for all modules listed in MYMETA.json (including optional ones):
# 
# === Configure Requires ===
# 
#     Module               Want Have
#     -------------------- ---- ----
#     Dist::CheckConflicts 0.02 0.11
#     ExtUtils::MakeMaker   any 7.70
# 
# === Configure Suggests ===
# 
#     Module      Want Have
#     -------- ------- ----
#     JSON::PP 2.27300 4.16
# 
# === Build Requires ===
# 
#     Module              Want Have
#     ------------------- ---- ----
#     ExtUtils::MakeMaker  any 7.70
# 
# === Test Requires ===
# 
#     Module                    Want     Have
#     ------------------------ ----- --------
#     CPAN::Meta::Check        0.011    0.018
#     CPAN::Meta::Requirements   any    2.143
#     ExtUtils::MakeMaker        any     7.70
#     File::Spec                 any     3.88
#     Storable                   any     3.32
#     Term::ANSIColor            any     5.01
#     Test::Fatal                any    0.017
#     Test::More                0.96 1.302209
#     Test::Warnings           0.005    0.031
#     Test::Without::Module      any     0.23
#     utf8                       any     1.25
# 
# === Test Recommends ===
# 
#     Module         Want     Have
#     ---------- -------- --------
#     CPAN::Meta 2.120900 2.150010
# 
# === Runtime Requires ===
# 
#     Module                         Want     Have
#     -------------------------- -------- --------
#     Carp                            any     1.54
#     DateTime::Locale               1.06     1.43
#     DateTime::TimeZone             2.44     2.62
#     Dist::CheckConflicts           0.02     0.11
#     POSIX                           any     2.13
#     Params::ValidationCompiler     0.26     0.31
#     Scalar::Util                    any     1.68
#     Specio                         0.50     0.50
#     Specio::Declare                 any     0.50
#     Specio::Exporter                any     0.50
#     Specio::Library::Builtins       any     0.50
#     Specio::Library::Numeric        any     0.50
#     Specio::Library::String         any     0.50
#     Specio::Subs                    any     0.50
#     Try::Tiny                       any     0.31
#     XSLoader                        any     0.24
#     integer                         any     1.01
#     namespace::autoclean           0.19     0.29
#     overload                        any     1.37
#     parent                          any    0.244
#     perl                       5.008004 5.038002
#     strict                          any     1.12
#     warnings                        any     1.65
#     warnings::register              any     1.05
# 
t/00-report-prereqs.t .... ok
t/00load.t ............... ok
t/01sanity.t ............. ok
t/02last-day.t ........... ok
t/03components.t ......... ok
t/04epoch.t .............. ok
t/05set.t ................ ok
t/06add.t ................ ok
t/07compare.t ............ ok
t/09greg.t ............... ok
t/10subtract.t ........... ok
t/11duration.t ........... ok
t/12week.t ............... ok
t/13strftime.t ........... ok
t/14locale.t ............. ok
t/15jd.t ................. ok
t/16truncate.t ........... ok
t/17set-return.t ......... ok
t/18today.t .............. ok
t/19leap-second.t ........ ok
t/20infinite.t ........... ok
t/21bad-params.t ......... ok
t/22from-doy.t ........... ok
t/23storable.t ........... ok
t/24from-object.t ........ ok
t/25add-subtract.t ....... ok
t/26dt-leapsecond-pm.t ... ok
t/27delta.t .............. ok
t/28dow.t ................ ok
t/29overload.t ........... ok
t/30future-tz.t .......... ok
t/31formatter.t .......... ok
t/32leap-second2.t ....... ok
t/33seconds-offset.t ..... ok
t/34set-tz.t ............. ok
t/35rd-values.t .......... ok
t/36invalid-local.t ...... ok
t/37local-add.t .......... ok
t/38local-subtract.t ..... ok
t/39no-so.t .............. ok
t/40leap-years.t ......... ok
t/41cldr-format.t ........ ok
t/42duration-class.t ..... ok
t/43new-params.t ......... ok
t/44set-formatter.t ...... ok
t/45core-time.t .......... ok
t/46warnings.t ........... ok
t/47default-time-zone.t .. ok
t/48rt-115983.t .......... ok
t/49-without-sub-util.t .. ok
t/zzz-check-breaks.t ..... ok
All tests successful.
Files=51, Tests=3589, 127 wallclock secs ( 3.27 usr  0.41 sys + 119.50 cusr  5.23 csys = 128.41 CPU)
Result: PASS

------------------------------
PREREQUISITES
------------------------------

Prerequisite modules loaded:

runtime:

    Module                     Need     Have    
    -------------------------- -------- --------
    Carp                       0        1.54    
    DateTime::Locale           1.06     1.45    
    DateTime::TimeZone         2.44     2.65    
    Dist::CheckConflicts       0.02     0.11    
    integer                    0        1.01    
    namespace::autoclean       0.19     0.29    
    overload                   0        1.37    
    Params::ValidationCompiler 0.26     0.31    
    parent                     0        0.244   
    perl                       5.008004 5.038002
    POSIX                      0        2.13    
    Scalar::Util               0        1.69    
    Specio                     0.50     0.50    
    Specio::Declare            0        0.50    
    Specio::Exporter           0        0.50    
    Specio::Library::Builtins  0        0.50    
    Specio::Library::Numeric   0        0.50    
    Specio::Library::String    0        0.50    
    Specio::Subs               0        0.50    
    strict                     0        1.12    
    Try::Tiny                  0        0.31    
    warnings                   0        1.65    
    warnings::register         0        1.05    
    XSLoader                   0        0.24    

build:

    Module                     Need     Have    
    -------------------------- -------- --------
    ExtUtils::MakeMaker        0        7.70    

configure:

    Module                     Need     Have    
    -------------------------- -------- --------
    Dist::CheckConflicts       0.02     0.11    
    ExtUtils::MakeMaker        0        7.70    


------------------------------
ENVIRONMENT AND OTHER CONTEXT
------------------------------

Environment variables:

    CCFLAGS = -s -march=native -O3 -pipe -fno-plt -fexceptions -Wp,-D_FORTIFY_SOURCE=2 -Wformat -Werror=format-security
    LANG = en_US.UTF-8
    LDFLAGS = -Wl,-O1,--sort-common,--as-needed,-z,relro,-z,now
    PATH = /data/data/com.termux/files/usr/bin
    PERL_MM_OPT = OPTIMIZE="-s -march=native -O3 -pipe -fno-plt"
    PREFIX = /data/data/com.termux/files/usr
    SHELL = /data/data/com.termux/files/usr/bin/zsh
    TEMP = /tmp
    TERM = xterm-256color
    TMPDIR = /data/data/com.termux/files/usr/tmp

Perl special variables (and OS-specific diagnostics, for MSWin32):

    EGID = 10230 3003 9997 50230
    EUID = 10230
    EXECUTABLE_NAME = /data/data/com.termux/files/usr/bin/perl
    GID = 10230 3003 9997 50230
    UID = 10230

Perl module toolchain versions installed:

    Module              Have    
    ------------------- --------
    CPAN                2.38    
    CPAN::Meta          2.150010
    Cwd                 3.89    
    ExtUtils::CBuilder  0.280238
    ExtUtils::Command   7.70    
    ExtUtils::Install   2.22    
    ExtUtils::MakeMaker 7.70    
    ExtUtils::Manifest  1.75    
    ExtUtils::ParseXS   3.57    
    File::Spec          3.88    
    JSON                4.10    
    JSON::PP            4.16    
    Module::Build       0.4234  
    Module::Signature   0.88    
    Parse::CPAN::Meta   2.150010
    Test::Harness       3.44    
    Test::More          1.302214
    YAML                n/a     
    YAML::Syck          n/a     
    version             0.9933  


--

Summary of my perl5 (revision 5 version 38 subversion 2) configuration:
   
  Platform:
    osname=android
    osvers=current
    archname=arm-android
    uname=''
    config_args='--target=arm-linux-androideabi --with-cc=arm-linux-androideabi-clang --with-ranlib=llvm-ranlib -Dosname=android -Dsysroot=-I/data/data/com.termux/files -Dprefix=/data/data/com.termux/files/usr -Dsh=/data/data/com.termux/files/usr/bin/sh -Dld=arm-linux-androideabi-clang -Wl,-rpath=/data/data/com.termux/files/usr/lib -Wl,--enable-new-dtags -Dar=llvm-ar -Duseshrplib -Duseithreads -Dusemultiplicity -Doptimize=-O2 --with-libs=-lm -L/data/data/com.termux/files/usr/lib -landroid-utimes --keeplog --mode=target --target=arm-linux-androideabi --targetarch=arm-unknown-linux-androideabi'
    hint=default
    useposix=true
    d_sigaction=define
    useithreads=define
    usemultiplicity=define
    use64bitint=undef
    use64bitall=undef
    uselongdouble=undef
    usemymalloc=n
    default_inc_excludes_dot=define
  Compiler:
    cc='arm-linux-androideabi-clang'
    ccflags ='-I/data/data/com.termux/files/usr/include  -D__USE_BSD=1 -D_LARGEFILE_SOURCE -D_FILE_OFFSET_BITS=64'
    optimize='-O2'
    cppflags='-I/data/data/com.termux/files/usr/include'
    ccversion=''
    gccversion='0.0'
    gccosandvers=''
    intsize=4
    longsize=4
    ptrsize=4
    doublesize=8
    byteorder=1234
    doublekind=3
    d_longlong=define
    longlongsize=8
    d_longdbl=define
    longdblsize=8
    longdblkind=0
    ivtype='long'
    ivsize=4
    nvtype='double'
    nvsize=8
    Off_t='off_t'
    lseeksize=8
    alignbytes=8
    prototype=define
  Linker and Libraries:
    ld='arm-linux-androideabi-clang -Wl,-rpath=/data/data/com.termux/files/usr/lib -Wl,--enable-new-dtags'
    ldflags ='-I/data/data/com.termux/files/usr/include  -Wl,-rpath=/data/data/com.termux/files/usr/lib -L/data/data/com.termux/files/usr/lib -landroid-utimes -lm'
    libpth=/data/data/com.termux/files/usr/lib /data/data/com.termux/files/usr/local/lib
    libs=-lm -L/data/data/com.termux/files/usr/lib -landroid-utimes
    perllibs=-lm
    libc=
    so=so
    useshrplib=true
    libperl=libperl.so
    gnulibc_version=''
  Dynamic Linking:
    dlsrc=dl_dlopen.xs
    dlext=so
    d_dlsymun=undef
    ccdlflags='-Wl,-E'
    cccdlflags='-fPIC -Wno-unused-function'
    lddlflags='-I/data/data/com.termux/files/usr/include -shared -I/data/data/com.termux/files/usr/include  -Wl,-rpath=/data/data/com.termux/files/usr/lib -L/data/data/com.termux/files/usr/lib -landroid-utimes -lm'


Characteristics of this binary (from libperl): 
  Compile-time options:
    HAS_LONG_DOUBLE
    HAS_STRTOLD
    HAS_TIMES
    MULTIPLICITY
    PERLIO_LAYERS
    PERL_COPY_ON_WRITE
    PERL_DONT_CREATE_GVSV
    PERL_HASH_FUNC_ZAPHOD32
    PERL_HASH_USE_SBOX32
    PERL_MALLOC_WRAP
    PERL_OP_PARENT
    PERL_PRESERVE_IVUV
    PERL_USE_SAFE_PUTENV
    USE_ITHREADS
    USE_LARGE_FILES
    USE_LOCALE
    USE_LOCALE_COLLATE
    USE_LOCALE_CTYPE
    USE_LOCALE_NUMERIC
    USE_LOCALE_TIME
    USE_PERLIO
    USE_PERL_ATOF
    USE_REENTRANT_API
    USE_THREAD_SAFE_LOCALE
  Built under android
  Compiled at May  6 2024 02:27:37
  %ENV:
    PERL_MM_OPT="OPTIMIZE="-s -march=native -O3 -pipe -fno-plt""
  @INC:
    /data/data/com.termux/files/usr/lib/perl5/site_perl/5.38.2/arm-android
    /data/data/com.termux/files/usr/lib/perl5/site_perl/5.38.2
    /data/data/com.termux/files/usr/lib/perl5/5.38.2/arm-android
    /data/data/com.termux/files/usr/lib/perl5/5.38.2