Report for Perl-Repository-APC-2.002

Back
From: metabase:user:9820532a-708b-1014-9a05-b18a96298da1
Subject: PASS Perl-Repository-APC-2.002 v5.10.1 GNU/Linux
Date: 2010-10-03T16:45:39Z

This distribution has been tested as part of the CPAN Testers
project, supporting the Perl programming language.  See
http://wiki.cpantesters.org/ for more information or email
questions to cpan-testers-discuss@perl.org


--
Dear Andreas J. Koenig,

This is a computer-generated report for Perl-Repository-APC-2.002
on perl 5.10.1, created by CPAN-Reporter-1.1801.

Thank you for uploading your work to CPAN.  Congratulations!
All tests were successful.

Sections of this report:

    * Tester comments
    * Program output
    * Prerequisites
    * Environment and other context

------------------------------
TESTER COMMENTS
------------------------------

Additional comments from tester:

this report is from an automated smoke testing program
and was not reviewed by a human for accuracy

------------------------------
PROGRAM OUTPUT
------------------------------

Output from '/usr/bin/make test':

PERL_DL_NONLAZY=1 /home/test/perl/bin/perl5.10.1 "-MExtUtils::Command::MM" "-e" "test_harness(0, 'blib/lib', 'blib/arch')" t/*.t
t/00-signature.t .. ok


  Skipping tests! If you want to run the tests against your copy
  of APC, please set environment variable $PERL_REPOSITORY_APC_REPO to
  the path to your APC

t/apc.t ........... ok
t/bap.t ........... skipped: no repository found
t/pod.t ........... skipped: Test::Pod 1.00 required for testing POD
t/podcover.t ...... skipped: Test::Pod::Coverage required for testing pod coverage
scripts/binsearchaperl syntax OK
scripts/patchaperlup syntax OK
scripts/buildaperl syntax OK
scripts/apc-overview syntax OK
t/scripts.t ....... ok
t/svn.t ........... skipped: svn deprecated
# 
# tlds[10]cur[1]uniq[2]fils[100]spcused[2]saved[0]
# tlds[10]cur[2]uniq[2]fils[200]spcused[2]saved[0]
# tlds[10]cur[2]uniq[2]fils[300]spcused[2]saved[0]
# tlds[10]cur[3]uniq[2]fils[400]spcused[2]saved[0]
# tlds[10]cur[3]uniq[2]fils[500]spcused[2]saved[0]
# tlds[10]cur[3]uniq[2]fils[600]spcused[2]saved[0]
# tlds[10]cur[3]uniq[2]fils[700]spcused[2]saved[0]
# tlds[10]cur[3]uniq[2]fils[800]spcused[2]saved[0]
# tlds[10]cur[3]uniq[2]fils[900]spcused[2]saved[0]
# tlds[10]cur[3]uniq[2]fils[1_000]spcused[2]saved[0]
# tlds[10]cur[3]uniq[2]fils[1_100]spcused[2]saved[0]
# tlds[10]cur[3]uniq[2]fils[1_200]spcused[2]saved[0]
# tlds[10]cur[3]uniq[2]fils[1_300]spcused[2]saved[0]
# tlds[10]cur[3]uniq[2]fils[1_400]spcused[2]saved[0]
# tlds[10]cur[4]uniq[2]fils[1_500]spcused[2]saved[0]
# tlds[10]cur[4]uniq[2]fils[1_600]spcused[2]saved[0]
# tlds[10]cur[4]uniq[2]fils[1_700]spcused[2]saved[0]
# tlds[10]cur[4]uniq[2]fils[1_800]spcused[2]saved[0]
# tlds[10]cur[4]uniq[2]fils[1_900]spcused[2]saved[0]
# tlds[10]cur[4]uniq[2]fils[2_000]spcused[2]saved[0]
# tlds[10]cur[4]uniq[2]fils[2_100]spcused[2]saved[0]
# tlds[10]cur[4]uniq[2]fils[2_200]spcused[2]saved[0]
# tlds[10]cur[4]uniq[2]fils[2_300]spcused[2]saved[0]
# tlds[10]cur[4]uniq[2]fils[2_400]spcused[2]saved[0]
# tlds[10]cur[4]uniq[2]fils[2_500]spcused[2]saved[0]Cannot rename "tmp/0/BAD\cJNL0" to "./trimtrees1-HRRDpAXY" (Permission denied); Skipping. at eg/trimtrees.pl line 55.
# Cannot rename "tmp/0/BAD\cJNL2" to "./trimtrees1-v_hUuUrA" (Permission denied); Skipping. at eg/trimtrees.pl line 55.
# Cannot read "tmp/0/BAD\cJNL3" (Permission denied); Skipping. at eg/trimtrees.pl line 165.
# 
# tlds[10]cur[6]uniq[3]fils[2_600]spcused[58]saved[0]
# tlds[10]cur[7]uniq[3]fils[2_700]spcused[58]saved[0]
# tlds[10]cur[8]uniq[3]fils[2_800]spcused[58]saved[0]
# tlds[10]cur[9]uniq[3]fils[2_900]spcused[58]saved[0]
# tlds[10]cur[9]uniq[3]fils[3_000]spcused[58]saved[0]
# tlds[10]cur[9]uniq[3]fils[3_100]spcused[58]saved[0]
# tlds[10]cur[9]uniq[3]fils[3_200]spcused[58]saved[0]
# tlds[10]cur[9]uniq[3]fils[3_300]spcused[58]saved[0]
# tlds[10]cur[9]uniq[3]fils[3_400]spcused[58]saved[0]
# tlds[10]cur[9]uniq[3]fils[3_500]spcused[58]saved[0]
# tlds[10]cur[9]uniq[3]fils[3_600]spcused[58]saved[0]
# tlds[10]cur[9]uniq[3]fils[3_700]spcused[58]saved[0]
# tlds[10]cur[9]uniq[3]fils[3_800]spcused[58]saved[0]
# tlds[10]cur[9]uniq[3]fils[3_900]spcused[58]saved[0]
# tlds[10]cur[10]uniq[3]fils[4_000]spcused[58]saved[0]
# tlds[10]cur[10]uniq[3]fils[4_100]spcused[58]saved[0]
# tlds[10]cur[10]uniq[3]fils[4_100]spcused[58]saved[0]
# DONE
t/trimtrees.t ..... ok
All tests successful.
Files=8, Tests=47,  6 wallclock secs ( 0.05 usr  0.02 sys +  3.71 cusr  1.61 csys =  5.39 CPU)
Result: PASS

------------------------------
PREREQUISITES
------------------------------

Prerequisite modules loaded:

requires:

    Module           Need Have
    ---------------- ---- ----
    Digest::MD5      0    2.39
    File::Spec       0    3.30
    List::Util       0    1.21
    Module::CoreList 2.13 2.18
    Test::More       0    0.92
    version          0.74 0.82


------------------------------
ENVIRONMENT AND OTHER CONTEXT
------------------------------

Environment variables:

    AUTOMATED_TESTING = 1
    LANG = C
    LC_ALL = C
    PATH = /home/test/perl/bin:~/bin:/usr/bin:/bin
    PERL5LIB = 
    PERL5OPT = 
    PERL5_CPANPLUS_IS_RUNNING = 4575
    PERL5_CPAN_IS_RUNNING = 4575
    PERL5_CPAN_IS_RUNNING_IN_RECURSION = 13582,4575
    PERL_CR_SMOKER_CURRENT = Perl-Repository-APC-2.002
    PERL_EXTUTILS_AUTOINSTALL = --defaultdeps
    PERL_MM_USE_DEFAULT = 1
    SHELL = /bin/bash
    TERM = linux

Perl special variables (and OS-specific diagnostics, for MSWin32):

    $^X = /home/test/perl/bin/perl5.10.1
    $UID/$EUID = 1001 / 1001
    $GID = 1001 1001
    $EGID = 1001 1001

Perl module toolchain versions installed:

    Module              Have   
    ------------------- -------
    CPAN                1.9402 
    Cwd                 3.30   
    ExtUtils::CBuilder  0.2703 
    ExtUtils::Command   1.16   
    ExtUtils::Install   1.54   
    ExtUtils::MakeMaker 6.55_02
    ExtUtils::Manifest  1.56   
    ExtUtils::ParseXS   2.2206 
    File::Spec          3.30   
    Module::Build       0.3607 
    Module::Signature   n/a    
    Test::Harness       3.17   
    Test::More          0.92   
    YAML                0.72   
    YAML::Syck          1.15   
    version             0.82   


--

Summary of my perl5 (revision 5 version 10 subversion 1) configuration:
   
  Platform:
    osname=linux, osvers=2.6.26-2-amd64, archname=x86_64-linux-thread-multi-ld
    uname='linux zippy 2.6.26-2-amd64 #1 smp tue jan 12 22:12:20 utc 2010 x86_64 gnulinux '
    config_args='-des -Dusedevel -des -Duselongdouble -Duse64bitall -Dusethreads -Dprefix=~/perl'
    hint=recommended, useposix=true, d_sigaction=define
    useithreads=define, usemultiplicity=define
    useperlio=define, d_sfio=undef, uselargefiles=define, usesocks=undef
    use64bitint=define, use64bitall=define, uselongdouble=define
    usemymalloc=n, bincompat5005=undef
  Compiler:
    cc='cc', ccflags ='-D_REENTRANT -D_GNU_SOURCE -fno-strict-aliasing -pipe -fstack-protector -I/usr/local/include -D_LARGEFILE_SOURCE -D_FILE_OFFSET_BITS=64',
    optimize='-O2',
    cppflags='-D_REENTRANT -D_GNU_SOURCE -fno-strict-aliasing -pipe -fstack-protector -I/usr/local/include'
    ccversion='', gccversion='4.4.4', gccosandvers=''
    intsize=4, longsize=8, ptrsize=8, doublesize=8, byteorder=12345678
    d_longlong=define, longlongsize=8, d_longdbl=define, longdblsize=16
    ivtype='long', ivsize=8, nvtype='long double', nvsize=16, Off_t='off_t', lseeksize=8
    alignbytes=16, prototype=define
  Linker and Libraries:
    ld='cc', ldflags =' -fstack-protector -L/usr/local/lib'
    libpth=/usr/local/lib /lib /usr/lib /lib64 /usr/lib64
    libs=-lnsl -ldb -ldl -lm -lcrypt -lutil -lpthread -lc
    perllibs=-lnsl -ldl -lm -lcrypt -lutil -lpthread -lc
    libc=/lib/libc-2.11.2.so, so=so, useshrplib=false, libperl=libperl.a
    gnulibc_version='2.11.2'
  Dynamic Linking:
    dlsrc=dl_dlopen.xs, dlext=so, d_dlsymun=undef, ccdlflags='-Wl,-E'
    cccdlflags='-fPIC', lddlflags='-shared -O2 -L/usr/local/lib -fstack-protector'


Characteristics of this binary (from libperl): 
  Compile-time options: MULTIPLICITY PERL_DONT_CREATE_GVSV
                        PERL_IMPLICIT_CONTEXT PERL_MALLOC_WRAP PERL_USE_DEVEL
                        USE_64_BIT_ALL USE_64_BIT_INT USE_ITHREADS
                        USE_LARGE_FILES USE_LONG_DOUBLE USE_PERLIO
                        USE_REENTRANT_API
  Built under linux
  Compiled at Aug 22 2010 22:56:01
  %ENV:
    PERL5LIB=""
    PERL5OPT=""
    PERL5_CPANPLUS_IS_RUNNING="4575"
    PERL5_CPAN_IS_RUNNING="4575"
    PERL5_CPAN_IS_RUNNING_IN_RECURSION="13582,4575"
    PERL_CR_SMOKER_CURRENT="Perl-Repository-APC-2.002"
    PERL_EXTUTILS_AUTOINSTALL="--defaultdeps"
    PERL_MM_USE_DEFAULT="1"
  @INC:
    /home/test/perl/lib/5.10.1/x86_64-linux-thread-multi-ld
    /home/test/perl/lib/5.10.1
    /home/test/perl/lib/site_perl/5.10.1/x86_64-linux-thread-multi-ld
    /home/test/perl/lib/site_perl/5.10.1
    .