Bread-Board v0.37 Perl 5 v5.18.4 x86_64-linux
- Status
- Pass
- From
- Slaven Rezić
- Dist
-
Bread-Board v0.37
- Platform
- Perl 5 v5.18.4 x86_64-linux
- Date
- 2020-10-18 06:03:33
- ID
- a75a0f08-1107-11eb-a474-3c1c1f24ea8f
This distribution has been tested as part of the CPAN Testers
project, supporting the Perl programming language. See
http://wiki.cpantesters.org/ for more information or email
questions to cpan-testers-discuss@perl.org
--
Dear Yanick Champoux,
This is a computer-generated report for Bread-Board-0.37
on perl 5.18.4, created by CPAN-Reporter-1.2018.
Thank you for uploading your work to CPAN. Congratulations!
All tests were successful.
Sections of this report:
* Tester comments
* Program output
* Prerequisites
* Environment and other context
------------------------------
TESTER COMMENTS
------------------------------
Additional comments from tester:
none provided
------------------------------
PROGRAM OUTPUT
------------------------------
Output from '/usr/bin/make test':
PERL_DL_NONLAZY=1 "/opt/perl-5.18.4/bin/perl" "-MExtUtils::Command::MM" "-MTest::Harness" "-e" "undef *Test::Harness::Switches; test_harness(0, 'blib/lib', 'blib/arch')" t/*.t
t/00-compile.t ............................ ok
#
# Versions for all modules listed in MYMETA.json (including optional ones):
#
# === Configure Requires ===
#
# Module Want Have
# ------------------- ---- ----
# ExtUtils::MakeMaker any 7.48
#
# === Build Requires ===
#
# Module Want Have
# ------------------- ---- ----
# ExtUtils::MakeMaker any 7.48
#
# === Test Requires ===
#
# Module Want Have
# ------------------- ---- --------
# ExtUtils::MakeMaker any 7.48
# File::Spec any 3.75
# FindBin any 1.51
# IO::Handle any 1.42
# IPC::Open3 any 1.13
# Test::Fatal any 0.016
# Test::Moose any 2.2013
# Test::More any 1.302182
# Test::Requires any 0.11
#
# === Test Recommends ===
#
# Module Want Have
# ---------- -------- --------
# CPAN::Meta 2.120900 2.150010
#
# === Runtime Requires ===
#
# Module Want Have
# ---------------------------- ------ ------
# Carp any 1.50
# Module::Runtime any 0.016
# Moose any 2.2013
# Moose::Exporter 2.1200 2.2013
# Moose::Role any 2.2013
# Moose::Util any 2.2013
# Moose::Util::TypeConstraints any 2.2013
# MooseX::Clone 0.05 0.06
# MooseX::Params::Validate 0.14 0.21
# Scalar::Util any 1.55
# Try::Tiny any 0.30
# overload any 1.22
# strict any 1.07
# warnings any 1.18
#
t/00-report-prereqs.t ..................... ok
t/001_constructor_injection.t ............. ok
t/002_setter_injection.t .................. ok
t/003_block_injection.t ................... ok
t/004_block_injection_w_out_class.t ....... ok
t/005_alias.t ............................. ok
t/010_container.t ......................... ok
t/011_container_path.t .................... ok
t/012_container_with_shared_deps.t ........ ok
t/020_sugar.t ............................. ok
t/021_sugar.t ............................. ok
t/022_sugar.t ............................. ok
t/023_sugar.t ............................. ok
t/024_sugar.t ............................. ok
t/025_sugar_w_absolute_path.t ............. ok
t/026_sugar_remove.t ...................... ok
t/027_sugar_w_include.t ................... ok
t/028_sugar_w_recursive_inc.t ............. ok
t/029_sugar_auto_wire_names.t ............. ok
t/030_lifecycle_singleton.t ............... ok
t/031_custom_lifecycles.t ................. ok
t/032_singleton_cycle.t ................... ok
t/040_circular_dependencies.t ............. ok
t/041_parameter_cache_handling.t .......... ok
t/042_parameter_cache_with_singleton.t .... ok
t/043_parameter_leaks.t ................... ok
t/044_deferred_parameters.t ............... ok
t/045_parameters_in_dependency.t .......... ok
t/046_custom_parameter_service.t .......... ok
t/047_dependencies_override_parameters.t .. ok
t/048_array_deps.t ........................ ok
t/050_parameterized_containers.t .......... ok
t/051_more_parameterized_containers.t ..... ok
t/052_parameterized_in_hierarchy.t ........ ok
t/053_parameterized_clone.t ............... ok
t/054_parameterized_backref.t ............. ok
t/060_extend_w_sugar.t .................... ok
t/061_extends_w_sugar_and_inheritance.t ... ok
t/062_service_class_w_sugar.t ............. ok
t/070_with_basic_typemap.t ................ ok
t/071_typemap_with_basic_infer.t .......... ok
t/072_typemap_with_more_infer.t ........... ok
t/073_typemap_with_role_infer.t ........... ok
t/074_typemap_w_recursive_infer.t ......... ok
t/075_complex_typemap_example.t ........... ok
t/076_more_complex_typemap.t .............. ok
t/077_more_complex_typemap_w_roles.t ...... ok
t/078_complex_typemap_w_error.t ........... ok
t/079_depending_on_type.t ................. ok
t/080_infer_subclasses.t .................. ok
t/100_clone_w_constructor_injection.t ..... ok
t/101_clone_w_setter_injection.t .......... ok
t/102_clone_w_block_injection.t ........... ok
t/110_clone_w_singleton.t ................. ok
t/150_deferred_parameters_fail.t .......... ok
t/151_sugar_no_container.t ................ ok
t/152_sugar_service_inheritance.t ......... ok
t/153_sugar_container_inheritance.t ....... ok
t/200_example_code.t ...................... ok
t/201_log_dispatch_example.t .............. ok
t/202_form_sensible_example.t ............. skipped: Form::Sensible is broken at the moment
t/300_no_new.t ............................ ok
t/301_sugar.t ............................. ok
t/302_path_traversal_deprecation.t ........ ok
t/310_literal_keyword.t ................... ok
t/500-gh61.t .............................. ok
All tests successful.
Files=67, Tests=755, 25 wallclock secs ( 0.17 usr 0.29 sys + 21.39 cusr 3.78 csys = 25.63 CPU)
Result: PASS
------------------------------
PREREQUISITES
------------------------------
Prerequisite modules loaded:
requires:
Module Need Have
---------------------------- ------ --------
Carp 0 1.50
Module::Runtime 0 0.016
Moose 0 2.2013
Moose::Exporter 2.1200 2.2013
Moose::Role 0 2.2013
Moose::Util 0 2.2013
Moose::Util::TypeConstraints 0 2.2013
MooseX::Clone 0.05 0.06
MooseX::Params::Validate 0.14 0.21
overload 0 1.22
perl 5.006 5.018004
Scalar::Util 0 1.55
strict 0 1.07
Try::Tiny 0 0.30
warnings 0 1.18
build_requires:
Module Need Have
---------------------------- ------ --------
ExtUtils::MakeMaker 0 7.48
File::Spec 0 3.75
FindBin 0 1.51
IO::Handle 0 1.42
IPC::Open3 0 1.13
Test::Fatal 0 0.016
Test::Moose 0 2.2013
Test::More 0 1.302182
Test::Requires 0 0.11
configure_requires:
Module Need Have
---------------------------- ------ --------
ExtUtils::MakeMaker 0 7.48
------------------------------
ENVIRONMENT AND OTHER CONTEXT
------------------------------
Environment variables:
LANG = C
PATH = /usr/local/bin:/usr/bin:/bin:/usr/local/sbin:/usr/sbin:/sbin:/home/cpansand/bin/linux-gnu:/home/cpansand/bin/sh:/home/cpansand/bin:/usr/games:/home/cpansand/devel:/home/eserte/src/srezic-misc/scripts
PERL5LIB =
PERL5OPT =
PERL5_CPANPLUS_IS_RUNNING = 25635
PERL5_CPAN_IS_RUNNING = 25635
PERL5_CPAN_IS_RUNNING_IN_RECURSION = 20548,25635
PERLDOC = -MPod::Perldoc::ToTextOverstrike
PERL_BATCH = yes
PERL_CANARY_STABILITY_NOPROMPT = 1
PERL_CPAN_REPORTER_CONFIG = /var/tmp/cpansmoker-1023/2020101805/cpanreporter_000_config.ini
PERL_EXTUTILS_AUTOINSTALL = --defaultdeps
PERL_USE_UNSAFE_INC = 1
SHELL = /usr/bin/zsh
TERM = screen
TMPDIR = /var/tmp/cpansmoker-1023/2020101805
Perl special variables (and OS-specific diagnostics, for MSWin32):
$^X = /opt/perl-5.18.4/bin/perl
$UID/$EUID = 1023 / 1023
$GID = 1023 1023
$EGID = 1023 1023
Perl module toolchain versions installed:
Module Have
------------------- --------
CPAN 2.28
CPAN::Meta 2.150010
Cwd 3.75
ExtUtils::CBuilder 0.280234
ExtUtils::Command 7.48
ExtUtils::Install 2.18
ExtUtils::MakeMaker 7.48
ExtUtils::Manifest 1.72
ExtUtils::ParseXS 3.35
File::Spec 3.75
JSON 4.02
JSON::PP 4.05
Module::Build 0.4231
Module::Signature 0.87
Parse::CPAN::Meta 2.150010
Test::Harness 3.42
Test::More 1.302182
YAML 1.30
YAML::Syck 1.32
version 0.9928
--
Summary of my perl5 (revision 5 version 18 subversion 4) configuration:
Platform:
osname=linux, osvers=4.19.0-8-amd64, archname=x86_64-linux
uname='linux debian10 4.19.0-8-amd64 #1 smp debian 4.19.98-1 (2020-01-26) x86_64 gnulinux '
config_args='-ds -e -Dprefix=/opt/perl-5.18.4 -Dcf_email=srezic@cpan.org'
hint=recommended, useposix=true, d_sigaction=define
useithreads=undef, usemultiplicity=undef
useperlio=define, d_sfio=undef, uselargefiles=define, usesocks=undef
use64bitint=define, use64bitall=define, uselongdouble=undef
usemymalloc=n, bincompat5005=undef
Compiler:
cc='cc', ccflags ='-fwrapv -fno-strict-aliasing -pipe -fstack-protector -I/usr/local/include -D_LARGEFILE_SOURCE -D_FILE_OFFSET_BITS=64',
optimize='-O2',
cppflags='-fwrapv -fno-strict-aliasing -pipe -fstack-protector -I/usr/local/include'
ccversion='', gccversion='8.3.0', gccosandvers=''
intsize=4, longsize=8, ptrsize=8, doublesize=8, byteorder=12345678
d_longlong=define, longlongsize=8, d_longdbl=define, longdblsize=16
ivtype='long', ivsize=8, nvtype='double', nvsize=8, Off_t='off_t', lseeksize=8
alignbytes=8, prototype=define
Linker and Libraries:
ld='cc', ldflags =' -fstack-protector -L/usr/local/lib'
libpth=/usr/local/lib /lib/x86_64-linux-gnu /lib/../lib /usr/lib/x86_64-linux-gnu /usr/lib/../lib /lib /usr/lib
libs=-lnsl -lgdbm -ldb -ldl -lm -lcrypt -lutil -lc
perllibs=-lnsl -ldl -lm -lcrypt -lutil -lc
libc=libc-2.28.so, so=so, useshrplib=false, libperl=libperl.a
gnulibc_version='2.28'
Dynamic Linking:
dlsrc=dl_dlopen.xs, dlext=so, d_dlsymun=undef, ccdlflags='-Wl,-E'
cccdlflags='-fPIC', lddlflags='-shared -O2 -L/usr/local/lib -fstack-protector'
Characteristics of this binary (from libperl):
Compile-time options: HAS_TIMES PERLIO_LAYERS PERL_DONT_CREATE_GVSV
PERL_HASH_FUNC_ONE_AT_A_TIME_HARD PERL_MALLOC_WRAP
PERL_PRESERVE_IVUV PERL_SAWAMPERSAND USE_64_BIT_ALL
USE_64_BIT_INT USE_LARGE_FILES USE_LOCALE
USE_LOCALE_COLLATE USE_LOCALE_CTYPE
USE_LOCALE_NUMERIC USE_PERLIO USE_PERL_ATOF
Locally applied patches:
Devel::PatchPerl 1.90
Built under linux
Compiled at Mar 31 2020 20:33:31
%ENV:
PERL5LIB=""
PERL5OPT=""
PERL5_CPANPLUS_IS_RUNNING="25635"
PERL5_CPAN_IS_RUNNING="25635"
PERL5_CPAN_IS_RUNNING_IN_RECURSION="20548,25635"
PERLDOC="-MPod::Perldoc::ToTextOverstrike"
PERL_BATCH="yes"
PERL_CANARY_STABILITY_NOPROMPT="1"
PERL_CPAN_REPORTER_CONFIG="/var/tmp/cpansmoker-1023/2020101805/cpanreporter_000_config.ini"
PERL_EXTUTILS_AUTOINSTALL="--defaultdeps"
PERL_USE_UNSAFE_INC="1"
@INC:
/opt/perl-5.18.4/lib/site_perl/5.18.4/x86_64-linux
/opt/perl-5.18.4/lib/site_perl/5.18.4
/opt/perl-5.18.4/lib/5.18.4/x86_64-linux
/opt/perl-5.18.4/lib/5.18.4
.