Back
From: metabase:user:30ae4450-2aae-11df-837a-5e0a49663a4f
Subject: PASS Params-Validate-Array-0.03 v5.24.0
Date: 2017-01-14T16:17:48Z
This distribution has been tested as part of the CPAN Testers
project, supporting the Perl programming language. See
http://wiki.cpantesters.org/ for more information or email
questions to cpan-testers-discuss@perl.org
--
Dear Sam Brain,
This is a computer-generated report for Params-Validate-Array-0.03
on perl 5.24.0, created by CPAN-Reporter-1.2018.
Thank you for uploading your work to CPAN. Congratulations!
All tests were successful.
Sections of this report:
* Tester comments
* Program output
* Prerequisites
* Environment and other context
------------------------------
TESTER COMMENTS
------------------------------
Additional comments from tester:
this report is from an automated smoke testing program
and was not reviewed by a human for accuracy
------------------------------
PROGRAM OUTPUT
------------------------------
Output from 'C:\Strawberry240\perl\bin\perl.exe ./Build test':
t\01-validate-array.t ........ ok
t\01-validate.t .............. ok
t\02-noop-array.t ............ ok
t\02-noop.t .................. ok
t\04-defaults-array.t ........ ok
t\04-defaults.t .............. ok
t\05-noop_default-array.t .... ok
t\05-noop_default.t .......... ok
t\06-options.t ............... ok
t\09-regex-array.t ........... ok
t\09-regex.t ................. ok
t\10-noop_regex-array.t ...... ok
t\10-noop_regex.t ............ ok
t\11-cb.t .................... ok
t\11-cb_array.t .............. ok
t\12-noop_cb-array.t ......... ok
t\12-noop_cb.t ............... ok
t\13-taint.t ................. ok
t\14-no_validate.t ........... ok
t\14-no_validate_array.t ..... ok
t\17-callbacks-array.t ....... ok
t\17-callbacks.t ............. ok
t\18-depends-array.t ......... ok
t\18-depends.t ............... ok
t\19-untaint.t ............... ok
t\21-can.t ................... ok
t\22-overload-can-bug.t ...... ok
t\23-readonly.t .............. skipped: Need Readonly::XS and Readonly for this test
t\24-tied.t .................. ok
t\25-undef-regex.t ........... ok
t\26-isa.t ................... ok
t\27-string-as-type.t ........ ok
t\28-readonly-return.t ....... ok
t\29-taint-mode.t ............ skipped: This test is flaky
t\30-hashref-alteration.t .... ok
t\31-incorrect-spelling.t .... skipped: Spec validation is disabled for now
t\32-regex-as-value.t ........ ok
t\33-keep-errsv.t ............ ok
t\34-recursive-validation.t .. ok
t\35-default-xs-bug.t ........ ok
All tests successful.
Test Summary Report
-------------------
t\34-recursive-validation.t (Wstat: 0 Tests: 1 Failed: 0)
TODO passed: 1
Files=40, Tests=645, 11 wallclock secs ( 0.10 usr + 0.22 sys = 0.32 CPU)
Result: PASS
------------------------------
PREREQUISITES
------------------------------
Prerequisite modules loaded:
requires:
Module Need Have
---------------- ---- --------
Carp 0 1.40
Params::Validate 1.07 1.26
Test::More 0 1.302073
version 0 0.9917
configure_requires:
Module Need Have
---------------- ---- --------
Module::Build 0.38 0.4220
------------------------------
ENVIRONMENT AND OTHER CONTEXT
------------------------------
Environment variables:
AUTOMATED_TESTING = 1
COMSPEC = C:\WINDOWS\system32\cmd.exe
NUMBER_OF_PROCESSORS = 1
PATH = C:\WINDOWS\system32;C:\WINDOWS;C:\WINDOWS\System32\Wbem;C:\Git\cmd;C:\Strawberry240\c\bin;C:\Strawberry240\perl\site\bin;C:\Strawberry240\perl\bin
PERL5LIB =
PERL5OPT =
PERL5_CPANPLUS_IS_RUNNING = 2000
PERL5_CPAN_IS_RUNNING = 2000
PERL5_CPAN_IS_RUNNING_IN_RECURSION = 1496,2000
PERL_CR_SMOKER_CURRENT = Array-To-Moose-v0.0.9
PERL_CR_SMOKER_RUNONCE = 1
PERL_EXTUTILS_AUTOINSTALL = --defaultdeps
PERL_HASH_SEED = 0x11111111
PERL_MM_USE_DEFAULT = 1
PROCESSOR_IDENTIFIER = x86 Family 16 Model 5 Stepping 3, AuthenticAMD
TEMP = C:\DOCUME~1\a\LOCALS~1\Temp
Perl special variables (and OS-specific diagnostics, for MSWin32):
$^X = C:\Strawberry240\perl\bin\perl.exe
$UID/$EUID = 0 / 0
$GID = 0
$EGID = 0
Win32::GetOSName = WinXP/.Net
Win32::GetOSVersion = Service Pack 3, 5, 1, 2600, 2, 3, 0, 256, 1
Win32::FsType = NTFS
Win32::IsAdminUser = 1
Perl module toolchain versions installed:
Module Have
------------------- --------
CPAN 2.14
CPAN::Meta 2.150010
Cwd 3.63
ExtUtils::CBuilder 0.280225
ExtUtils::Command 7.24
ExtUtils::Install 2.04
ExtUtils::MakeMaker 7.24
ExtUtils::Manifest 1.70
ExtUtils::ParseXS 3.31
File::Spec 3.63
JSON 2.90
JSON::PP 2.27400
Module::Build 0.4220
Module::Signature 0.81
Parse::CPAN::Meta 2.150010
Test::Harness 3.36
Test::More 1.302073
YAML 1.21
YAML::Syck 1.29
version 0.9917
--
Summary of my perl5 (revision 5 version 24 subversion 0) configuration:
Platform:
osname=MSWin32, osvers=4.0, archname=MSWin32-x86-multi-thread
uname='Win32 strawberry-perl 5.24.0.1-beta1 #1 Thu Dec 29 16:46:05 2016 i386'
config_args='undef'
hint=recommended, useposix=true, d_sigaction=undef
useithreads=define, usemultiplicity=define
use64bitint=undef, use64bitall=undef, uselongdouble=undef
usemymalloc=n, bincompat5005=undef
Compiler:
cc='gcc', ccflags =' -s -O2 -DWIN32 -DPERL_TEXTMODE_SCRIPTS -DPERL_IMPLICIT_CONTEXT -DPERL_IMPLICIT_SYS -fwrapv -fno-strict-aliasing -mms-bitfields',
optimize='-s -O2',
cppflags='-DWIN32'
ccversion='', gccversion='4.9.2', gccosandvers=''
intsize=4, longsize=4, ptrsize=4, doublesize=8, byteorder=1234, doublekind=3
d_longlong=define, longlongsize=8, d_longdbl=define, longdblsize=12, longdblkind=3
ivtype='long', ivsize=4, nvtype='double', nvsize=8, Off_t='long long', lseeksize=8
alignbytes=8, prototype=define
Linker and Libraries:
ld='g++', ldflags ='-s -L"C:\STRAWB~1\perl\lib\CORE" -L"C:\STRAWB~1\c\lib"'
libpth=C:\STRAWB~1\c\lib C:\STRAWB~1\c\i686-w64-mingw32\lib C:\STRAWB~1\c\lib\gcc\i686-w64-mingw32\4.9.2
libs=-lmoldname -lkernel32 -luser32 -lgdi32 -lwinspool -lcomdlg32 -ladvapi32 -lshell32 -lole32 -loleaut32 -lnetapi32 -luuid -lws2_32 -lmpr -lwinmm -lversion -lodbc32 -lodbccp32 -lcomctl32
perllibs=-lmoldname -lkernel32 -luser32 -lgdi32 -lwinspool -lcomdlg32 -ladvapi32 -lshell32 -lole32 -loleaut32 -lnetapi32 -luuid -lws2_32 -lmpr -lwinmm -lversion -lodbc32 -lodbccp32 -lcomctl32
libc=, so=dll, useshrplib=true, libperl=libperl524.a
gnulibc_version=''
Dynamic Linking:
dlsrc=dl_win32.xs, dlext=xs.dll, d_dlsymun=undef, ccdlflags=' '
cccdlflags=' ', lddlflags='-mdll -s -L"C:\STRAWB~1\perl\lib\CORE" -L"C:\STRAWB~1\c\lib"'
Characteristics of this binary (from libperl):
Compile-time options: HAS_TIMES HAVE_INTERP_INTERN MULTIPLICITY
PERLIO_LAYERS PERL_COPY_ON_WRITE
PERL_DONT_CREATE_GVSV
PERL_HASH_FUNC_ONE_AT_A_TIME_HARD
PERL_IMPLICIT_CONTEXT PERL_IMPLICIT_SYS
PERL_MALLOC_WRAP PERL_PRESERVE_IVUV USE_ITHREADS
USE_LARGE_FILES USE_LOCALE USE_LOCALE_COLLATE
USE_LOCALE_CTYPE USE_LOCALE_NUMERIC USE_LOCALE_TIME
USE_PERLIO USE_PERL_ATOF
Built under MSWin32
Compiled at Dec 29 2016 16:55:33
%ENV:
PERL5_CPANPLUS_IS_RUNNING="2000"
PERL5_CPAN_IS_RUNNING="2000"
PERL5_CPAN_IS_RUNNING_IN_RECURSION="1496,2000"
PERL_CR_SMOKER_CURRENT="Array-To-Moose-v0.0.9"
PERL_CR_SMOKER_RUNONCE="1"
PERL_EXTUTILS_AUTOINSTALL="--defaultdeps"
PERL_HASH_SEED="0x11111111"
PERL_MM_USE_DEFAULT="1"
@INC:
C:/Strawberry240/perl/site/lib
C:/Strawberry240/perl/vendor/lib
C:/Strawberry240/perl/lib
.