MaxMind-DB-Reader v1.000014 Perl 5 v5.39.9 darwin-2level

Status
Pass
From
David Cantrell (DCANTRELL)
Dist
MaxMind-DB-Reader v1.000014
Platform
Perl 5 v5.39.9 darwin-2level
Date
2024-03-17 01:14:07
ID
a71d0836-e3fb-11ee-83d5-5c4aab8c77b5
This distribution has been tested as part of the CPAN Testers
project, supporting the Perl programming language.  See
http://wiki.cpantesters.org/ for more information or email
questions to cpan-testers-discuss@perl.org


--
Dear MaxMind, Inc.,

This is a computer-generated report for MaxMind-DB-Reader-1.000014
on perl 5.39.9, created by CPAN-Reporter-1.2019.

Thank you for uploading your work to CPAN.  Congratulations!
All tests were successful.

Sections of this report:

    * Tester comments
    * Program output
    * Prerequisites
    * Environment and other context

------------------------------
TESTER COMMENTS
------------------------------

Additional comments from tester:

this report is from an automated smoke testing program
and was not reviewed by a human for accuracy

------------------------------
PROGRAM OUTPUT
------------------------------

Output from '/usr/bin/make test':

PERL_DL_NONLAZY=1 "/Users/cpantesting/cpantesting/perl-blead/bin/perl5.39.9" "-MExtUtils::Command::MM" "-MTest::Harness" "-e" "undef *Test::Harness::Switches; test_harness(0, 'blib/lib', 'blib/arch')" t/*.t t/MaxMind/DB/*.t t/MaxMind/DB/Reader/*.t t/MaxMind/DB/Reader/Decoder-types/*.t
# 
# Versions for all modules listed in MYMETA.json (including optional ones):
# 
# === Configure Requires ===
# 
#     Module              Want Have
#     ------------------- ---- ----
#     ExtUtils::MakeMaker  any 7.70
# 
# === Build Requires ===
# 
#     Module              Want Have
#     ------------------- ---- ----
#     ExtUtils::MakeMaker  any 7.70
# 
# === Test Requires ===
# 
#     Module                          Want     Have
#     ------------------------------- ---- --------
#     Exporter                         any     5.78
#     ExtUtils::MakeMaker              any     7.70
#     File::Spec                       any     3.90
#     Path::Class                     0.27     0.37
#     Scalar::Util                    1.42     1.63
#     Test::Bits                       any     0.02
#     Test::Fatal                      any    0.017
#     Test::MaxMind::DB::Common::Data  any 0.040001
#     Test::MaxMind::DB::Common::Util  any 0.040001
#     Test::More                      0.96 1.302198
#     Test::Number::Delta              any     1.06
#     Test::Requires                   any     0.11
#     lib                              any     0.65
#     utf8                             any     1.25
# 
# === Test Recommends ===
# 
#     Module         Want     Have
#     ---------- -------- --------
#     CPAN::Meta 2.120900 2.150010
# 
# === Runtime Requires ===
# 
#     Module                        Want     Have
#     ------------------------- -------- --------
#     Carp                           any     1.54
#     Data::IEEE754                  any     0.02
#     Data::Printer                  any 1.002001
#     Data::Validate::IP            0.25     0.31
#     DateTime                       any     1.65
#     Encode                         any     3.21
#     Getopt::Long                   any     2.57
#     List::AllUtils                 any     0.19
#     Math::BigInt                   any 2.003002
#     MaxMind::DB::Common       0.040001 0.040001
#     MaxMind::DB::Metadata          any 0.040001
#     MaxMind::DB::Role::Debugs      any 0.040001
#     MaxMind::DB::Types             any 0.040001
#     Module::Implementation         any     0.09
#     Moo                       1.003000 2.005005
#     Moo::Role                      any 2.005005
#     MooX::StrictConstructor        any    0.011
#     Role::Tiny                1.003002 2.002004
#     Socket                        1.87    2.037
#     autodie                        any     2.37
#     bytes                          any     1.09
#     constant                       any     1.33
#     namespace::autoclean           any     0.29
#     strict                         any     1.13
#     warnings                       any     1.68
# 
# === Runtime Suggests ===
# 
#     Module                      Want    Have
#     ----------------------- -------- -------
#     MaxMind::DB::Reader::XS 1.000003 missing
# 
t/00-report-prereqs.t ............................. ok
t/MaxMind/DB/Reader-broken-databases.t ............ ok
t/MaxMind/DB/Reader-decoder.t ..................... skipped: Test requires module 'Math::Int128' but it's not found
t/MaxMind/DB/Reader-no-ipv4-search-tree.t ......... ok
t/MaxMind/DB/Reader.t ............................. ok
t/MaxMind/DB/Reader/Decoder-maps-with-pointers.t .. ok
t/MaxMind/DB/Reader/Decoder-types/array.t ......... ok
t/MaxMind/DB/Reader/Decoder-types/boolean.t ....... ok
t/MaxMind/DB/Reader/Decoder-types/bytes.t ......... ok
t/MaxMind/DB/Reader/Decoder-types/container.t ..... ok
t/MaxMind/DB/Reader/Decoder-types/double.t ........ ok
t/MaxMind/DB/Reader/Decoder-types/end_marker.t .... ok
t/MaxMind/DB/Reader/Decoder-types/float.t ......... ok
t/MaxMind/DB/Reader/Decoder-types/int32.t ......... ok
t/MaxMind/DB/Reader/Decoder-types/map.t ........... ok
t/MaxMind/DB/Reader/Decoder-types/pointer.t ....... ok
t/MaxMind/DB/Reader/Decoder-types/uint128.t ....... ok
t/MaxMind/DB/Reader/Decoder-types/uint16.t ........ ok
t/MaxMind/DB/Reader/Decoder-types/uint32.t ........ ok
t/MaxMind/DB/Reader/Decoder-types/uint64.t ........ ok
t/MaxMind/DB/Reader/Decoder-types/utf8_string.t ... ok
t/MaxMind/DB/Reader/Decoder.t ..................... ok
t/MaxMind/DB/Reader/NoMoose.t ..................... ok
All tests successful.
Files=23, Tests=459, 10 wallclock secs ( 0.15 usr  0.08 sys +  8.77 cusr  1.33 csys = 10.33 CPU)
Result: PASS

------------------------------
PREREQUISITES
------------------------------

Prerequisite modules loaded:

requires:

    Module                          Need     Have    
    ------------------------------- -------- --------
    autodie                         0        2.37    
    bytes                           0        1.09    
    Carp                            0        1.54    
    constant                        0        1.33    
    Data::IEEE754                   0        0.02    
    Data::Printer                   0        1.002001
    Data::Validate::IP              0.25     0.31    
    DateTime                        0        1.65    
    Encode                          0        3.21    
    Getopt::Long                    0        2.57    
    List::AllUtils                  0        0.19    
    Math::BigInt                    0        2.003002
    MaxMind::DB::Common             0.040001 0.040001
    MaxMind::DB::Metadata           0        0.040001
    MaxMind::DB::Role::Debugs       0        0.040001
    MaxMind::DB::Types              0        0.040001
    Module::Implementation          0        0.09    
    Moo                             1.003000 2.005005
    Moo::Role                       0        2.005005
    MooX::StrictConstructor         0        0.011   
    namespace::autoclean            0        0.29    
    perl                            5.010000 5.039009
    Role::Tiny                      1.003002 2.002004
    Socket                          1.87     2.037   
    strict                          0        1.13    
    warnings                        0        1.68    

build_requires:

    Module                          Need     Have    
    ------------------------------- -------- --------
    Exporter                        0        5.78    
    ExtUtils::MakeMaker             0        7.70    
    File::Spec                      0        3.90    
    lib                             0        0.65    
    Path::Class                     0.27     0.37    
    Scalar::Util                    1.42     1.63    
    Test::Bits                      0        0.02    
    Test::Fatal                     0        0.017   
    Test::MaxMind::DB::Common::Data 0        0.040001
    Test::MaxMind::DB::Common::Util 0        0.040001
    Test::More                      0.96     1.302198
    Test::Number::Delta             0        1.06    
    Test::Requires                  0        0.11    
    utf8                            0        1.25    

configure_requires:

    Module                          Need     Have    
    ------------------------------- -------- --------
    ExtUtils::MakeMaker             0        7.70    

opt_build_requires:

    Module                          Need     Have    
    ------------------------------- -------- --------
    CPAN::Meta                      2.120900 2.150010


------------------------------
ENVIRONMENT AND OTHER CONTEXT
------------------------------

Environment variables:

    AUTOMATED_TESTING = 1
    NONINTERACTIVE_TESTING = 1
    PATH = /Users/cpantesting/perl5/perlbrew/bin:/Users/cpantesting/perl5/perlbrew/perls/perl-5.32.0/bin:/usr/local/bin:/System/Cryptexes/App/usr/bin:/usr/bin:/bin:/usr/sbin:/sbin:/Library/Apple/usr/bin:/Users/cpantesting/.cargo/bin
    PERL = blead
    PERL5LIB = 
    PERL5OPT = 
    PERL5_CPANPLUS_IS_RUNNING = 78608
    PERL5_CPAN_IS_RUNNING = 78608
    PERLBREW_HOME = /Users/cpantesting/.perlbrew
    PERLBREW_MANPATH = /Users/cpantesting/perl5/perlbrew/perls/perl-5.32.0/man
    PERLBREW_PATH = /Users/cpantesting/perl5/perlbrew/bin:/Users/cpantesting/perl5/perlbrew/perls/perl-5.32.0/bin
    PERLBREW_PERL = perl-5.32.0
    PERLBREW_ROOT = /Users/cpantesting/perl5/perlbrew
    PERLBREW_SHELLRC_VERSION = 0.94
    PERLBREW_VERSION = 0.94
    PERLVER = blead
    PERL_INLINE_DIRECTORY = /Users/cpantesting/.Inline-blead
    PERL_MM_USE_DEFAULT = 1
    PERL_USE_UNSAFE_INC = 0
    SHELL = /bin/bash
    TERM = screen

Perl special variables (and OS-specific diagnostics, for MSWin32):

    $^X = /Users/cpantesting/cpantesting/perl-blead/bin/perl5.39.9
    $UID/$EUID = 503 / 503
    $GID = 20 20 12 61 703 702 701 100
    $EGID = 20 20 12 61 703 702 701 100

Perl module toolchain versions installed:

    Module              Have    
    ------------------- --------
    CPAN                2.36    
    CPAN::Meta          2.150010
    Cwd                 3.90    
    ExtUtils::CBuilder  0.280240
    ExtUtils::Command   7.70    
    ExtUtils::Install   2.22    
    ExtUtils::MakeMaker 7.70    
    ExtUtils::Manifest  1.75    
    ExtUtils::ParseXS   3.51    
    File::Spec          3.90    
    JSON                4.10    
    JSON::PP            4.16    
    Module::Build       0.4234  
    Module::Signature   n/a     
    Parse::CPAN::Meta   2.150010
    Test2               1.302198
    Test::Harness       3.48    
    Test::More          1.302198
    YAML                n/a     
    YAML::Syck          n/a     
    version             0.9930  


--

Summary of my perl5 (revision 5 version 39 subversion 9) configuration:
  Commit id: 0e9cc8e5aaebeef20004deb2c6fdf911e60ba482
  Platform:
    osname=darwin
    osvers=22.3.0
    archname=darwin-2level
    uname='darwin harrow.local 22.3.0 darwin kernel version 22.3.0: mon jan 30 20:42:11 pst 2023; root:xnu-8792.81.3~2release_x86_64 x86_64 '
    config_args='-de -Dprefix=/Users/cpantesting/cpantesting/perl-blead -Dusedevel'
    hint=recommended
    useposix=true
    d_sigaction=define
    useithreads=undef
    usemultiplicity=undef
    use64bitint=define
    use64bitall=define
    uselongdouble=undef
    usemymalloc=n
    default_inc_excludes_dot=define
  Compiler:
    cc='cc'
    ccflags ='-fno-common -DPERL_DARWIN -mmacosx-version-min=13.2 -DNO_THREAD_SAFE_QUERYLOCALE -DNO_POSIX_2008_LOCALE -fno-strict-aliasing -pipe -fstack-protector-strong -I/usr/local/include'
    optimize='-O3'
    cppflags='-fno-common -DPERL_DARWIN -mmacosx-version-min=13.2 -DNO_THREAD_SAFE_QUERYLOCALE -DNO_POSIX_2008_LOCALE -fno-strict-aliasing -pipe -fstack-protector-strong -I/usr/local/include'
    ccversion=''
    gccversion='Apple LLVM 14.0.0 (clang-1400.0.29.202)'
    gccosandvers=''
    intsize=4
    longsize=8
    ptrsize=8
    doublesize=8
    byteorder=12345678
    doublekind=3
    d_longlong=define
    longlongsize=8
    d_longdbl=define
    longdblsize=16
    longdblkind=3
    ivtype='long'
    ivsize=8
    nvtype='double'
    nvsize=8
    Off_t='off_t'
    lseeksize=8
    alignbytes=8
    prototype=define
  Linker and Libraries:
    ld='cc'
    ldflags =' -mmacosx-version-min=13.2 -fstack-protector-strong -L/usr/local/lib'
    libpth=/usr/local/lib /Applications/Xcode.app/Contents/Developer/Toolchains/XcodeDefault.xctoolchain/usr/lib/clang/14.0.0/lib /Applications/Xcode.app/Contents/Developer/Platforms/MacOSX.platform/Developer/SDKs/MacOSX.sdk/usr/lib /Applications/Xcode.app/Contents/Developer/Toolchains/XcodeDefault.xctoolchain/usr/lib /usr/lib
    libs=-lgdbm
    perllibs=
    libc=
    so=dylib
    useshrplib=false
    libperl=libperl.a
    gnulibc_version=''
  Dynamic Linking:
    dlsrc=dl_dlopen.xs
    dlext=bundle
    d_dlsymun=undef
    ccdlflags=' '
    cccdlflags=' '
    lddlflags=' -mmacosx-version-min=13.2 -bundle -undefined dynamic_lookup -L/usr/local/lib -fstack-protector-strong'


Characteristics of this binary (from libperl): 
  Compile-time options:
    HAS_LONG_DOUBLE
    HAS_STRTOLD
    HAS_TIMES
    PERLIO_LAYERS
    PERL_COPY_ON_WRITE
    PERL_DONT_CREATE_GVSV
    PERL_HASH_FUNC_SIPHASH13
    PERL_HASH_USE_SBOX32
    PERL_MALLOC_WRAP
    PERL_OP_PARENT
    PERL_PRESERVE_IVUV
    PERL_USE_DEVEL
    PERL_USE_SAFE_PUTENV
    USE_64_BIT_ALL
    USE_64_BIT_INT
    USE_LARGE_FILES
    USE_LOCALE
    USE_LOCALE_COLLATE
    USE_LOCALE_CTYPE
    USE_LOCALE_NUMERIC
    USE_LOCALE_TIME
    USE_PERLIO
    USE_PERL_ATOF
  Built under darwin
  Compiled at Mar 15 2024 17:50:28
  %ENV:
    PERL="blead"
    PERL5LIB=""
    PERL5OPT=""
    PERL5_CPANPLUS_IS_RUNNING="78608"
    PERL5_CPAN_IS_RUNNING="78608"
    PERLBREW_HOME="/Users/cpantesting/.perlbrew"
    PERLBREW_MANPATH="/Users/cpantesting/perl5/perlbrew/perls/perl-5.32.0/man"
    PERLBREW_PATH="/Users/cpantesting/perl5/perlbrew/bin:/Users/cpantesting/perl5/perlbrew/perls/perl-5.32.0/bin"
    PERLBREW_PERL="perl-5.32.0"
    PERLBREW_ROOT="/Users/cpantesting/perl5/perlbrew"
    PERLBREW_SHELLRC_VERSION="0.94"
    PERLBREW_VERSION="0.94"
    PERLVER="blead"
    PERL_INLINE_DIRECTORY="/Users/cpantesting/.Inline-blead"
    PERL_MM_USE_DEFAULT="1"
    PERL_USE_UNSAFE_INC="0"
  @INC:
    /Users/cpantesting/cpantesting/perl-blead/lib/site_perl/5.39.9/darwin-2level
    /Users/cpantesting/cpantesting/perl-blead/lib/site_perl/5.39.9
    /Users/cpantesting/cpantesting/perl-blead/lib/5.39.9/darwin-2level
    /Users/cpantesting/cpantesting/perl-blead/lib/5.39.9