Back
From: metabase:user:314402c4-2aae-11df-837a-5e0a49663a4f
Subject: PASS Batch-Interpreter-0.01 v5.24.0 GNU/Linux
Date: 2017-06-21T10:30:31Z
This distribution has been tested as part of the CPAN Testers
project, supporting the Perl programming language. See
http://wiki.cpantesters.org/ for more information or email
questions to cpan-testers-discuss@perl.org
--
Dear Ralf Neubauer,
This is a computer-generated report for Batch-Interpreter-0.01
on perl 5.24.0, created by CPAN-Reporter-1.2018.
Thank you for uploading your work to CPAN. Congratulations!
All tests were successful.
Sections of this report:
* Tester comments
* Program output
* Prerequisites
* Environment and other context
------------------------------
TESTER COMMENTS
------------------------------
Additional comments from tester:
none provided
------------------------------
PROGRAM OUTPUT
------------------------------
Output from '/usr/bin/make test':
PERL_DL_NONLAZY=1 "/opt/perl-5.24.0/bin/perl5.24.0" "-MExtUtils::Command::MM" "-MTest::Harness" "-e" "undef *Test::Harness::Switches; test_harness(0, 'blib/lib', 'blib/arch')" t/*.t
# Testing Batch::Interpreter 0.01, Perl 5.024000, /opt/perl-5.24.0/bin/perl5.24.0
t/00-load.t ............... ok
t/01-example.t ............ ok
t/02-newlines.t ........... ok
t/10-hello.t .............. ok
t/11-options.t ............ ok
t/12-options2.t ........... ok
t/13-callargs.t ........... ok
t/14-delayedexpansion.t ... ok
t/15-for_amp.t ............ ok
t/16-for_f.t .............. ok
t/17-for_filename.t ....... ok
t/18-for_if.t ............. ok
t/19-for_l.t .............. ok
t/20-for_nested.t ......... ok
t/21-for_r.t .............. ok
t/22-redirect.t ........... ok
Can't exec "t/notexist.com": No such file or directory at lib/Batch/Interpreter.pm line 2192.
ERROR: < 't\notexist.txt': No such file or directory
t/23-set.t ................ ok
t/24-tilde.t .............. ok
t/25-line_continuation.t .. ok
t/26-callperl.t ........... ok
t/90-manifest.t ........... skipped: Author tests not required for installation
t/91-pod.t ................ skipped: Author tests not required for installation
t/92-pod-coverage.t ....... skipped: Author tests not required for installation
All tests successful.
Files=23, Tests=87, 3 wallclock secs ( 0.02 usr 0.05 sys + 1.84 cusr 0.58 csys = 2.49 CPU)
Result: PASS
------------------------------
PREREQUISITES
------------------------------
Prerequisite modules loaded:
requires:
Module Need Have
------------------- ---- --------
Clone 0 0.38
Cwd 0 3.63
Data::Dump 0 1.23
File::Copy 0 2.31
File::DosGlob 0 1.12
File::Find 0 1.34
File::Spec 0 3.63
File::Spec::Win32 0 3.63
File::Temp 0 0.2304
Getopt::Long 0 2.49
List::MoreUtils 0 0.416
perl 5.01 5.024000
Term::ReadLine 0 1.15
Time::HiRes 0 1.9739
build_requires:
Module Need Have
------------------- ---- --------
Test::Differences 0 0.64
Test::More 0 1.302052
configure_requires:
Module Need Have
------------------- ---- --------
ExtUtils::MakeMaker 0 7.24
------------------------------
ENVIRONMENT AND OTHER CONTEXT
------------------------------
Environment variables:
LANG = en_US.UTF-8
LANGUAGE = en_US:en
LC_ALL = en_US.UTF-8
PATH = /usr/local/bin:/usr/bin:/bin:/usr/local/sbin:/usr/sbin:/sbin:/home/cpansand/bin/linux-gnu:/home/cpansand/bin/sh:/home/cpansand/bin:/usr/games:/home/cpansand/devel:/home/eserte/src/srezic-misc/scripts
PERL5LIB = /home/cpansand/.cpan/build/2017062112/B-Generate-1.55-2/blib/arch:/home/cpansand/.cpan/build/2017062112/B-Generate-1.55-2/blib/lib:/home/cpansand/.cpan/build/2017062112/B-CallChecker-0.001-2/blib/arch:/home/cpansand/.cpan/build/2017062112/B-CallChecker-0.001-2/blib/lib:/home/cpansand/.cpan/build/2017062112/Git-Bunch-0.61-2/blib/arch:/home/cpansand/.cpan/build/2017062112/Git-Bunch-0.61-2/blib/lib:/home/cpansand/.cpan/build/2017062112/Log-ger-0.001-2/blib/arch:/home/cpansand/.cpan/build/2017062112/Log-ger-0.001-2/blib/lib:/home/cpansand/.cpan/build/2017062112/App-rsync-new2old-0.006-2/blib/arch:/home/cpansand/.cpan/build/2017062112/App-rsync-new2old-0.006-2/blib/lib
PERL5OPT =
PERL5_CPANPLUS_IS_RUNNING = 9804
PERL5_CPAN_IS_RUNNING = 9804
PERL5_CPAN_IS_RUNNING_IN_RECURSION = 9688,9804
PERLDOC = -MPod::Perldoc::ToTextOverstrike
PERL_BATCH = yes
PERL_CANARY_STABILITY_NOPROMPT = 1
PERL_CPAN_REPORTER_CONFIG = /var/tmp/cpansmoker-1023/2017062112/cpanreporter_000_config.ini
PERL_EXTUTILS_AUTOINSTALL = --defaultdeps
PERL_PARALLEL_SMOKER = yes
PERL_USE_UNSAFE_INC = 1
SHELL = /bin/zsh
TERM = screen
TMPDIR = /var/tmp/cpansmoker-1023/2017062112
Perl special variables (and OS-specific diagnostics, for MSWin32):
$^X = /opt/perl-5.24.0/bin/perl5.24.0
$UID/$EUID = 1023 / 1023
$GID = 1023 1023
$EGID = 1023 1023
Perl module toolchain versions installed:
Module Have
------------------- --------
CPAN 2.14
CPAN::Meta 2.150010
Cwd 3.63
ExtUtils::CBuilder 0.280225
ExtUtils::Command 7.24
ExtUtils::Install 2.04
ExtUtils::MakeMaker 7.24
ExtUtils::Manifest 1.70
ExtUtils::ParseXS 3.31
File::Spec 3.63
JSON 2.90
JSON::PP 2.27300
Module::Build 0.4220
Module::Signature 0.80
Parse::CPAN::Meta 2.150010
Test::Harness 3.36
Test::More 1.302052
YAML 1.17
YAML::Syck 1.29
version 0.9916
--
Summary of my perl5 (revision 5 version 24 subversion 0) configuration:
Platform:
osname=linux, osvers=3.2.0-4-amd64, archname=x86_64-linux
uname='linux cvrsnica-wheezy 3.2.0-4-amd64 #1 smp debian 3.2.54-2 x86_64 gnulinux '
config_args='-ds -e -Dprefix=/opt/perl-5.24.0 -Dcf_email=srezic@cpan.org'
hint=recommended, useposix=true, d_sigaction=define
useithreads=undef, usemultiplicity=undef
use64bitint=define, use64bitall=define, uselongdouble=undef
usemymalloc=n, bincompat5005=undef
Compiler:
cc='cc', ccflags ='-fwrapv -fno-strict-aliasing -pipe -fstack-protector -I/usr/local/include -D_LARGEFILE_SOURCE -D_FILE_OFFSET_BITS=64 -D_FORTIFY_SOURCE=2',
optimize='-O2',
cppflags='-fwrapv -fno-strict-aliasing -pipe -fstack-protector -I/usr/local/include'
ccversion='', gccversion='4.7.2', gccosandvers=''
intsize=4, longsize=8, ptrsize=8, doublesize=8, byteorder=12345678, doublekind=3
d_longlong=define, longlongsize=8, d_longdbl=define, longdblsize=16, longdblkind=3
ivtype='long', ivsize=8, nvtype='double', nvsize=8, Off_t='off_t', lseeksize=8
alignbytes=8, prototype=define
Linker and Libraries:
ld='cc', ldflags =' -fstack-protector -L/usr/local/lib'
libpth=/usr/local/lib /usr/lib/gcc/x86_64-linux-gnu/4.7/include-fixed /usr/include/x86_64-linux-gnu /usr/lib /lib/x86_64-linux-gnu /lib/../lib /usr/lib/x86_64-linux-gnu /usr/lib/../lib /lib
libs=-lpthread -lnsl -ldb -ldl -lm -lcrypt -lutil -lc
perllibs=-lpthread -lnsl -ldl -lm -lcrypt -lutil -lc
libc=libc-2.13.so, so=so, useshrplib=false, libperl=libperl.a
gnulibc_version='2.13'
Dynamic Linking:
dlsrc=dl_dlopen.xs, dlext=so, d_dlsymun=undef, ccdlflags='-Wl,-E'
cccdlflags='-fPIC', lddlflags='-shared -O2 -L/usr/local/lib -fstack-protector'
Characteristics of this binary (from libperl):
Compile-time options: HAS_TIMES PERLIO_LAYERS PERL_COPY_ON_WRITE
PERL_DONT_CREATE_GVSV
PERL_HASH_FUNC_ONE_AT_A_TIME_HARD PERL_MALLOC_WRAP
PERL_PRESERVE_IVUV USE_64_BIT_ALL USE_64_BIT_INT
USE_LARGE_FILES USE_LOCALE USE_LOCALE_COLLATE
USE_LOCALE_CTYPE USE_LOCALE_NUMERIC USE_LOCALE_TIME
USE_PERLIO USE_PERL_ATOF
Built under linux
Compiled at May 30 2016 08:43:25
%ENV:
PERL5LIB="/home/cpansand/.cpan/build/2017062112/B-Generate-1.55-2/blib/arch:/home/cpansand/.cpan/build/2017062112/B-Generate-1.55-2/blib/lib:/home/cpansand/.cpan/build/2017062112/B-CallChecker-0.001-2/blib/arch:/home/cpansand/.cpan/build/2017062112/B-CallChecker-0.001-2/blib/lib:/home/cpansand/.cpan/build/2017062112/Git-Bunch-0.61-2/blib/arch:/home/cpansand/.cpan/build/2017062112/Git-Bunch-0.61-2/blib/lib:/home/cpansand/.cpan/build/2017062112/Log-ger-0.001-2/blib/arch:/home/cpansand/.cpan/build/2017062112/Log-ger-0.001-2/blib/lib:/home/cpansand/.cpan/build/2017062112/App-rsync-new2old-0.006-2/blib/arch:/home/cpansand/.cpan/build/2017062112/App-rsync-new2old-0.006-2/blib/lib"
PERL5OPT=""
PERL5_CPANPLUS_IS_RUNNING="9804"
PERL5_CPAN_IS_RUNNING="9804"
PERL5_CPAN_IS_RUNNING_IN_RECURSION="9688,9804"
PERLDOC="-MPod::Perldoc::ToTextOverstrike"
PERL_BATCH="yes"
PERL_CANARY_STABILITY_NOPROMPT="1"
PERL_CPAN_REPORTER_CONFIG="/var/tmp/cpansmoker-1023/2017062112/cpanreporter_000_config.ini"
PERL_EXTUTILS_AUTOINSTALL="--defaultdeps"
PERL_PARALLEL_SMOKER="yes"
PERL_USE_UNSAFE_INC="1"
@INC:
/home/cpansand/.cpan/build/2017062112/B-Generate-1.55-2/blib/arch
/home/cpansand/.cpan/build/2017062112/B-Generate-1.55-2/blib/lib
/home/cpansand/.cpan/build/2017062112/B-CallChecker-0.001-2/blib/arch
/home/cpansand/.cpan/build/2017062112/B-CallChecker-0.001-2/blib/lib
/home/cpansand/.cpan/build/2017062112/Git-Bunch-0.61-2/blib/arch
/home/cpansand/.cpan/build/2017062112/Git-Bunch-0.61-2/blib/lib
/home/cpansand/.cpan/build/2017062112/Log-ger-0.001-2/blib/arch
/home/cpansand/.cpan/build/2017062112/Log-ger-0.001-2/blib/lib
/home/cpansand/.cpan/build/2017062112/App-rsync-new2old-0.006-2/blib/arch
/home/cpansand/.cpan/build/2017062112/App-rsync-new2old-0.006-2/blib/lib
/opt/perl-5.24.0/lib/site_perl/5.24.0/x86_64-linux
/opt/perl-5.24.0/lib/site_perl/5.24.0
/opt/perl-5.24.0/lib/5.24.0/x86_64-linux
/opt/perl-5.24.0/lib/5.24.0
.