Data-Sah-JS v0.87 Perl 5 v5.28.2 x86_64-linux

Status
Pass
From
Slaven Rezić
Dist
Data-Sah-JS v0.87
Platform
Perl 5 v5.28.2 x86_64-linux
Date
2021-07-29 16:11:37
ID
a70a2e56-f087-11eb-9aa7-f74d1f24ea8f
This distribution has been tested as part of the CPAN Testers
project, supporting the Perl programming language.  See
http://wiki.cpantesters.org/ for more information or email
questions to cpan-testers-discuss@perl.org


--
Dear perlancar,

This is a computer-generated report for Data-Sah-JS-0.87
on perl 5.28.2, created by CPAN-Reporter-1.2018.

Thank you for uploading your work to CPAN.  Congratulations!
All tests were successful.

Sections of this report:

    * Tester comments
    * Program output
    * Prerequisites
    * Environment and other context

------------------------------
TESTER COMMENTS
------------------------------

Additional comments from tester:

none provided

------------------------------
PROGRAM OUTPUT
------------------------------

Output from '/usr/bin/make test':

PERL_DL_NONLAZY=1 "/opt/perl-5.28.2/bin/perl" "-MExtUtils::Command::MM" "-MTest::Harness" "-e" "undef *Test::Harness::Switches; test_harness(0, 'blib/lib', 'blib/arch')" t/*.t
t/00-compile.t ........... ok
    # node.js not available, skipping JS test
t/99-various.t ........... ok
t/author-pod-coverage.t .. skipped: these tests are for testing by the author
t/author-pod-syntax.t .... skipped: these tests are for testing by the author
t/js-misc.t .............. skipped: node.js is not available
t/js-type-date.t ......... skipped: node.js is not available
t/js-type-duration.t ..... skipped: node.js is not available
t/spectest-js.t .......... skipped: node.js is not available
All tests successful.
Files=8, Tests=22,  1 wallclock secs ( 0.03 usr  0.01 sys +  0.63 cusr  0.18 csys =  0.85 CPU)
Result: PASS

------------------------------
PREREQUISITES
------------------------------

Prerequisite modules loaded:

requires:

    Module                        Need     Have    
    ----------------------------- -------- --------
    Capture::Tiny                 0        0.48    
    Data::Clean::JSON             0.11     0.392   
    Data::Sah                     0.84     0.908   
    Data::Sah::Coerce             0.014    0.049   
    Data::Sah::Compiler::Prog     0        0.908   
    Data::Sah::Compiler::Prog::TH 0        0.908   
    Data::Sah::Type::array        0        0.908   
    Data::Sah::Type::bool         0        0.908   
    Data::Sah::Type::buf          0        0.908   
    Data::Sah::Type::cistr        0        0.908   
    Data::Sah::Type::code         0        0.908   
    Data::Sah::Type::date         0        0.908   
    Data::Sah::Type::duration     0        0.908   
    Data::Sah::Type::float        0        0.908   
    Data::Sah::Type::hash         0        0.908   
    Data::Sah::Type::int          0        0.908   
    Data::Sah::Type::num          0        0.908   
    Data::Sah::Type::obj          0        0.908   
    Data::Sah::Type::re           0        0.908   
    Data::Sah::Type::str          0        0.908   
    Data::Sah::Type::undef        0        0.908   
    Exporter                      0        5.74    
    File::Temp                    0        0.2309  
    IPC::System::Options          0.27     0.339   
    JSON::MaybeXS                 0        1.004003
    Mo                            0        0.40    
    Nodejs::Util                  0.006    0.012   
    parent                        0        0.236   
    perl                          5.010001 5.028002
    Role::Tiny::With              0        2.002004
    Scalar::Util                  0        1.56    
    Scalar::Util::Numeric::PP     0        0.04    
    strict                        0        1.11    
    String::Indent                0        0.03    
    Test::Data::Sah               0.87     0.908   
    Test::More                    0.98     1.302183
    warnings                      0        1.42    

build_requires:

    Module                        Need     Have    
    ----------------------------- -------- --------
    ExtUtils::MakeMaker           0        7.62    
    File::Spec                    0        3.75    
    IO::Handle                    0        1.45    
    IPC::Open3                    0        1.20    
    Sah::SpecTest                 v0.9.42  0.9.49  
    Test::Exception               0        0.43    
    Test::More                    0.98     1.302183

configure_requires:

    Module                        Need     Have    
    ----------------------------- -------- --------
    ExtUtils::MakeMaker           0        7.62    


------------------------------
ENVIRONMENT AND OTHER CONTEXT
------------------------------

Environment variables:

    LANG = en_US.UTF-8
    PATH = /usr/local/bin:/usr/bin:/bin:/usr/local/sbin:/usr/sbin:/sbin:/home/cpansand/bin/linux-gnu:/home/cpansand/bin/sh:/home/cpansand/bin:/usr/games:/home/cpansand/devel:/home/eserte/src/srezic-misc/scripts
    PERL5LIB = /home/cpansand/.local/share/.cpan/build/2021072916/Data-Sah-Format-0.003-3/blib/arch:/home/cpansand/.local/share/.cpan/build/2021072916/Data-Sah-Format-0.003-3/blib/lib:/home/cpansand/.local/share/.cpan/build/2021072916/Perinci-CmdLine-Util-Config-1.725-3/blib/arch:/home/cpansand/.local/share/.cpan/build/2021072916/Perinci-CmdLine-Util-Config-1.725-3/blib/lib:/home/cpansand/.local/share/.cpan/build/2021072916/Data-Sah-Normalize-0.051-3/blib/arch:/home/cpansand/.local/share/.cpan/build/2021072916/Data-Sah-Normalize-0.051-3/blib/lib:/home/cpansand/.local/share/.cpan/build/2021072916/Acme-CPANModulesUtil-FeatureMatrix-0.005-3/blib/arch:/home/cpansand/.local/share/.cpan/build/2021072916/Acme-CPANModulesUtil-FeatureMatrix-0.005-3/blib/lib:/home/cpansand/.local/share/.cpan/build/2021072916/Data-Sah-Resolve-0.008-3/blib/arch:/home/cpansand/.local/share/.cpan/build/2021072916/Data-Sah-Resolve-0.008-3/blib/lib
    PERL5OPT = 
    PERL5_CPANPLUS_IS_RUNNING = 901989
    PERL5_CPAN_IS_RUNNING = 901989
    PERL5_CPAN_IS_RUNNING_IN_RECURSION = 895349,901989
    PERLDOC = -MPod::Perldoc::ToTextOverstrike
    PERL_BATCH = yes
    PERL_CANARY_STABILITY_NOPROMPT = 1
    PERL_CPAN_REPORTER_CONFIG = /var/tmp/cpansmoker-1023/2021072916/cpanreporter_000_config.ini
    PERL_EXTUTILS_AUTOINSTALL = --defaultdeps
    PERL_USE_UNSAFE_INC = 1
    SHELL = /usr/bin/zsh
    TERM = screen
    TMPDIR = /var/tmp/cpansmoker-1023/2021072916

Perl special variables (and OS-specific diagnostics, for MSWin32):

    $^X = /opt/perl-5.28.2/bin/perl
    $UID/$EUID = 1023 / 1023
    $GID = 1023 1023
    $EGID = 1023 1023

Perl module toolchain versions installed:

    Module              Have    
    ------------------- --------
    CPAN                2.20    
    CPAN::Meta          2.150010
    Cwd                 3.75    
    ExtUtils::CBuilder  0.280234
    ExtUtils::Command   7.62    
    ExtUtils::Install   2.18    
    ExtUtils::MakeMaker 7.62    
    ExtUtils::Manifest  1.73    
    ExtUtils::ParseXS   3.39    
    File::Spec          3.75    
    JSON                4.03    
    JSON::PP            4.06    
    Module::Build       0.4231  
    Module::Signature   0.83    
    Parse::CPAN::Meta   2.150010
    Test::Harness       3.42    
    Test::More          1.302183
    YAML                1.30    
    YAML::Syck          1.33    
    version             0.9929  


--

Summary of my perl5 (revision 5 version 28 subversion 2) configuration:
   
  Platform:
    osname=linux
    osvers=5.4.0-33-generic
    archname=x86_64-linux
    uname='linux cloud8.bbbike.org 5.4.0-33-generic #37-ubuntu smp thu may 21 12:53:59 utc 2020 x86_64 x86_64 x86_64 gnulinux '
    config_args='-ds -e -Dprefix=/opt/perl-5.28.2 -Dcf_email=srezic@cpan.org'
    hint=recommended
    useposix=true
    d_sigaction=define
    useithreads=undef
    usemultiplicity=undef
    use64bitint=define
    use64bitall=define
    uselongdouble=undef
    usemymalloc=n
    default_inc_excludes_dot=define
    bincompat5005=undef
  Compiler:
    cc='cc'
    ccflags ='-fwrapv -fno-strict-aliasing -pipe -fstack-protector-strong -I/usr/local/include -D_LARGEFILE_SOURCE -D_FILE_OFFSET_BITS=64'
    optimize='-O2'
    cppflags='-fwrapv -fno-strict-aliasing -pipe -fstack-protector-strong -I/usr/local/include'
    ccversion=''
    gccversion='9.3.0'
    gccosandvers=''
    intsize=4
    longsize=8
    ptrsize=8
    doublesize=8
    byteorder=12345678
    doublekind=3
    d_longlong=define
    longlongsize=8
    d_longdbl=define
    longdblsize=16
    longdblkind=3
    ivtype='long'
    ivsize=8
    nvtype='double'
    nvsize=8
    Off_t='off_t'
    lseeksize=8
    alignbytes=8
    prototype=define
  Linker and Libraries:
    ld='cc'
    ldflags =' -fstack-protector-strong -L/usr/local/lib'
    libpth=/usr/local/lib /usr/include/x86_64-linux-gnu /usr/lib /lib/x86_64-linux-gnu /lib/../lib /usr/lib/x86_64-linux-gnu /usr/lib/../lib /lib
    libs=-lpthread -lnsl -lgdbm -ldb -ldl -lm -lcrypt -lutil -lc
    perllibs=-lpthread -lnsl -ldl -lm -lcrypt -lutil -lc
    libc=libc-2.31.so
    so=so
    useshrplib=false
    libperl=libperl.a
    gnulibc_version='2.31'
  Dynamic Linking:
    dlsrc=dl_dlopen.xs
    dlext=so
    d_dlsymun=undef
    ccdlflags='-Wl,-E'
    cccdlflags='-fPIC'
    lddlflags='-shared -O2 -L/usr/local/lib -fstack-protector-strong'


Characteristics of this binary (from libperl): 
  Compile-time options:
    HAS_TIMES
    PERLIO_LAYERS
    PERL_COPY_ON_WRITE
    PERL_DONT_CREATE_GVSV
    PERL_MALLOC_WRAP
    PERL_OP_PARENT
    PERL_PRESERVE_IVUV
    USE_64_BIT_ALL
    USE_64_BIT_INT
    USE_LARGE_FILES
    USE_LOCALE
    USE_LOCALE_COLLATE
    USE_LOCALE_CTYPE
    USE_LOCALE_NUMERIC
    USE_LOCALE_TIME
    USE_PERLIO
    USE_PERL_ATOF
  Locally applied patches:
    Devel::PatchPerl 1.86
  Built under linux
  Compiled at May 31 2020 22:37:20
  %ENV:
    PERL5LIB="/home/cpansand/.local/share/.cpan/build/2021072916/Data-Sah-Format-0.003-3/blib/arch:/home/cpansand/.local/share/.cpan/build/2021072916/Data-Sah-Format-0.003-3/blib/lib:/home/cpansand/.local/share/.cpan/build/2021072916/Perinci-CmdLine-Util-Config-1.725-3/blib/arch:/home/cpansand/.local/share/.cpan/build/2021072916/Perinci-CmdLine-Util-Config-1.725-3/blib/lib:/home/cpansand/.local/share/.cpan/build/2021072916/Data-Sah-Normalize-0.051-3/blib/arch:/home/cpansand/.local/share/.cpan/build/2021072916/Data-Sah-Normalize-0.051-3/blib/lib:/home/cpansand/.local/share/.cpan/build/2021072916/Acme-CPANModulesUtil-FeatureMatrix-0.005-3/blib/arch:/home/cpansand/.local/share/.cpan/build/2021072916/Acme-CPANModulesUtil-FeatureMatrix-0.005-3/blib/lib:/home/cpansand/.local/share/.cpan/build/2021072916/Data-Sah-Resolve-0.008-3/blib/arch:/home/cpansand/.local/share/.cpan/build/2021072916/Data-Sah-Resolve-0.008-3/blib/lib"
    PERL5OPT=""
    PERL5_CPANPLUS_IS_RUNNING="901989"
    PERL5_CPAN_IS_RUNNING="901989"
    PERL5_CPAN_IS_RUNNING_IN_RECURSION="895349,901989"
    PERLDOC="-MPod::Perldoc::ToTextOverstrike"
    PERL_BATCH="yes"
    PERL_CANARY_STABILITY_NOPROMPT="1"
    PERL_CPAN_REPORTER_CONFIG="/var/tmp/cpansmoker-1023/2021072916/cpanreporter_000_config.ini"
    PERL_EXTUTILS_AUTOINSTALL="--defaultdeps"
    PERL_USE_UNSAFE_INC="1"
  @INC:
    /home/cpansand/.local/share/.cpan/build/2021072916/Data-Sah-Format-0.003-3/blib/arch
    /home/cpansand/.local/share/.cpan/build/2021072916/Data-Sah-Format-0.003-3/blib/lib
    /home/cpansand/.local/share/.cpan/build/2021072916/Perinci-CmdLine-Util-Config-1.725-3/blib/arch
    /home/cpansand/.local/share/.cpan/build/2021072916/Perinci-CmdLine-Util-Config-1.725-3/blib/lib
    /home/cpansand/.local/share/.cpan/build/2021072916/Data-Sah-Normalize-0.051-3/blib/arch
    /home/cpansand/.local/share/.cpan/build/2021072916/Data-Sah-Normalize-0.051-3/blib/lib
    /home/cpansand/.local/share/.cpan/build/2021072916/Acme-CPANModulesUtil-FeatureMatrix-0.005-3/blib/arch
    /home/cpansand/.local/share/.cpan/build/2021072916/Acme-CPANModulesUtil-FeatureMatrix-0.005-3/blib/lib
    /home/cpansand/.local/share/.cpan/build/2021072916/Data-Sah-Resolve-0.008-3/blib/arch
    /home/cpansand/.local/share/.cpan/build/2021072916/Data-Sah-Resolve-0.008-3/blib/lib
    /opt/perl-5.28.2/lib/site_perl/5.28.2/x86_64-linux
    /opt/perl-5.28.2/lib/site_perl/5.28.2
    /opt/perl-5.28.2/lib/5.28.2/x86_64-linux
    /opt/perl-5.28.2/lib/5.28.2
    .