Mail-Mbox-MessageParser v1.5111 Perl 5 v5.20.0 i386-freebsd-thread-multi-64int
- Status
- Pass
- From
- Chris Williams (BINGOS)
- Dist
-
Mail-Mbox-MessageParser v1.5111
- Platform
- Perl 5 v5.20.0 i386-freebsd-thread-multi-64int
- Date
- 2018-07-16 16:31:12
- ID
- a706ac90-8915-11e8-bed3-aefc88cf513b
This distribution has been tested as part of the CPAN Testers
project, supporting the Perl programming language. See
http://wiki.cpantesters.org/ for more information or email
questions to cpan-testers-discuss@perl.org
--
Dear DCOPPIT,
This is a computer-generated error report created automatically by
CPANPLUS, version 0.9176. Testers personal comments may appear
at the end of this report.
Thank you for uploading your work to CPAN. Congratulations!
All tests were successful.
TEST RESULTS:
Below is the error stack from stage 'make test':
PERL_DL_NONLAZY=1 "/usr/home/cpan/pit/rel/perl-5.20.0/bin/perl" "-MExtUtils::Command::MM" "-MTest::Harness" "-e" "undef *Test::Harness::Switches; test_harness(1, 'blib/lib', 'blib/arch')" t/*.t
t/000_standard__compile.t .......
1..6
ok 1 - Compile test for blib/lib/Mail/Mbox/MessageParser.pm
ok 2 - Compile test for blib/lib/Mail/Mbox/MessageParser/Perl.pm
ok 3 - Compile test for blib/lib/Mail/Mbox/MessageParser/Grep.pm
ok 4 - Compile test for blib/lib/Mail/Mbox/MessageParser/Config.pm
ok 5 - Compile test for blib/lib/Mail/Mbox/MessageParser/Cache.pm
ok 6 - Compile test for blib/lib/Mail/Mbox/MessageParser/MetaInfo.pm
ok
t/000_standard__perl_critic.t ... skipped: Author test. Set $ENV{TEST_AUTHOR} to a true value to run.
t/000_standard__pod.t ........... skipped: Test::Pod required for testing POD
t/000_standard__pod_coverage.t .. skipped: Test::Pod::Coverage required for testing POD coverage
t/appended_mailbox.t ............
1..6
Testing modified mailbox with Perl implementation
Comparing /tmp/CPiZGJkyuU to t/mailboxes/mailarc-1.txt
Output /tmp/CPiZGJkyuU looks good.
ok 1 - Computing differences
Testing modified mailbox with Cache implementation
Comparing /tmp/WA053_J_HV to t/mailboxes/mailarc-1.txt
Output /tmp/WA053_J_HV looks good.
ok 2 - Computing differences
Testing modified mailbox with Grep implementation
ok 3 # skip GNU grep not available
Testing modified mailbox with Perl implementation
Comparing /tmp/SU2fWXeH7I to t/mailboxes/mailarc-1.txt
Output /tmp/SU2fWXeH7I looks good.
ok 4 - Computing differences
Testing modified mailbox with Cache implementation
Comparing /tmp/SWELpjRUOp to t/mailboxes/mailarc-1.txt
Output /tmp/SWELpjRUOp looks good.
ok 5 - Computing differences
Testing modified mailbox with Grep implementation
ok 6 # skip GNU grep not available
ok
t/bzip2.t .......................
1..1
Running test:
"/bin/cat" "t/mailboxes/mailarc-2.txt.bz2" | "/usr/bin/bzip2" -cd
Comparing /tmp/k0j2DtrlQh to t/results/mailarc-2.txt
Output /tmp/k0j2DtrlQh looks good.
Comparing /tmp/TNLWHZNsxt to t/results/none
Output /tmp/TNLWHZNsxt looks good.
ok 1 - Computing differences
ok
t/endline.t .....................
1..8
Testing filename: t/mailboxes/mailarc-1-dos.txt
ok 1 - Dos endline expected
ok 2 - Dos endline expected
ok 3 - Dos endline expected
ok 4 # skip GNU grep not available
Testing filename: t/mailboxes/mailarc-1.txt
ok 5 - Unix endline expected
ok 6 - Unix endline expected
ok 7 - Unix endline expected
ok 8 # skip GNU grep not available
ok
t/filehandle_compressed.t .......
1..16
Testing filename: t/mailboxes/mailarc-2.txt.bz2
Comparing /tmp/9aCS9N3K0W to t/mailboxes/mailarc-2.txt
Output /tmp/9aCS9N3K0W looks good.
ok 1 - Computing differences
Comparing /tmp/natQd6yBqP to t/mailboxes/mailarc-2.txt
Output /tmp/natQd6yBqP looks good.
ok 2 - Computing differences
Comparing /tmp/elhV_q7sl0 to t/mailboxes/mailarc-2.txt
Output /tmp/elhV_q7sl0 looks good.
ok 3 - Computing differences
ok 4 # skip GNU grep not available
Testing filename: t/mailboxes/mailarc-2.txt.gz
Comparing /tmp/xZXn6NnXrf to t/mailboxes/mailarc-2.txt
Output /tmp/xZXn6NnXrf looks good.
ok 5 - Computing differences
Comparing /tmp/slfZn8lemS to t/mailboxes/mailarc-2.txt
Output /tmp/slfZn8lemS looks good.
ok 6 - Computing differences
Comparing /tmp/L77_I0cK9A to t/mailboxes/mailarc-2.txt
Output /tmp/L77_I0cK9A looks good.
ok 7 - Computing differences
ok 8 # skip GNU grep not available
Testing filename: t/mailboxes/mailarc-2.txt.lz
ok 9 # skip lzip not available
ok 10 # skip lzip not available
ok 11 # skip lzip not available
ok 12 # skip lzip not available
Testing filename: t/mailboxes/mailarc-2.txt.xz
Comparing /tmp/yzvW37IPdM to t/mailboxes/mailarc-2.txt
Output /tmp/yzvW37IPdM looks good.
ok 13 - Computing differences
Comparing /tmp/BdhHDZRkWp to t/mailboxes/mailarc-2.txt
Output /tmp/BdhHDZRkWp looks good.
ok 14 - Computing differences
Comparing /tmp/bbxfk0_RYV to t/mailboxes/mailarc-2.txt
Output /tmp/bbxfk0_RYV looks good.
ok 15 - Computing differences
ok 16 # skip GNU grep not available
ok
t/filehandle_noncompressed.t ....
1..44
Testing filename: t/mailboxes/binary_body.txt
Comparing /tmp/l1xTVNqYWc to t/mailboxes/binary_body.txt
Output /tmp/l1xTVNqYWc looks good.
ok 1 - Computing differences
Comparing /tmp/4G4hjoKtt5 to t/mailboxes/binary_body.txt
Output /tmp/4G4hjoKtt5 looks good.
ok 2 - Computing differences
Comparing /tmp/UBfJx8qJRq to t/mailboxes/binary_body.txt
Output /tmp/UBfJx8qJRq looks good.
ok 3 - Computing differences
ok 4 # skip GNU grep not available
Testing filename: t/mailboxes/hessbug.txt
Comparing /tmp/t2v3SjTN6v to t/mailboxes/hessbug.txt
Output /tmp/t2v3SjTN6v looks good.
ok 5 - Computing differences
Comparing /tmp/KyAlhHtI4N to t/mailboxes/hessbug.txt
Output /tmp/KyAlhHtI4N looks good.
ok 6 - Computing differences
Comparing /tmp/ORfaCidySR to t/mailboxes/hessbug.txt
Output /tmp/ORfaCidySR looks good.
ok 7 - Computing differences
ok 8 # skip GNU grep not available
Testing filename: t/mailboxes/invalid-boundaries.txt
Comparing /tmp/hodhqwoV_h to t/mailboxes/invalid-boundaries.txt
Output /tmp/hodhqwoV_h looks good.
ok 9 - Computing differences
Comparing /tmp/updQD2OgkL to t/mailboxes/invalid-boundaries.txt
Output /tmp/updQD2OgkL looks good.
ok 10 - Computing differences
Comparing /tmp/KPtnWTZU0P to t/mailboxes/invalid-boundaries.txt
Output /tmp/KPtnWTZU0P looks good.
ok 11 - Computing differences
ok 12 # skip GNU grep not available
Testing filename: t/mailboxes/mailarc-1-dos.txt
Comparing /tmp/A_th5VAMNs to t/mailboxes/mailarc-1-dos.txt
Output /tmp/A_th5VAMNs looks good.
ok 13 - Computing differences
Comparing /tmp/dlQVi5QTLx to t/mailboxes/mailarc-1-dos.txt
Output /tmp/dlQVi5QTLx looks good.
ok 14 - Computing differences
Comparing /tmp/suUihOu6f9 to t/mailboxes/mailarc-1-dos.txt
Output /tmp/suUihOu6f9 looks good.
ok 15 - Computing differences
ok 16 # skip GNU grep not available
Testing filename: t/mailboxes/mailarc-1.txt
Comparing /tmp/iB5iQxtVl1 to t/mailboxes/mailarc-1.txt
Output /tmp/iB5iQxtVl1 looks good.
ok 17 - Computing differences
Comparing /tmp/9cIMlDBsWq to t/mailboxes/mailarc-1.txt
Output /tmp/9cIMlDBsWq looks good.
ok 18 - Computing differences
Comparing /tmp/dNBbQBRUWu to t/mailboxes/mailarc-1.txt
Output /tmp/dNBbQBRUWu looks good.
ok 19 - Computing differences
ok 20 # skip GNU grep not available
Testing filename: t/mailboxes/mailarc-2.txt
Comparing /tmp/kZ0TjlBJ8h to t/mailboxes/mailarc-2.txt
Output /tmp/kZ0TjlBJ8h looks good.
ok 21 - Computing differences
Comparing /tmp/6eySF4eOb8 to t/mailboxes/mailarc-2.txt
Output /tmp/6eySF4eOb8 looks good.
ok 22 - Computing differences
Comparing /tmp/0sEXpYWxMr to t/mailboxes/mailarc-2.txt
Output /tmp/0sEXpYWxMr looks good.
ok 23 - Computing differences
ok 24 # skip GNU grep not available
Testing filename: t/mailboxes/mailarc-3.txt
Comparing /tmp/Y8uNeEsEVA to t/mailboxes/mailarc-3.txt
Output /tmp/Y8uNeEsEVA looks good.
ok 25 - Computing differences
Comparing /tmp/7OhgQ6dC24 to t/mailboxes/mailarc-3.txt
Output /tmp/7OhgQ6dC24 looks good.
ok 26 - Computing differences
Comparing /tmp/6sKtsyvo_n to t/mailboxes/mailarc-3.txt
Output /tmp/6sKtsyvo_n looks good.
ok 27 - Computing differences
ok 28 # skip GNU grep not available
Testing filename: t/mailboxes/mailseparators.txt
Comparing /tmp/Kt4Pmppvcc to t/mailboxes/mailseparators.txt
Output /tmp/Kt4Pmppvcc looks good.
ok 29 - Computing differences
Comparing /tmp/h2I0w0EbKp to t/mailboxes/mailseparators.txt
Output /tmp/h2I0w0EbKp looks good.
ok 30 - Computing differences
Comparing /tmp/eliBaoK6HE to t/mailboxes/mailseparators.txt
Output /tmp/eliBaoK6HE looks good.
ok 31 - Computing differences
ok 32 # skip GNU grep not available
Testing filename: t/mailboxes/malformed.txt
Comparing /tmp/sFJZzgK3yd to t/mailboxes/malformed.txt
Output /tmp/sFJZzgK3yd looks good.
ok 33 - Computing differences
Comparing /tmp/EGKC9cCUlI to t/mailboxes/malformed.txt
Output /tmp/EGKC9cCUlI looks good.
ok 34 - Computing differences
Comparing /tmp/UeYvE_6cF5 to t/mailboxes/malformed.txt
Output /tmp/UeYvE_6cF5 looks good.
ok 35 - Computing differences
ok 36 # skip GNU grep not available
Testing filename: t/mailboxes/newlines_at_beginning.txt
Comparing /tmp/bRdqmibcsO to t/mailboxes/newlines_at_beginning.txt
Output /tmp/bRdqmibcsO looks good.
ok 37 - Computing differences
Comparing /tmp/1JgzGVzLG2 to t/mailboxes/newlines_at_beginning.txt
Output /tmp/1JgzGVzLG2 looks good.
ok 38 - Computing differences
Comparing /tmp/4QYsDiuT6d to t/mailboxes/newlines_at_beginning.txt
Output /tmp/4QYsDiuT6d looks good.
ok 39 - Computing differences
ok 40 # skip GNU grep not available
Testing filename: t/mailboxes/vm-emacs.txt
Comparing /tmp/xSXncmpbqG to t/mailboxes/vm-emacs.txt
Output /tmp/xSXncmpbqG looks good.
ok 41 - Computing differences
Comparing /tmp/IohJ4le0BD to t/mailboxes/vm-emacs.txt
Output /tmp/IohJ4le0BD looks good.
ok 42 - Computing differences
Comparing /tmp/FmAmOMnaTN to t/mailboxes/vm-emacs.txt
Output /tmp/FmAmOMnaTN looks good.
ok 43 - Computing differences
ok 44 # skip GNU grep not available
ok
t/filename_compressed.t .........
1..4
Testing filename: t/mailboxes/mailarc-2.txt.bz2
Comparing /tmp/uHX1foAtew to t/mailboxes/mailarc-2.txt
Output /tmp/uHX1foAtew looks good.
ok 1 - Computing differences
Testing filename: t/mailboxes/mailarc-2.txt.gz
Comparing /tmp/QmuDfUNBR1 to t/mailboxes/mailarc-2.txt
Output /tmp/QmuDfUNBR1 looks good.
ok 2 - Computing differences
Testing filename: t/mailboxes/mailarc-2.txt.lz
ok 3 # skip lzip not available
Testing filename: t/mailboxes/mailarc-2.txt.xz
Comparing /tmp/uu6hyF21tV to t/mailboxes/mailarc-2.txt
Output /tmp/uu6hyF21tV looks good.
ok 4 - Computing differences
ok
t/filename_noncompressed.t ......
1..11
Testing filename: t/mailboxes/binary_body.txt
Comparing /tmp/ZRqm2BBqFq to t/mailboxes/binary_body.txt
Output /tmp/ZRqm2BBqFq looks good.
ok 1 - Computing differences
Testing filename: t/mailboxes/hessbug.txt
Comparing /tmp/iuP2CNkDH8 to t/mailboxes/hessbug.txt
Output /tmp/iuP2CNkDH8 looks good.
ok 2 - Computing differences
Testing filename: t/mailboxes/invalid-boundaries.txt
Comparing /tmp/jp2XITIQKG to t/mailboxes/invalid-boundaries.txt
Output /tmp/jp2XITIQKG looks good.
ok 3 - Computing differences
Testing filename: t/mailboxes/mailarc-1-dos.txt
Comparing /tmp/D513r6ENvz to t/mailboxes/mailarc-1-dos.txt
Output /tmp/D513r6ENvz looks good.
ok 4 - Computing differences
Testing filename: t/mailboxes/mailarc-1.txt
Comparing /tmp/QdWPVeosLT to t/mailboxes/mailarc-1.txt
Output /tmp/QdWPVeosLT looks good.
ok 5 - Computing differences
Testing filename: t/mailboxes/mailarc-2.txt
Comparing /tmp/c2IEQqRcGJ to t/mailboxes/mailarc-2.txt
Output /tmp/c2IEQqRcGJ looks good.
ok 6 - Computing differences
Testing filename: t/mailboxes/mailarc-3.txt
Comparing /tmp/IlOErgUaVv to t/mailboxes/mailarc-3.txt
Output /tmp/IlOErgUaVv looks good.
ok 7 - Computing differences
Testing filename: t/mailboxes/mailseparators.txt
Comparing /tmp/phnt8gKaqD to t/mailboxes/mailseparators.txt
Output /tmp/phnt8gKaqD looks good.
ok 8 - Computing differences
Testing filename: t/mailboxes/malformed.txt
Comparing /tmp/RlauFgmCUj to t/mailboxes/malformed.txt
Output /tmp/RlauFgmCUj looks good.
ok 9 - Computing differences
Testing filename: t/mailboxes/newlines_at_beginning.txt
Comparing /tmp/y3OAdRDLQB to t/mailboxes/newlines_at_beginning.txt
Output /tmp/y3OAdRDLQB looks good.
ok 10 - Computing differences
Testing filename: t/mailboxes/vm-emacs.txt
Comparing /tmp/Ggi0eTlw2E to t/mailboxes/vm-emacs.txt
Output /tmp/Ggi0eTlw2E looks good.
ok 11 - Computing differences
ok
t/grep.t ........................
1..4
Running test:
unset LC_ALL LC_COLLATE LANG LC_CTYPE LC_MESSAGES; grep --extended-regexp --line-number --byte-offset --binary-files=text "^From [^:]+(:[0-9][0-9]){1,2}( *([A-Z]{2,6}|[+-]?[0-9]{4})){1,3}( remote from .*)?
?$" t/mailboxes/mailarc-1.txt
ok 1 # skip 1
Running test:
unset LC_ALL LC_COLLATE LANG LC_CTYPE LC_MESSAGES; grep --extended-regexp --line-number --byte-offset --binary-files=text "^From [^:]+(:[0-9][0-9]){1,2}( *([A-Z]{2,6}|[+-]?[0-9]{4})){1,3}( remote from .*)?
?$" t/mailboxes/mailarc-2.txt
ok 2 # skip 1
Running test:
unset LC_ALL LC_COLLATE LANG LC_CTYPE LC_MESSAGES; grep --extended-regexp --line-number --byte-offset --binary-files=text "^From [^:]+(:[0-9][0-9]){1,2}( *([A-Z]{2,6}|[+-]?[0-9]{4})){1,3}( remote from .*)?
?$" t/mailboxes/mailarc-3.txt
ok 3 # skip 1
Running test:
unset LC_ALL LC_COLLATE LANG LC_CTYPE LC_MESSAGES; grep --extended-regexp --line-number --byte-offset --binary-files=text "^From [^:]+(:[0-9][0-9]){1,2}( *([A-Z]{2,6}|[+-]?[0-9]{4})){1,3}( remote from .*)?
?$" t/mailboxes/mailseparators.txt
ok 4 # skip 1
ok
t/gzip.t ........................
1..1
Running test:
"/bin/cat" "t/mailboxes/mailarc-2.txt.gz" | "/usr/bin/gzip" -cd
Comparing /tmp/9FlOMt9tGd to t/results/mailarc-2.txt
Output /tmp/9FlOMt9tGd looks good.
Comparing /tmp/Y8PWdQrhup to t/results/none
Output /tmp/Y8PWdQrhup looks good.
ok 1 - Computing differences
ok
t/length.t ......................
1..30
Testing filename: t/mailboxes/binary_body.txt
Comparing /tmp/kGDQL1FLm4 to t/results/length_binary_body.stdout
Output /tmp/kGDQL1FLm4 looks good.
ok 1 - Computing differences
Comparing /tmp/urUndqf1DZ to t/results/length_binary_body.stdout
Output /tmp/urUndqf1DZ looks good.
ok 2 - Computing differences
ok 3 # skip GNU grep not available
Testing filename: t/mailboxes/hessbug.txt
Comparing /tmp/3OQ2c74ZtY to t/results/length_hessbug.stdout
Output /tmp/3OQ2c74ZtY looks good.
ok 4 - Computing differences
Comparing /tmp/vICNT2c1He to t/results/length_hessbug.stdout
Output /tmp/vICNT2c1He looks good.
ok 5 - Computing differences
ok 6 # skip GNU grep not available
Testing filename: t/mailboxes/invalid-boundaries.txt
Comparing /tmp/tyqC2mQga2 to t/results/length_invalid-boundaries.stdout
Output /tmp/tyqC2mQga2 looks good.
ok 7 - Computing differences
Comparing /tmp/wLcMF_KgYz to t/results/length_invalid-boundaries.stdout
Output /tmp/wLcMF_KgYz looks good.
ok 8 - Computing differences
ok 9 # skip GNU grep not available
Testing filename: t/mailboxes/mailarc-1-dos.txt
Comparing /tmp/BGoUweW_dX to t/results/length_mailarc-1-dos.stdout
Output /tmp/BGoUweW_dX looks good.
ok 10 - Computing differences
Comparing /tmp/e0BBHKk0pZ to t/results/length_mailarc-1-dos.stdout
Output /tmp/e0BBHKk0pZ looks good.
ok 11 - Computing differences
ok 12 # skip GNU grep not available
Testing filename: t/mailboxes/mailarc-1.txt
Comparing /tmp/pFwZKKU_Jn to t/results/length_mailarc-1.stdout
Output /tmp/pFwZKKU_Jn looks good.
ok 13 - Computing differences
Comparing /tmp/AAdp8yDp92 to t/results/length_mailarc-1.stdout
Output /tmp/AAdp8yDp92 looks good.
ok 14 - Computing differences
ok 15 # skip GNU grep not available
Testing filename: t/mailboxes/mailarc-2.txt
Comparing /tmp/KKSBNPUDSC to t/results/length_mailarc-2.stdout
Output /tmp/KKSBNPUDSC looks good.
ok 16 - Computing differences
Comparing /tmp/WOQ5HffNxg to t/results/length_mailarc-2.stdout
Output /tmp/WOQ5HffNxg looks good.
ok 17 - Computing differences
ok 18 # skip GNU grep not available
Testing filename: t/mailboxes/mailarc-3.txt
Comparing /tmp/1fqI4rqtfR to t/results/length_mailarc-3.stdout
Output /tmp/1fqI4rqtfR looks good.
ok 19 - Computing differences
Comparing /tmp/AGQw0X2fcm to t/results/length_mailarc-3.stdout
Output /tmp/AGQw0X2fcm looks good.
ok 20 - Computing differences
ok 21 # skip GNU grep not available
Testing filename: t/mailboxes/mailseparators.txt
Comparing /tmp/1PoD7t2wle to t/results/length_mailseparators.stdout
Output /tmp/1PoD7t2wle looks good.
ok 22 - Computing differences
Comparing /tmp/5WWZDeCqSD to t/results/length_mailseparators.stdout
Output /tmp/5WWZDeCqSD looks good.
ok 23 - Computing differences
ok 24 # skip GNU grep not available
Testing filename: t/mailboxes/malformed.txt
Comparing /tmp/hn_az6cSAe to t/results/length_malformed.stdout
Output /tmp/hn_az6cSAe looks good.
ok 25 - Computing differences
Comparing /tmp/lRGWaZfjRr to t/results/length_malformed.stdout
Output /tmp/lRGWaZfjRr looks good.
ok 26 - Computing differences
ok 27 # skip GNU grep not available
Testing filename: t/mailboxes/newlines_at_beginning.txt
Comparing /tmp/txUg32jXj6 to t/results/length_newlines_at_beginning.stdout
Output /tmp/txUg32jXj6 looks good.
ok 28 - Computing differences
Comparing /tmp/Cg4vHVQrMS to t/results/length_newlines_at_beginning.stdout
Output /tmp/Cg4vHVQrMS looks good.
ok 29 - Computing differences
ok 30 # skip GNU grep not available
ok
t/line_number.t .................
1..30
Testing filename: t/mailboxes/binary_body.txt
Comparing /tmp/QvhbwuyMhF to t/results/line_number_binary_body.stdout
Output /tmp/QvhbwuyMhF looks good.
ok 1 - Computing differences
Comparing /tmp/u3m8DhB8QT to t/results/line_number_binary_body.stdout
Output /tmp/u3m8DhB8QT looks good.
ok 2 - Computing differences
ok 3 # skip GNU grep not available
Testing filename: t/mailboxes/hessbug.txt
Comparing /tmp/dikD6TyIE8 to t/results/line_number_hessbug.stdout
Output /tmp/dikD6TyIE8 looks good.
ok 4 - Computing differences
Comparing /tmp/Gwk_TfBXjk to t/results/line_number_hessbug.stdout
Output /tmp/Gwk_TfBXjk looks good.
ok 5 - Computing differences
ok 6 # skip GNU grep not available
Testing filename: t/mailboxes/invalid-boundaries.txt
Comparing /tmp/s9jAIOtudn to t/results/line_number_invalid-boundaries.stdout
Output /tmp/s9jAIOtudn looks good.
ok 7 - Computing differences
Comparing /tmp/mszJ_CwC2h to t/results/line_number_invalid-boundaries.stdout
Output /tmp/mszJ_CwC2h looks good.
ok 8 - Computing differences
ok 9 # skip GNU grep not available
Testing filename: t/mailboxes/mailarc-1-dos.txt
Comparing /tmp/VvDKiNxPJr to t/results/line_number_mailarc-1-dos.stdout
Output /tmp/VvDKiNxPJr looks good.
ok 10 - Computing differences
Comparing /tmp/vJ4TEhGOEc to t/results/line_number_mailarc-1-dos.stdout
Output /tmp/vJ4TEhGOEc looks good.
ok 11 - Computing differences
ok 12 # skip GNU grep not available
Testing filename: t/mailboxes/mailarc-1.txt
Comparing /tmp/THbz1B_CtH to t/results/line_number_mailarc-1.stdout
Output /tmp/THbz1B_CtH looks good.
ok 13 - Computing differences
Comparing /tmp/w4jrP02TYk to t/results/line_number_mailarc-1.stdout
Output /tmp/w4jrP02TYk looks good.
ok 14 - Computing differences
ok 15 # skip GNU grep not available
Testing filename: t/mailboxes/mailarc-2.txt
Comparing /tmp/dVjG7bWL1R to t/results/line_number_mailarc-2.stdout
Output /tmp/dVjG7bWL1R looks good.
ok 16 - Computing differences
Comparing /tmp/_B9d1ncmWv to t/results/line_number_mailarc-2.stdout
Output /tmp/_B9d1ncmWv looks good.
ok 17 - Computing differences
ok 18 # skip GNU grep not available
Testing filename: t/mailboxes/mailarc-3.txt
Comparing /tmp/cHeBCuh4ax to t/results/line_number_mailarc-3.stdout
Output /tmp/cHeBCuh4ax looks good.
ok 19 - Computing differences
Comparing /tmp/HATiQizYij to t/results/line_number_mailarc-3.stdout
Output /tmp/HATiQizYij looks good.
ok 20 - Computing differences
ok 21 # skip GNU grep not available
Testing filename: t/mailboxes/mailseparators.txt
Comparing /tmp/u7ZqN_kFYM to t/results/line_number_mailseparators.stdout
Output /tmp/u7ZqN_kFYM looks good.
ok 22 - Computing differences
Comparing /tmp/fsmKpkT_EL to t/results/line_number_mailseparators.stdout
Output /tmp/fsmKpkT_EL looks good.
ok 23 - Computing differences
ok 24 # skip GNU grep not available
Testing filename: t/mailboxes/malformed.txt
Comparing /tmp/Wz8fXwxvm7 to t/results/line_number_malformed.stdout
Output /tmp/Wz8fXwxvm7 looks good.
ok 25 - Computing differences
Comparing /tmp/o05L77Xc0G to t/results/line_number_malformed.stdout
Output /tmp/o05L77Xc0G looks good.
ok 26 - Computing differences
ok 27 # skip GNU grep not available
Testing filename: t/mailboxes/newlines_at_beginning.txt
Comparing /tmp/svcOenbfhm to t/results/line_number_newlines_at_beginning.stdout
Output /tmp/svcOenbfhm looks good.
ok 28 - Computing differences
Comparing /tmp/tQLU9o05uq to t/results/line_number_newlines_at_beginning.stdout
Output /tmp/tQLU9o05uq looks good.
ok 29 - Computing differences
ok 30 # skip GNU grep not available
ok
t/lzip.t ........................
1..1
Running test:
"/bin/cat" "t/mailboxes/mailarc-2.txt.lz" | "lzip" -cd
ok 1 # skip lzip not available
ok
t/number.t ......................
1..30
Testing filename: t/mailboxes/binary_body.txt
Comparing /tmp/ifYt3Y1mFQ to t/results/number_binary_body.stdout
Output /tmp/ifYt3Y1mFQ looks good.
ok 1 - Computing differences
Comparing /tmp/ETSrZVSN2t to t/results/number_binary_body.stdout
Output /tmp/ETSrZVSN2t looks good.
ok 2 - Computing differences
ok 3 # skip GNU grep not available
Testing filename: t/mailboxes/hessbug.txt
Comparing /tmp/WmtPTjukMt to t/results/number_hessbug.stdout
Output /tmp/WmtPTjukMt looks good.
ok 4 - Computing differences
Comparing /tmp/_QYJ72zbdE to t/results/number_hessbug.stdout
Output /tmp/_QYJ72zbdE looks good.
ok 5 - Computing differences
ok 6 # skip GNU grep not available
Testing filename: t/mailboxes/invalid-boundaries.txt
Comparing /tmp/TEzyora4aU to t/results/number_invalid-boundaries.stdout
Output /tmp/TEzyora4aU looks good.
ok 7 - Computing differences
Comparing /tmp/QX5s_AX1bU to t/results/number_invalid-boundaries.stdout
Output /tmp/QX5s_AX1bU looks good.
ok 8 - Computing differences
ok 9 # skip GNU grep not available
Testing filename: t/mailboxes/mailarc-1-dos.txt
Comparing /tmp/CZ82WJvvcw to t/results/number_mailarc-1-dos.stdout
Output /tmp/CZ82WJvvcw looks good.
ok 10 - Computing differences
Comparing /tmp/AhPMqk7t0B to t/results/number_mailarc-1-dos.stdout
Output /tmp/AhPMqk7t0B looks good.
ok 11 - Computing differences
ok 12 # skip GNU grep not available
Testing filename: t/mailboxes/mailarc-1.txt
Comparing /tmp/6CBVH5UTLw to t/results/number_mailarc-1.stdout
Output /tmp/6CBVH5UTLw looks good.
ok 13 - Computing differences
Comparing /tmp/Ecls8ebdWh to t/results/number_mailarc-1.stdout
Output /tmp/Ecls8ebdWh looks good.
ok 14 - Computing differences
ok 15 # skip GNU grep not available
Testing filename: t/mailboxes/mailarc-2.txt
Comparing /tmp/dCt05Yf3cJ to t/results/number_mailarc-2.stdout
Output /tmp/dCt05Yf3cJ looks good.
ok 16 - Computing differences
Comparing /tmp/TanPCg_n__ to t/results/number_mailarc-2.stdout
Output /tmp/TanPCg_n__ looks good.
ok 17 - Computing differences
ok 18 # skip GNU grep not available
Testing filename: t/mailboxes/mailarc-3.txt
Comparing /tmp/BVqOa1355T to t/results/number_mailarc-3.stdout
Output /tmp/BVqOa1355T looks good.
ok 19 - Computing differences
Comparing /tmp/tjQkvqppXg to t/results/number_mailarc-3.stdout
Output /tmp/tjQkvqppXg looks good.
ok 20 - Computing differences
ok 21 # skip GNU grep not available
Testing filename: t/mailboxes/mailseparators.txt
Comparing /tmp/r7cUkQbxQV to t/results/number_mailseparators.stdout
Output /tmp/r7cUkQbxQV looks good.
ok 22 - Computing differences
Comparing /tmp/M9lsUiexZv to t/results/number_mailseparators.stdout
Output /tmp/M9lsUiexZv looks good.
ok 23 - Computing differences
ok 24 # skip GNU grep not available
Testing filename: t/mailboxes/malformed.txt
Comparing /tmp/N3oOVPmPMK to t/results/number_malformed.stdout
Output /tmp/N3oOVPmPMK looks good.
ok 25 - Computing differences
Comparing /tmp/Y7oY9vW6tR to t/results/number_malformed.stdout
Output /tmp/Y7oY9vW6tR looks good.
ok 26 - Computing differences
ok 27 # skip GNU grep not available
Testing filename: t/mailboxes/newlines_at_beginning.txt
Comparing /tmp/FByGao9i_t to t/results/number_newlines_at_beginning.stdout
Output /tmp/FByGao9i_t looks good.
ok 28 - Computing differences
Comparing /tmp/E1s2eEIMfX to t/results/number_newlines_at_beginning.stdout
Output /tmp/E1s2eEIMfX looks good.
ok 29 - Computing differences
ok 30 # skip GNU grep not available
ok
t/offset.t ......................
1..30
Testing filename: t/mailboxes/binary_body.txt
Comparing /tmp/vBl3WZRMEW to t/results/offset_binary_body.stdout
Output /tmp/vBl3WZRMEW looks good.
ok 1 - Computing differences
Comparing /tmp/6hnjagP012 to t/results/offset_binary_body.stdout
Output /tmp/6hnjagP012 looks good.
ok 2 - Computing differences
ok 3 # skip GNU grep not available
Testing filename: t/mailboxes/hessbug.txt
Comparing /tmp/ZJArbCC2UZ to t/results/offset_hessbug.stdout
Output /tmp/ZJArbCC2UZ looks good.
ok 4 - Computing differences
Comparing /tmp/SgvfDues3u to t/results/offset_hessbug.stdout
Output /tmp/SgvfDues3u looks good.
ok 5 - Computing differences
ok 6 # skip GNU grep not available
Testing filename: t/mailboxes/invalid-boundaries.txt
Comparing /tmp/dYHGAu2JPy to t/results/offset_invalid-boundaries.stdout
Output /tmp/dYHGAu2JPy looks good.
ok 7 - Computing differences
Comparing /tmp/6eIF5aFCuj to t/results/offset_invalid-boundaries.stdout
Output /tmp/6eIF5aFCuj looks good.
ok 8 - Computing differences
ok 9 # skip GNU grep not available
Testing filename: t/mailboxes/mailarc-1-dos.txt
Comparing /tmp/eBsKIubsf1 to t/results/offset_mailarc-1-dos.stdout
Output /tmp/eBsKIubsf1 looks good.
ok 10 - Computing differences
Comparing /tmp/xiSbrXKFss to t/results/offset_mailarc-1-dos.stdout
Output /tmp/xiSbrXKFss looks good.
ok 11 - Computing differences
ok 12 # skip GNU grep not available
Testing filename: t/mailboxes/mailarc-1.txt
Comparing /tmp/MOFX0fwGcs to t/results/offset_mailarc-1.stdout
Output /tmp/MOFX0fwGcs looks good.
ok 13 - Computing differences
Comparing /tmp/e9RckBjRnX to t/results/offset_mailarc-1.stdout
Output /tmp/e9RckBjRnX looks good.
ok 14 - Computing differences
ok 15 # skip GNU grep not available
Testing filename: t/mailboxes/mailarc-2.txt
Comparing /tmp/T3bghsDjYh to t/results/offset_mailarc-2.stdout
Output /tmp/T3bghsDjYh looks good.
ok 16 - Computing differences
Comparing /tmp/z5HD_M3k7v to t/results/offset_mailarc-2.stdout
Output /tmp/z5HD_M3k7v looks good.
ok 17 - Computing differences
ok 18 # skip GNU grep not available
Testing filename: t/mailboxes/mailarc-3.txt
Comparing /tmp/d2azsq8gf8 to t/results/offset_mailarc-3.stdout
Output /tmp/d2azsq8gf8 looks good.
ok 19 - Computing differences
Comparing /tmp/QwesQb_EPM to t/results/offset_mailarc-3.stdout
Output /tmp/QwesQb_EPM looks good.
ok 20 - Computing differences
ok 21 # skip GNU grep not available
Testing filename: t/mailboxes/mailseparators.txt
Comparing /tmp/eUMI2Ph4fX to t/results/offset_mailseparators.stdout
Output /tmp/eUMI2Ph4fX looks good.
ok 22 - Computing differences
Comparing /tmp/_ZXLvkAMZ7 to t/results/offset_mailseparators.stdout
Output /tmp/_ZXLvkAMZ7 looks good.
ok 23 - Computing differences
ok 24 # skip GNU grep not available
Testing filename: t/mailboxes/malformed.txt
Comparing /tmp/ltQ4c1IO7C to t/results/offset_malformed.stdout
Output /tmp/ltQ4c1IO7C looks good.
ok 25 - Computing differences
Comparing /tmp/Fco9uJ0THc to t/results/offset_malformed.stdout
Output /tmp/Fco9uJ0THc looks good.
ok 26 - Computing differences
ok 27 # skip GNU grep not available
Testing filename: t/mailboxes/newlines_at_beginning.txt
Comparing /tmp/uoLbHI_RDZ to t/results/offset_newlines_at_beginning.stdout
Output /tmp/uoLbHI_RDZ looks good.
ok 28 - Computing differences
Comparing /tmp/QKPXPlKuMV to t/results/offset_newlines_at_beginning.stdout
Output /tmp/QKPXPlKuMV looks good.
ok 29 - Computing differences
ok 30 # skip GNU grep not available
ok
t/prologue.t ....................
1..33
Testing filename: t/mailboxes/binary_body.txt
Comparing /tmp/4VvOSUWyZy to t/mailboxes/binary_body.txt
Output /tmp/4VvOSUWyZy looks good.
ok 1 - Computing differences
Comparing /tmp/6iYSJSacwC to t/mailboxes/binary_body.txt
Output /tmp/6iYSJSacwC looks good.
ok 2 - Computing differences
ok 3 # skip GNU grep not available
Testing filename: t/mailboxes/hessbug.txt
Comparing /tmp/LNiEQkGx_s to t/mailboxes/hessbug.txt
Output /tmp/LNiEQkGx_s looks good.
ok 4 - Computing differences
Comparing /tmp/oScozyb1wr to t/mailboxes/hessbug.txt
Output /tmp/oScozyb1wr looks good.
ok 5 - Computing differences
ok 6 # skip GNU grep not available
Testing filename: t/mailboxes/invalid-boundaries.txt
Comparing /tmp/Rte6MPoGmu to t/mailboxes/invalid-boundaries.txt
Output /tmp/Rte6MPoGmu looks good.
ok 7 - Computing differences
Comparing /tmp/HQwE_IqC6H to t/mailboxes/invalid-boundaries.txt
Output /tmp/HQwE_IqC6H looks good.
ok 8 - Computing differences
ok 9 # skip GNU grep not available
Testing filename: t/mailboxes/mailarc-1-dos.txt
Comparing /tmp/uhz7zFWPHD to t/mailboxes/mailarc-1-dos.txt
Output /tmp/uhz7zFWPHD looks good.
ok 10 - Computing differences
Comparing /tmp/ApVceDDSUD to t/mailboxes/mailarc-1-dos.txt
Output /tmp/ApVceDDSUD looks good.
ok 11 - Computing differences
ok 12 # skip GNU grep not available
Testing filename: t/mailboxes/mailarc-1.txt
Comparing /tmp/1YtAEo8fdw to t/mailboxes/mailarc-1.txt
Output /tmp/1YtAEo8fdw looks good.
ok 13 - Computing differences
Comparing /tmp/WV_5HDCh7G to t/mailboxes/mailarc-1.txt
Output /tmp/WV_5HDCh7G looks good.
ok 14 - Computing differences
ok 15 # skip GNU grep not available
Testing filename: t/mailboxes/mailarc-2.txt
Comparing /tmp/ZL3qQbcvQt to t/mailboxes/mailarc-2.txt
Output /tmp/ZL3qQbcvQt looks good.
ok 16 - Computing differences
Comparing /tmp/DVD_1HqYHV to t/mailboxes/mailarc-2.txt
Output /tmp/DVD_1HqYHV looks good.
ok 17 - Computing differences
ok 18 # skip GNU grep not available
Testing filename: t/mailboxes/mailarc-3.txt
Comparing /tmp/PEJLFyHZ9Y to t/mailboxes/mailarc-3.txt
Output /tmp/PEJLFyHZ9Y looks good.
ok 19 - Computing differences
Comparing /tmp/iAjeePV5ph to t/mailboxes/mailarc-3.txt
Output /tmp/iAjeePV5ph looks good.
ok 20 - Computing differences
ok 21 # skip GNU grep not available
Testing filename: t/mailboxes/mailseparators.txt
Comparing /tmp/U8ylL5ck21 to t/mailboxes/mailseparators.txt
Output /tmp/U8ylL5ck21 looks good.
ok 22 - Computing differences
Comparing /tmp/fFFOS1qiRe to t/mailboxes/mailseparators.txt
Output /tmp/fFFOS1qiRe looks good.
ok 23 - Computing differences
ok 24 # skip GNU grep not available
Testing filename: t/mailboxes/malformed.txt
Comparing /tmp/gbQjXWsnUS to t/mailboxes/malformed.txt
Output /tmp/gbQjXWsnUS looks good.
ok 25 - Computing differences
Comparing /tmp/Vm15ybY05Y to t/mailboxes/malformed.txt
Output /tmp/Vm15ybY05Y looks good.
ok 26 - Computing differences
ok 27 # skip GNU grep not available
Testing filename: t/mailboxes/newlines_at_beginning.txt
Comparing /tmp/82LznyjtOC to t/mailboxes/newlines_at_beginning.txt
Output /tmp/82LznyjtOC looks good.
ok 28 - Computing differences
Comparing /tmp/n3GBPpMFKP to t/mailboxes/newlines_at_beginning.txt
Output /tmp/n3GBPpMFKP looks good.
ok 29 - Computing differences
ok 30 # skip GNU grep not available
Testing filename: t/mailboxes/vm-emacs.txt
Comparing /tmp/oo0F5FjfrG to t/mailboxes/vm-emacs.txt
Output /tmp/oo0F5FjfrG looks good.
ok 31 - Computing differences
Comparing /tmp/U3l3nFaAde to t/mailboxes/vm-emacs.txt
Output /tmp/U3l3nFaAde looks good.
ok 32 - Computing differences
ok 33 # skip GNU grep not available
ok
t/reset.t .......................
1..60
Testing filename: t/mailboxes/binary_body.txt
Testing partial mailbox reset with Perl implementation
Comparing /tmp/6L1HDU3Cre to t/results/reset_binary_body.stdout
Output /tmp/6L1HDU3Cre looks good.
ok 1 - Computing differences
Testing partial mailbox reset with Cache implementation
Comparing /tmp/VgK7Txd8tY to t/results/reset_binary_body.stdout
Output /tmp/VgK7Txd8tY looks good.
ok 2 - Computing differences
Testing partial mailbox reset with Grep implementation
ok 3 # skip GNU grep not available
Testing full mailbox reset with Perl implementation
Comparing /tmp/L4ZbHgGnWf to t/results/reset_binary_body.stdout
Output /tmp/L4ZbHgGnWf looks good.
ok 4 - Computing differences
Testing full mailbox reset with Cache implementation
Comparing /tmp/k7rImQ_cQY to t/results/reset_binary_body.stdout
Output /tmp/k7rImQ_cQY looks good.
ok 5 - Computing differences
Testing full mailbox reset with Grep implementation
ok 6 # skip GNU grep not available
Testing filename: t/mailboxes/hessbug.txt
Testing partial mailbox reset with Perl implementation
Comparing /tmp/cQiinx6uH7 to t/results/reset_hessbug.stdout
Output /tmp/cQiinx6uH7 looks good.
ok 7 - Computing differences
Testing partial mailbox reset with Cache implementation
Comparing /tmp/FK4loolKvT to t/results/reset_hessbug.stdout
Output /tmp/FK4loolKvT looks good.
ok 8 - Computing differences
Testing partial mailbox reset with Grep implementation
ok 9 # skip GNU grep not available
Testing full mailbox reset with Perl implementation
Comparing /tmp/FbqR6CRYoa to t/results/reset_hessbug.stdout
Output /tmp/FbqR6CRYoa looks good.
ok 10 - Computing differences
Testing full mailbox reset with Cache implementation
Comparing /tmp/4sxcQ7dFuL to t/results/reset_hessbug.stdout
Output /tmp/4sxcQ7dFuL looks good.
ok 11 - Computing differences
Testing full mailbox reset with Grep implementation
ok 12 # skip GNU grep not available
Testing filename: t/mailboxes/invalid-boundaries.txt
Testing partial mailbox reset with Perl implementation
Comparing /tmp/GdFd60gCui to t/results/reset_invalid-boundaries.stdout
Output /tmp/GdFd60gCui looks good.
ok 13 - Computing differences
Testing partial mailbox reset with Cache implementation
Comparing /tmp/co5SxLjCuo to t/results/reset_invalid-boundaries.stdout
Output /tmp/co5SxLjCuo looks good.
ok 14 - Computing differences
Testing partial mailbox reset with Grep implementation
ok 15 # skip GNU grep not available
Testing full mailbox reset with Perl implementation
Comparing /tmp/2qGWGJ4BlF to t/results/reset_invalid-boundaries.stdout
Output /tmp/2qGWGJ4BlF looks good.
ok 16 - Computing differences
Testing full mailbox reset with Cache implementation
Comparing /tmp/an5gOilYlg to t/results/reset_invalid-boundaries.stdout
Output /tmp/an5gOilYlg looks good.
ok 17 - Computing differences
Testing full mailbox reset with Grep implementation
ok 18 # skip GNU grep not available
Testing filename: t/mailboxes/mailarc-1-dos.txt
Testing partial mailbox reset with Perl implementation
Comparing /tmp/Q9IV_0t3Re to t/results/reset_mailarc-1-dos.stdout
Output /tmp/Q9IV_0t3Re looks good.
ok 19 - Computing differences
Testing partial mailbox reset with Cache implementation
Comparing /tmp/XsgEBdR4k2 to t/results/reset_mailarc-1-dos.stdout
Output /tmp/XsgEBdR4k2 looks good.
ok 20 - Computing differences
Testing partial mailbox reset with Grep implementation
ok 21 # skip GNU grep not available
Testing full mailbox reset with Perl implementation
Comparing /tmp/TFCKIsYt_i to t/results/reset_mailarc-1-dos.stdout
Output /tmp/TFCKIsYt_i looks good.
ok 22 - Computing differences
Testing full mailbox reset with Cache implementation
Comparing /tmp/WS26P1szMm to t/results/reset_mailarc-1-dos.stdout
Output /tmp/WS26P1szMm looks good.
ok 23 - Computing differences
Testing full mailbox reset with Grep implementation
ok 24 # skip GNU grep not available
Testing filename: t/mailboxes/mailarc-1.txt
Testing partial mailbox reset with Perl implementation
Comparing /tmp/EGt_VIljRO to t/results/reset_mailarc-1.stdout
Output /tmp/EGt_VIljRO looks good.
ok 25 - Computing differences
Testing partial mailbox reset with Cache implementation
Comparing /tmp/3f1M31SS4M to t/results/reset_mailarc-1.stdout
Output /tmp/3f1M31SS4M looks good.
ok 26 - Computing differences
Testing partial mailbox reset with Grep implementation
ok 27 # skip GNU grep not available
Testing full mailbox reset with Perl implementation
Comparing /tmp/651UbdfqEu to t/results/reset_mailarc-1.stdout
Output /tmp/651UbdfqEu looks good.
ok 28 - Computing differences
Testing full mailbox reset with Cache implementation
Comparing /tmp/qPhSdShqmC to t/results/reset_mailarc-1.stdout
Output /tmp/qPhSdShqmC looks good.
ok 29 - Computing differences
Testing full mailbox reset with Grep implementation
ok 30 # skip GNU grep not available
Testing filename: t/mailboxes/mailarc-2.txt
Testing partial mailbox reset with Perl implementation
Comparing /tmp/0jk0rffh3_ to t/results/reset_mailarc-2.stdout
Output /tmp/0jk0rffh3_ looks good.
ok 31 - Computing differences
Testing partial mailbox reset with Cache implementation
Comparing /tmp/_uQ2A8JQpp to t/results/reset_mailarc-2.stdout
Output /tmp/_uQ2A8JQpp looks good.
ok 32 - Computing differences
Testing partial mailbox reset with Grep implementation
ok 33 # skip GNU grep not available
Testing full mailbox reset with Perl implementation
Comparing /tmp/smv0bpr6as to t/results/reset_mailarc-2.stdout
Output /tmp/smv0bpr6as looks good.
ok 34 - Computing differences
Testing full mailbox reset with Cache implementation
Comparing /tmp/kZot2YkUE5 to t/results/reset_mailarc-2.stdout
Output /tmp/kZot2YkUE5 looks good.
ok 35 - Computing differences
Testing full mailbox reset with Grep implementation
ok 36 # skip GNU grep not available
Testing filename: t/mailboxes/mailarc-3.txt
Testing partial mailbox reset with Perl implementation
Comparing /tmp/d62nqPjhOL to t/results/reset_mailarc-3.stdout
Output /tmp/d62nqPjhOL looks good.
ok 37 - Computing differences
Testing partial mailbox reset with Cache implementation
Comparing /tmp/XZY1HP75sX to t/results/reset_mailarc-3.stdout
Output /tmp/XZY1HP75sX looks good.
ok 38 - Computing differences
Testing partial mailbox reset with Grep implementation
ok 39 # skip GNU grep not available
Testing full mailbox reset with Perl implementation
Comparing /tmp/8uhoJBiR8T to t/results/reset_mailarc-3.stdout
Output /tmp/8uhoJBiR8T looks good.
ok 40 - Computing differences
Testing full mailbox reset with Cache implementation
Comparing /tmp/6wW9RqtGCL to t/results/reset_mailarc-3.stdout
Output /tmp/6wW9RqtGCL looks good.
ok 41 - Computing differences
Testing full mailbox reset with Grep implementation
ok 42 # skip GNU grep not available
Testing filename: t/mailboxes/mailseparators.txt
Testing partial mailbox reset with Perl implementation
Comparing /tmp/gkjoCgc6Tj to t/results/reset_mailseparators.stdout
Output /tmp/gkjoCgc6Tj looks good.
ok 43 - Computing differences
Testing partial mailbox reset with Cache implementation
Comparing /tmp/G77R4CCA3m to t/results/reset_mailseparators.stdout
Output /tmp/G77R4CCA3m looks good.
ok 44 - Computing differences
Testing partial mailbox reset with Grep implementation
ok 45 # skip GNU grep not available
Testing full mailbox reset with Perl implementation
Comparing /tmp/pdzhuVjZDC to t/results/reset_mailseparators.stdout
Output /tmp/pdzhuVjZDC looks good.
ok 46 - Computing differences
Testing full mailbox reset with Cache implementation
Comparing /tmp/0fwPNb1eb3 to t/results/reset_mailseparators.stdout
Output /tmp/0fwPNb1eb3 looks good.
ok 47 - Computing differences
Testing full mailbox reset with Grep implementation
ok 48 # skip GNU grep not available
Testing filename: t/mailboxes/malformed.txt
Testing partial mailbox reset with Perl implementation
Comparing /tmp/tsq7qvyQWk to t/results/reset_malformed.stdout
Output /tmp/tsq7qvyQWk looks good.
ok 49 - Computing differences
Testing partial mailbox reset with Cache implementation
Comparing /tmp/ZOPDZ1QScc to t/results/reset_malformed.stdout
Output /tmp/ZOPDZ1QScc looks good.
ok 50 - Computing differences
Testing partial mailbox reset with Grep implementation
ok 51 # skip GNU grep not available
Testing full mailbox reset with Perl implementation
Comparing /tmp/nm9JoX7t06 to t/results/reset_malformed.stdout
Output /tmp/nm9JoX7t06 looks good.
ok 52 - Computing differences
Testing full mailbox reset with Cache implementation
Comparing /tmp/xhXeAC_mfK to t/results/reset_malformed.stdout
Output /tmp/xhXeAC_mfK looks good.
ok 53 - Computing differences
Testing full mailbox reset with Grep implementation
ok 54 # skip GNU grep not available
Testing filename: t/mailboxes/newlines_at_beginning.txt
Testing partial mailbox reset with Perl implementation
Comparing /tmp/YHBCLhM285 to t/results/reset_newlines_at_beginning.stdout
Output /tmp/YHBCLhM285 looks good.
ok 55 - Computing differences
Testing partial mailbox reset with Cache implementation
Comparing /tmp/VjAdSV3nNA to t/results/reset_newlines_at_beginning.stdout
Output /tmp/VjAdSV3nNA looks good.
ok 56 - Computing differences
Testing partial mailbox reset with Grep implementation
ok 57 # skip GNU grep not available
Testing full mailbox reset with Perl implementation
Comparing /tmp/xEnjSr7SUb to t/results/reset_newlines_at_beginning.stdout
Output /tmp/xEnjSr7SUb looks good.
ok 58 - Computing differences
Testing full mailbox reset with Cache implementation
Comparing /tmp/2gV70ah81V to t/results/reset_newlines_at_beginning.stdout
Output /tmp/2gV70ah81V looks good.
ok 59 - Computing differences
Testing full mailbox reset with Grep implementation
ok 60 # skip GNU grep not available
ok
t/separators.t ..................
1..6
Testing filename: t/mailboxes/separators1.sep
ok 1 - Number of emails in t/mailboxes/separators1.sep
ok 2 - Number of emails in t/mailboxes/separators1.sep
ok 3 # skip GNU grep not available
Testing filename: t/mailboxes/separators2.sep
ok 4 - Number of emails in t/mailboxes/separators2.sep
ok 5 - Number of emails in t/mailboxes/separators2.sep
ok 6 # skip GNU grep not available
ok
t/stdin_compressed.t ............
1..4
Testing filename: t/mailboxes/mailarc-2.txt.bz2
Comparing /tmp/tFVxbmcGCr to t/mailboxes/mailarc-2.txt
Output /tmp/tFVxbmcGCr looks good.
ok 1 - Computing differences
Testing filename: t/mailboxes/mailarc-2.txt.gz
Comparing /tmp/tkCKEU5RYA to t/mailboxes/mailarc-2.txt
Output /tmp/tkCKEU5RYA looks good.
ok 2 - Computing differences
Testing filename: t/mailboxes/mailarc-2.txt.lz
ok 3 # skip lzip not available
Testing filename: t/mailboxes/mailarc-2.txt.xz
Comparing /tmp/Eme0uiRKa8 to t/mailboxes/mailarc-2.txt
Output /tmp/Eme0uiRKa8 looks good.
ok 4 - Computing differences
ok
t/stdin_uncompressed.t ..........
1..11
Testing filename: t/mailboxes/binary_body.txt
Comparing /tmp/86QlpcA40G to t/mailboxes/binary_body.txt
Output /tmp/86QlpcA40G looks good.
ok 1 - Computing differences
Testing filename: t/mailboxes/hessbug.txt
Comparing /tmp/e3GnnUikaY to t/mailboxes/hessbug.txt
Output /tmp/e3GnnUikaY looks good.
ok 2 - Computing differences
Testing filename: t/mailboxes/invalid-boundaries.txt
Comparing /tmp/SOY11dGj7A to t/mailboxes/invalid-boundaries.txt
Output /tmp/SOY11dGj7A looks good.
ok 3 - Computing differences
Testing filename: t/mailboxes/mailarc-1-dos.txt
Comparing /tmp/ssVQH8CfKh to t/mailboxes/mailarc-1-dos.txt
Output /tmp/ssVQH8CfKh looks good.
ok 4 - Computing differences
Testing filename: t/mailboxes/mailarc-1.txt
Comparing /tmp/QPPQKL8egV to t/mailboxes/mailarc-1.txt
Output /tmp/QPPQKL8egV looks good.
ok 5 - Computing differences
Testing filename: t/mailboxes/mailarc-2.txt
Comparing /tmp/4bpp4DjC7c to t/mailboxes/mailarc-2.txt
Output /tmp/4bpp4DjC7c looks good.
ok 6 - Computing differences
Testing filename: t/mailboxes/mailarc-3.txt
Comparing /tmp/54KYIWhMei to t/mailboxes/mailarc-3.txt
Output /tmp/54KYIWhMei looks good.
ok 7 - Computing differences
Testing filename: t/mailboxes/mailseparators.txt
Comparing /tmp/3FdtaivlyP to t/mailboxes/mailseparators.txt
Output /tmp/3FdtaivlyP looks good.
ok 8 - Computing differences
Testing filename: t/mailboxes/malformed.txt
Comparing /tmp/K7J_Ke6eGm to t/mailboxes/malformed.txt
Output /tmp/K7J_Ke6eGm looks good.
ok 9 - Computing differences
Testing filename: t/mailboxes/newlines_at_beginning.txt
Comparing /tmp/MzvI0dafpw to t/mailboxes/newlines_at_beginning.txt
Output /tmp/MzvI0dafpw looks good.
ok 10 - Computing differences
Testing filename: t/mailboxes/vm-emacs.txt
Comparing /tmp/eUOBghqjqI to t/mailboxes/vm-emacs.txt
Output /tmp/eUOBghqjqI looks good.
ok 11 - Computing differences
ok
t/undef_return_value.t ..........
1..33
Testing Perl
Comparing /tmp/0JHiYkcPPU to t/mailboxes/binary_body.txt
Output /tmp/0JHiYkcPPU looks good.
ok 1 - Computing differences
Testing Cache implementation
Comparing /tmp/ZsprkSvmoa to t/mailboxes/binary_body.txt
Output /tmp/ZsprkSvmoa looks good.
ok 2 - Computing differences
ok 3 # skip GNU grep not available
Testing Perl
Comparing /tmp/qcJATCASw9 to t/mailboxes/hessbug.txt
Output /tmp/qcJATCASw9 looks good.
ok 4 - Computing differences
Testing Cache implementation
Comparing /tmp/6YpBzIPy8X to t/mailboxes/hessbug.txt
Output /tmp/6YpBzIPy8X looks good.
ok 5 - Computing differences
ok 6 # skip GNU grep not available
Testing Perl
Comparing /tmp/ziIIAyNPy5 to t/mailboxes/invalid-boundaries.txt
Output /tmp/ziIIAyNPy5 looks good.
ok 7 - Computing differences
Testing Cache implementation
Comparing /tmp/qdhlsDUJIz to t/mailboxes/invalid-boundaries.txt
Output /tmp/qdhlsDUJIz looks good.
ok 8 - Computing differences
ok 9 # skip GNU grep not available
Testing Perl
Comparing /tmp/C0cRe9OUlP to t/mailboxes/mailarc-1-dos.txt
Output /tmp/C0cRe9OUlP looks good.
ok 10 - Computing differences
Testing Cache implementation
Comparing /tmp/uNHOmt71et to t/mailboxes/mailarc-1-dos.txt
Output /tmp/uNHOmt71et looks good.
ok 11 - Computing differences
ok 12 # skip GNU grep not available
Testing Perl
Comparing /tmp/s6WA9158j9 to t/mailboxes/mailarc-1.txt
Output /tmp/s6WA9158j9 looks good.
ok 13 - Computing differences
Testing Cache implementation
Comparing /tmp/mDiK6J5EcA to t/mailboxes/mailarc-1.txt
Output /tmp/mDiK6J5EcA looks good.
ok 14 - Computing differences
ok 15 # skip GNU grep not available
Testing Perl
Comparing /tmp/7sKFnelBcH to t/mailboxes/mailarc-2.txt
Output /tmp/7sKFnelBcH looks good.
ok 16 - Computing differences
Testing Cache implementation
Comparing /tmp/XT9WaCXzJd to t/mailboxes/mailarc-2.txt
Output /tmp/XT9WaCXzJd looks good.
ok 17 - Computing differences
ok 18 # skip GNU grep not available
Testing Perl
Comparing /tmp/lfxkGg_pK8 to t/mailboxes/mailarc-3.txt
Output /tmp/lfxkGg_pK8 looks good.
ok 19 - Computing differences
Testing Cache implementation
Comparing /tmp/rcYoORMdBh to t/mailboxes/mailarc-3.txt
Output /tmp/rcYoORMdBh looks good.
ok 20 - Computing differences
ok 21 # skip GNU grep not available
Testing Perl
Comparing /tmp/RHIoLAZpBp to t/mailboxes/mailseparators.txt
Output /tmp/RHIoLAZpBp looks good.
ok 22 - Computing differences
Testing Cache implementation
Comparing /tmp/61JO_duG3Y to t/mailboxes/mailseparators.txt
Output /tmp/61JO_duG3Y looks good.
ok 23 - Computing differences
ok 24 # skip GNU grep not available
Testing Perl
Comparing /tmp/KWN0Kf4LMs to t/mailboxes/malformed.txt
Output /tmp/KWN0Kf4LMs looks good.
ok 25 - Computing differences
Testing Cache implementation
Comparing /tmp/YbJMgEzkNW to t/mailboxes/malformed.txt
Output /tmp/YbJMgEzkNW looks good.
ok 26 - Computing differences
ok 27 # skip GNU grep not available
Testing Perl
Comparing /tmp/qA1tPFiGyE to t/mailboxes/newlines_at_beginning.txt
Output /tmp/qA1tPFiGyE looks good.
ok 28 - Computing differences
Testing Cache implementation
Comparing /tmp/isbqR9BDzn to t/mailboxes/newlines_at_beginning.txt
Output /tmp/isbqR9BDzn looks good.
ok 29 - Computing differences
ok 30 # skip GNU grep not available
Testing Perl
Comparing /tmp/mU_7IYBVYQ to t/mailboxes/vm-emacs.txt
Output /tmp/mU_7IYBVYQ looks good.
ok 31 - Computing differences
Testing Cache implementation
Comparing /tmp/pXIM0a6cbZ to t/mailboxes/vm-emacs.txt
Output /tmp/pXIM0a6cbZ looks good.
ok 32 - Computing differences
ok 33 # skip GNU grep not available
ok
t/xz.t ..........................
1..1
Running test:
"/bin/cat" "t/mailboxes/mailarc-2.txt.xz" | "/usr/bin/xz" -cd
Comparing /tmp/F_v3yS5CsB to t/results/mailarc-2.txt
Output /tmp/F_v3yS5CsB looks good.
Comparing /tmp/lIEHGfVwdW to t/results/none
Output /tmp/lIEHGfVwdW looks good.
ok 1 - Computing differences
ok
All tests successful.
Files=25, Tests=370, 11 wallclock secs ( 0.20 usr 0.03 sys + 5.98 cusr 2.78 csys = 8.98 CPU)
Result: PASS
PREREQUISITES:
Here is a list of prerequisites you specified and versions we
managed to load:
Module Name Have Want
ExtUtils::MakeMaker 7.34 6.36
File::Path 2.15 2.08
File::Slurper 0.012 0
FileHandle::Unget 0.1634 0
Storable 3.11 0
Test::Compile v1.3.0 0
Test::More 1.302136 0
Text::Diff 1.45 0
UNIVERSAL::require 0.18 0
URI::Escape 3.31 0
Perl module toolchain versions installed:
Module Name Have
CPANPLUS 0.9176
CPANPLUS::Dist::Build 0.90
Cwd 3.74
ExtUtils::CBuilder 0.280230
ExtUtils::Command 7.34
ExtUtils::Install 2.14
ExtUtils::MakeMaker 7.34
ExtUtils::Manifest 1.71
ExtUtils::ParseXS 3.35
File::Spec 3.74
Module::Build 0.4224
Pod::Parser 1.62
Pod::Simple 3.28
Test2 1.302136
Test::Harness 3.42
Test::More 1.302136
version 0.9924
******************************** NOTE ********************************
The comments above are created mechanically, possibly without manual
checking by the sender. As there are many people performing automatic
tests on each upload to CPAN, it is likely that you will receive
identical messages about the same problem.
If you believe that the message is mistaken, please reply to the first
one with correction and/or additional informations, and do not take
it personally. We appreciate your patience. :)
**********************************************************************
Additional comments:
This report was machine-generated by CPANPLUS::Dist::YACSmoke 1.02.
Powered by minismokebox version 0.68
------------------------------
ENVIRONMENT AND OTHER CONTEXT
------------------------------
Environment variables:
AUTOMATED_TESTING = 1
NONINTERACTIVE_TESTING = 1
PATH = /sbin:/bin:/usr/sbin:/usr/bin:/usr/games:/usr/local/sbin:/usr/local/bin:/home/cpan/bin
PERL5LIB = :/usr/home/cpan/pit/rel/conf/perl-5.20.0/.cpanplus/5.20.0/build/OUulcUdXaY/Test-Needs-0.002005/blib/lib:/usr/home/cpan/pit/rel/conf/perl-5.20.0/.cpanplus/5.20.0/build/OUulcUdXaY/Test-Needs-0.002005/blib/arch:/usr/home/cpan/pit/rel/conf/perl-5.20.0/.cpanplus/5.20.0/build/nYBQnyD5gz/URI-1.74/blib/lib:/usr/home/cpan/pit/rel/conf/perl-5.20.0/.cpanplus/5.20.0/build/nYBQnyD5gz/URI-1.74/blib/arch:/usr/home/cpan/pit/rel/conf/perl-5.20.0/.cpanplus/5.20.0/build/bYr1cbxLFD/Test-Warnings-0.026/blib/lib:/usr/home/cpan/pit/rel/conf/perl-5.20.0/.cpanplus/5.20.0/build/bYr1cbxLFD/Test-Warnings-0.026/blib/arch:/usr/home/cpan/pit/rel/conf/perl-5.20.0/.cpanplus/5.20.0/build/eocHlY8iNH/File-Slurper-0.012/blib/lib:/usr/home/cpan/pit/rel/conf/perl-5.20.0/.cpanplus/5.20.0/build/eocHlY8iNH/File-Slurper-0.012/blib/arch:/usr/home/cpan/pit/rel/conf/perl-5.20.0/.cpanplus/5.20.0/build/fIHLsvBE8m/UNIVERSAL-require-0.18/blib/lib:/usr/home/cpan/pit/rel/conf/perl-5.20.0/.cpanplus/5.20.0/build/fIHLsvBE8m/UNIVERSAL-require-0.18/blib/arch:/usr/home/cpan/pit/rel/conf/perl-5.20.0/.cpanplus/5.20.0/build/O7FIvwI0yM/Test-Compile-v1.3.0/blib/lib:/usr/home/cpan/pit/rel/conf/perl-5.20.0/.cpanplus/5.20.0/build/O7FIvwI0yM/Test-Compile-v1.3.0/blib/arch:/usr/home/cpan/pit/rel/conf/perl-5.20.0/.cpanplus/5.20.0/build/FdWjUsQWb6/FileHandle-Unget-0.1634/blib/lib:/usr/home/cpan/pit/rel/conf/perl-5.20.0/.cpanplus/5.20.0/build/FdWjUsQWb6/FileHandle-Unget-0.1634/blib/arch:/usr/home/cpan/pit/rel/conf/perl-5.20.0/.cpanplus/5.20.0/build/8SWwP81jLt/Algorithm-Diff-1.1903/blib/lib:/usr/home/cpan/pit/rel/conf/perl-5.20.0/.cpanplus/5.20.0/build/8SWwP81jLt/Algorithm-Diff-1.1903/blib/arch:/usr/home/cpan/pit/rel/conf/perl-5.20.0/.cpanplus/5.20.0/build/hX_ZQeSrAQ/Text-Diff-1.45/blib/lib:/usr/home/cpan/pit/rel/conf/perl-5.20.0/.cpanplus/5.20.0/build/hX_ZQeSrAQ/Text-Diff-1.45/blib/arch:/usr/home/cpan/pit/rel/conf/perl-5.20.0/.cpanplus/5.20.0/build/JzQG6Ue6nJ/Mail-Mbox-MessageParser-1.5111/blib/lib:/usr/home/cpan/pit/rel/conf/perl-5.20.0/.cpanplus/5.20.0/build/JzQG6Ue6nJ/Mail-Mbox-MessageParser-1.5111/blib/arch
PERL5_CPANPLUS_IS_RUNNING = 18696
PERL5_CPANPLUS_IS_VERSION = 0.9176
PERL5_MINISMOKEBOX = 0.68
PERL5_YACSMOKE_BASE = /usr/home/cpan/pit/rel/conf/perl-5.20.0
PERL_EXTUTILS_AUTOINSTALL = --defaultdeps
PERL_MM_USE_DEFAULT = 1
SHELL = /usr/local/bin/bash
TERM = screen
Perl special variables (and OS-specific diagnostics, for MSWin32):
Perl: $^X = /usr/home/cpan/pit/rel/perl-5.20.0/bin/perl
UID: $< = 1002
EUID: $> = 1002
GID: $( = 1002 1002
EGID: $) = 1002 1002
-------------------------------
--
Summary of my perl5 (revision 5 version 20 subversion 0) configuration:
Platform:
osname=freebsd, osvers=10.3-release-p2, archname=i386-freebsd-thread-multi-64int
uname='freebsd froggle 10.3-release-p2 freebsd 10.3-release-p2 #0: wed may 4 14:06:02 utc 2016 root@amd64-builder.daemonology.net:usrobjusrsrcsysgeneric i386 '
config_args='-des -Dprefix=/usr/home/cpan/pit/rel/perl-5.20.0 -Dusethreads -Duse64bitint'
hint=recommended, useposix=true, d_sigaction=define
useithreads=define, usemultiplicity=define
use64bitint=define, use64bitall=undef, uselongdouble=undef
usemymalloc=n, bincompat5005=undef
Compiler:
cc='cc', ccflags ='-DHAS_FPSETMASK -DHAS_FLOATINGPOINT_H -fno-strict-aliasing -pipe -fstack-protector -I/usr/local/include',
optimize='-O',
cppflags='-DHAS_FPSETMASK -DHAS_FLOATINGPOINT_H -fno-strict-aliasing -pipe -fstack-protector -I/usr/local/include'
ccversion='', gccversion='4.2.1 Compatible FreeBSD Clang 3.4.1 (tags/RELEASE_34/dot1-final 208032)', gccosandvers=''
intsize=4, longsize=4, ptrsize=4, doublesize=8, byteorder=12345678
d_longlong=define, longlongsize=8, d_longdbl=define, longdblsize=12
ivtype='long long', ivsize=8, nvtype='double', nvsize=8, Off_t='off_t', lseeksize=8
alignbytes=4, prototype=define
Linker and Libraries:
ld='cc', ldflags ='-pthread -Wl,-E -fstack-protector -L/usr/local/lib'
libpth=/usr/lib /usr/local/lib /usr/include/clang/3.4.1 /usr/lib
libs=-lgdbm -lm -lcrypt -lutil
perllibs=-lm -lcrypt -lutil
libc=, so=so, useshrplib=false, libperl=libperl.a
gnulibc_version=''
Dynamic Linking:
dlsrc=dl_dlopen.xs, dlext=so, d_dlsymun=undef, ccdlflags=' '
cccdlflags='-DPIC -fPIC', lddlflags='-shared -L/usr/local/lib -fstack-protector'
Characteristics of this binary (from libperl):
Compile-time options: HAS_TIMES MULTIPLICITY PERLIO_LAYERS
PERL_DONT_CREATE_GVSV
PERL_HASH_FUNC_ONE_AT_A_TIME_HARD
PERL_IMPLICIT_CONTEXT PERL_MALLOC_WRAP
PERL_NEW_COPY_ON_WRITE PERL_PRESERVE_IVUV
USE_64_BIT_INT USE_ITHREADS USE_LARGE_FILES
USE_LOCALE USE_LOCALE_COLLATE USE_LOCALE_CTYPE
USE_LOCALE_NUMERIC USE_PERLIO USE_PERL_ATOF
USE_REENTRANT_API
Locally applied patches:
Devel::PatchPerl 1.42
Built under freebsd
Compiled at May 8 2016 17:29:51
%ENV:
PERL5LIB=":/usr/home/cpan/pit/rel/conf/perl-5.20.0/.cpanplus/5.20.0/build/OUulcUdXaY/Test-Needs-0.002005/blib/lib:/usr/home/cpan/pit/rel/conf/perl-5.20.0/.cpanplus/5.20.0/build/OUulcUdXaY/Test-Needs-0.002005/blib/arch:/usr/home/cpan/pit/rel/conf/perl-5.20.0/.cpanplus/5.20.0/build/nYBQnyD5gz/URI-1.74/blib/lib:/usr/home/cpan/pit/rel/conf/perl-5.20.0/.cpanplus/5.20.0/build/nYBQnyD5gz/URI-1.74/blib/arch:/usr/home/cpan/pit/rel/conf/perl-5.20.0/.cpanplus/5.20.0/build/bYr1cbxLFD/Test-Warnings-0.026/blib/lib:/usr/home/cpan/pit/rel/conf/perl-5.20.0/.cpanplus/5.20.0/build/bYr1cbxLFD/Test-Warnings-0.026/blib/arch:/usr/home/cpan/pit/rel/conf/perl-5.20.0/.cpanplus/5.20.0/build/eocHlY8iNH/File-Slurper-0.012/blib/lib:/usr/home/cpan/pit/rel/conf/perl-5.20.0/.cpanplus/5.20.0/build/eocHlY8iNH/File-Slurper-0.012/blib/arch:/usr/home/cpan/pit/rel/conf/perl-5.20.0/.cpanplus/5.20.0/build/fIHLsvBE8m/UNIVERSAL-require-0.18/blib/lib:/usr/home/cpan/pit/rel/conf/perl-5.20.0/.cpanplus/5.20.0/build/fIHLsvBE8m/UNIVERSAL-require-0.18/blib/arch:/usr/home/cpan/pit/rel/conf/perl-5.20.0/.cpanplus/5.20.0/build/O7FIvwI0yM/Test-Compile-v1.3.0/blib/lib:/usr/home/cpan/pit/rel/conf/perl-5.20.0/.cpanplus/5.20.0/build/O7FIvwI0yM/Test-Compile-v1.3.0/blib/arch:/usr/home/cpan/pit/rel/conf/perl-5.20.0/.cpanplus/5.20.0/build/FdWjUsQWb6/FileHandle-Unget-0.1634/blib/lib:/usr/home/cpan/pit/rel/conf/perl-5.20.0/.cpanplus/5.20.0/build/FdWjUsQWb6/FileHandle-Unget-0.1634/blib/arch:/usr/home/cpan/pit/rel/conf/perl-5.20.0/.cpanplus/5.20.0/build/8SWwP81jLt/Algorithm-Diff-1.1903/blib/lib:/usr/home/cpan/pit/rel/conf/perl-5.20.0/.cpanplus/5.20.0/build/8SWwP81jLt/Algorithm-Diff-1.1903/blib/arch:/usr/home/cpan/pit/rel/conf/perl-5.20.0/.cpanplus/5.20.0/build/hX_ZQeSrAQ/Text-Diff-1.45/blib/lib:/usr/home/cpan/pit/rel/conf/perl-5.20.0/.cpanplus/5.20.0/build/hX_ZQeSrAQ/Text-Diff-1.45/blib/arch:/usr/home/cpan/pit/rel/conf/perl-5.20.0/.cpanplus/5.20.0/build/JzQG6Ue6nJ/Mail-Mbox-MessageParser-1.5111/blib/lib:/usr/home/cpan/pit/rel/conf/perl-5.20.0/.cpanplus/5.20.0/build/JzQG6Ue6nJ/Mail-Mbox-MessageParser-1.5111/blib/arch"
PERL5_CPANPLUS_IS_RUNNING="18696"
PERL5_CPANPLUS_IS_VERSION="0.9176"
PERL5_MINISMOKEBOX="0.68"
PERL5_YACSMOKE_BASE="/usr/home/cpan/pit/rel/conf/perl-5.20.0"
PERL_EXTUTILS_AUTOINSTALL="--defaultdeps"
PERL_MM_USE_DEFAULT="1"
@INC:
/usr/home/cpan/pit/rel/conf/perl-5.20.0/.cpanplus/5.20.0/build/OUulcUdXaY/Test-Needs-0.002005/blib/lib
/usr/home/cpan/pit/rel/conf/perl-5.20.0/.cpanplus/5.20.0/build/OUulcUdXaY/Test-Needs-0.002005/blib/arch
/usr/home/cpan/pit/rel/conf/perl-5.20.0/.cpanplus/5.20.0/build/nYBQnyD5gz/URI-1.74/blib/lib
/usr/home/cpan/pit/rel/conf/perl-5.20.0/.cpanplus/5.20.0/build/nYBQnyD5gz/URI-1.74/blib/arch
/usr/home/cpan/pit/rel/conf/perl-5.20.0/.cpanplus/5.20.0/build/bYr1cbxLFD/Test-Warnings-0.026/blib/lib
/usr/home/cpan/pit/rel/conf/perl-5.20.0/.cpanplus/5.20.0/build/bYr1cbxLFD/Test-Warnings-0.026/blib/arch
/usr/home/cpan/pit/rel/conf/perl-5.20.0/.cpanplus/5.20.0/build/eocHlY8iNH/File-Slurper-0.012/blib/lib
/usr/home/cpan/pit/rel/conf/perl-5.20.0/.cpanplus/5.20.0/build/eocHlY8iNH/File-Slurper-0.012/blib/arch
/usr/home/cpan/pit/rel/conf/perl-5.20.0/.cpanplus/5.20.0/build/fIHLsvBE8m/UNIVERSAL-require-0.18/blib/lib
/usr/home/cpan/pit/rel/conf/perl-5.20.0/.cpanplus/5.20.0/build/fIHLsvBE8m/UNIVERSAL-require-0.18/blib/arch
/usr/home/cpan/pit/rel/conf/perl-5.20.0/.cpanplus/5.20.0/build/O7FIvwI0yM/Test-Compile-v1.3.0/blib/lib
/usr/home/cpan/pit/rel/conf/perl-5.20.0/.cpanplus/5.20.0/build/O7FIvwI0yM/Test-Compile-v1.3.0/blib/arch
/usr/home/cpan/pit/rel/conf/perl-5.20.0/.cpanplus/5.20.0/build/FdWjUsQWb6/FileHandle-Unget-0.1634/blib/lib
/usr/home/cpan/pit/rel/conf/perl-5.20.0/.cpanplus/5.20.0/build/FdWjUsQWb6/FileHandle-Unget-0.1634/blib/arch
/usr/home/cpan/pit/rel/conf/perl-5.20.0/.cpanplus/5.20.0/build/8SWwP81jLt/Algorithm-Diff-1.1903/blib/lib
/usr/home/cpan/pit/rel/conf/perl-5.20.0/.cpanplus/5.20.0/build/8SWwP81jLt/Algorithm-Diff-1.1903/blib/arch
/usr/home/cpan/pit/rel/conf/perl-5.20.0/.cpanplus/5.20.0/build/hX_ZQeSrAQ/Text-Diff-1.45/blib/lib
/usr/home/cpan/pit/rel/conf/perl-5.20.0/.cpanplus/5.20.0/build/hX_ZQeSrAQ/Text-Diff-1.45/blib/arch
/usr/home/cpan/pit/rel/conf/perl-5.20.0/.cpanplus/5.20.0/build/JzQG6Ue6nJ/Mail-Mbox-MessageParser-1.5111/blib/lib
/usr/home/cpan/pit/rel/conf/perl-5.20.0/.cpanplus/5.20.0/build/JzQG6Ue6nJ/Mail-Mbox-MessageParser-1.5111/blib/arch
/usr/home/cpan/pit/rel/perl-5.20.0/lib/site_perl/5.20.0/i386-freebsd-thread-multi-64int
/usr/home/cpan/pit/rel/perl-5.20.0/lib/site_perl/5.20.0
/usr/home/cpan/pit/rel/perl-5.20.0/lib/5.20.0/i386-freebsd-thread-multi-64int
/usr/home/cpan/pit/rel/perl-5.20.0/lib/5.20.0
.