Catalyst-Authentication-Store-DBIx-Class v0.1506 Perl 5 v5.30.3 amd64-freebsd
- Status
- Pass
- From
- Slaven Rezić
- Dist
-
Catalyst-Authentication-Store-DBIx-Class v0.1506
- Platform
- Perl 5 v5.30.3 amd64-freebsd
- Date
- 2021-05-18 16:46:54
- ID
- a6dfc692-b7f8-11eb-81c0-70361f24ea8f
This distribution has been tested as part of the CPAN Testers
project, supporting the Perl programming language. See
http://wiki.cpantesters.org/ for more information or email
questions to cpan-testers-discuss@perl.org
--
Dear Dagfinn Ilmari Mannsaker,
This is a computer-generated report for Catalyst-Authentication-Store-DBIx-Class-0.1506
on perl 5.30.3, created by CPAN-Reporter-1.2018.
Thank you for uploading your work to CPAN. Congratulations!
All tests were successful.
Sections of this report:
* Tester comments
* Program output
* Prerequisites
* Environment and other context
------------------------------
TESTER COMMENTS
------------------------------
Additional comments from tester:
none provided
------------------------------
PROGRAM OUTPUT
------------------------------
Output from '/usr/bin/make test':
PERL_DL_NONLAZY=1 "/usr/perl5.30.3p/bin/perl" "-MExtUtils::Command::MM" "-MTest::Harness" "-e" "undef *Test::Harness::Switches; test_harness(0, 'inc', 'blib/lib', 'blib/arch')" t/00-load.t t/01-pod.t t/02-pod-coverage.t t/03-authtest.t t/04-authsessions.t t/05-auth-roles-relationship.t t/06-auth-roles-column.t t/07-authsessions-cached.t t/08-simpledb-auth-roles-relationship.t t/09-simpledb-auth-roles-column.t t/10-user-autoload.t t/11-authsessions-load-app-context.t
# Testing Catalyst::Authentication::Store::DBIx::Class 0.1506, Perl 5.030003, /usr/perl5.30.3p/bin/perl
t/00-load.t .............................. ok
t/01-pod.t ............................... skipped: Set TEST_POD to enable pod tests
t/02-pod-coverage.t ...................... skipped: Set TEST_POD to enable pod tests
t/03-authtest.t .......................... ok
t/04-authsessions.t ...................... skipped: Test::WWW::Mechanize::Catalyst is required for this test
t/05-auth-roles-relationship.t ........... skipped: Catalyst::Plugin::Authorization::Roles is required for this test
t/06-auth-roles-column.t ................. skipped: Catalyst::Plugin::Authorization::Roles is required for this test
t/07-authsessions-cached.t ............... skipped: Test::WWW::Mechanize::Catalyst is required for this test
t/08-simpledb-auth-roles-relationship.t .. skipped: Catalyst::Plugin::Authorization::Roles is required for this test
t/09-simpledb-auth-roles-column.t ........ skipped: Catalyst::Plugin::Authorization::Roles is required for this test
t/10-user-autoload.t ..................... ok
t/11-authsessions-load-app-context.t ..... skipped: Test::WWW::Mechanize::Catalyst is required for this test
All tests successful.
Files=12, Tests=27, 8 wallclock secs ( 0.04 usr 0.06 sys + 6.81 cusr 0.88 csys = 7.79 CPU)
Result: PASS
------------------------------
PREREQUISITES
------------------------------
Prerequisite modules loaded:
requires:
Module Need Have
-------------------------------- -------- --------
Catalyst::Model::DBIC::Schema 0.18 0.65
Catalyst::Plugin::Authentication 0.10008 0.10023
Catalyst::Runtime 5.8 5.90128
DBIx::Class 0.08 0.082842
List::MoreUtils 0 0.430
Moose 0 2.2015
namespace::autoclean 0 0.29
perl 5.008001 5.030003
Test::More 0 1.302183
Try::Tiny 0 0.30
build_requires:
Module Need Have
-------------------------------- -------- --------
ExtUtils::MakeMaker 6.59 7.62
Test::More 0 1.302183
configure_requires:
Module Need Have
-------------------------------- -------- --------
ExtUtils::MakeMaker 6.59 7.62
------------------------------
ENVIRONMENT AND OTHER CONTEXT
------------------------------
Environment variables:
PATH = /usr/local/bin:/usr/bin:/bin:/usr/local/sbin:/usr/sbin:/sbin:/home/cpansand/bin/sh:/home/cpansand/bin:/usr/games:/home/cpansand/devel:/usr/home/eserte/src/srezic-misc/scripts
PERL = /usr/perl5.30.3p/bin/perl
PERL5LIB =
PERL5OPT =
PERL5_CPANPLUS_IS_RUNNING = 71845
PERL5_CPAN_IS_RUNNING = 71845
PERL5_CPAN_IS_RUNNING_IN_RECURSION = 6004,71845
PERL_BATCH = yes
PERL_CANARY_STABILITY_NOPROMPT = 1
PERL_CPAN_REPORTER_CONFIG = /var/tmp/cpansmoker-1023/2021051616/cpanreporter_001_config.ini
PERL_EXTUTILS_AUTOINSTALL = --defaultdeps
PERL_USE_UNSAFE_INC = 1
SHELL = /bin/sh
TMPDIR = /var/tmp/cpansmoker-1023/2021051616
Perl special variables (and OS-specific diagnostics, for MSWin32):
$^X = /usr/perl5.30.3p/bin/perl
$UID/$EUID = 1023 / 1023
$GID = 1023 1023
$EGID = 1023 1023
Perl module toolchain versions installed:
Module Have
------------------- --------
CPAN 2.22
CPAN::Meta 2.150010
Cwd 3.78
ExtUtils::CBuilder 0.280231
ExtUtils::Command 7.62
ExtUtils::Install 2.14
ExtUtils::MakeMaker 7.62
ExtUtils::Manifest 1.72
ExtUtils::ParseXS 3.40
File::Spec 3.78
JSON 4.03
JSON::PP 4.02
Module::Build 0.4231
Module::Signature n/a
Parse::CPAN::Meta 2.150010
Test::Harness 3.42
Test::More 1.302183
YAML 1.30
YAML::Syck 1.34
version 0.9924
--
Summary of my perl5 (revision 5 version 30 subversion 3) configuration:
Platform:
osname=freebsd
osvers=14.0-current
archname=amd64-freebsd
uname='freebsd cloud2.bbbike.org 14.0-current freebsd 14.0-current #12 main-n246644-9674c2e68c6: thu may 13 22:18:45 utc 2021 root@cloud2.bbbike.org:usrobjusrhomeprojectsfreebsdamd64.amd64sysgeneric amd64 '
config_args='-ds -e -Dprefix=/usr/perl5.30.3p -Dcf_email=srezic@cpan.org -Doptimize=-O2 -pipe'
hint=recommended
useposix=true
d_sigaction=define
useithreads=undef
usemultiplicity=undef
use64bitint=define
use64bitall=define
uselongdouble=undef
usemymalloc=n
default_inc_excludes_dot=define
bincompat5005=undef
Compiler:
cc='cc'
ccflags ='-DHAS_FPSETMASK -DHAS_FLOATINGPOINT_H -fno-strict-aliasing -pipe -fstack-protector-strong -I/usr/local/include'
optimize='-O2 -pipe'
cppflags='-DHAS_FPSETMASK -DHAS_FLOATINGPOINT_H -fno-strict-aliasing -pipe -fstack-protector-strong -I/usr/local/include'
ccversion=''
gccversion='FreeBSD Clang 11.0.1 (git@github.com:llvm/llvm-project.git llvmorg-11.0.1-0-g43ff75f2c3fe)'
gccosandvers=''
intsize=4
longsize=8
ptrsize=8
doublesize=8
byteorder=12345678
doublekind=3
d_longlong=define
longlongsize=8
d_longdbl=define
longdblsize=16
longdblkind=3
ivtype='long'
ivsize=8
nvtype='double'
nvsize=8
Off_t='off_t'
lseeksize=8
alignbytes=8
prototype=define
Linker and Libraries:
ld='cc'
ldflags ='-pthread -Wl,-E -fstack-protector-strong -L/usr/local/lib'
libpth=/usr/lib /usr/local/lib /usr/lib/clang/11.0.1/lib /usr/lib
libs=-lpthread -lgdbm -ldl -lm -lcrypt -lutil -lc
perllibs=-lpthread -ldl -lm -lcrypt -lutil -lc
libc=
so=so
useshrplib=false
libperl=libperl.a
gnulibc_version=''
Dynamic Linking:
dlsrc=dl_dlopen.xs
dlext=so
d_dlsymun=undef
ccdlflags=' '
cccdlflags='-DPIC -fPIC'
lddlflags='-shared -L/usr/local/lib -fstack-protector-strong'
Characteristics of this binary (from libperl):
Compile-time options:
HAS_TIMES
PERLIO_LAYERS
PERL_COPY_ON_WRITE
PERL_DONT_CREATE_GVSV
PERL_MALLOC_WRAP
PERL_OP_PARENT
PERL_PRESERVE_IVUV
USE_64_BIT_ALL
USE_64_BIT_INT
USE_LARGE_FILES
USE_LOCALE
USE_LOCALE_COLLATE
USE_LOCALE_CTYPE
USE_LOCALE_NUMERIC
USE_LOCALE_TIME
USE_PERLIO
USE_PERL_ATOF
Built under freebsd
Compiled at May 16 2021 12:37:52
%ENV:
PERL="/usr/perl5.30.3p/bin/perl"
PERL5LIB=""
PERL5OPT=""
PERL5_CPANPLUS_IS_RUNNING="71845"
PERL5_CPAN_IS_RUNNING="71845"
PERL5_CPAN_IS_RUNNING_IN_RECURSION="6004,71845"
PERL_BATCH="yes"
PERL_CANARY_STABILITY_NOPROMPT="1"
PERL_CPAN_REPORTER_CONFIG="/var/tmp/cpansmoker-1023/2021051616/cpanreporter_001_config.ini"
PERL_EXTUTILS_AUTOINSTALL="--defaultdeps"
PERL_USE_UNSAFE_INC="1"
@INC:
/usr/perl5.30.3p/lib/site_perl/5.30.3/amd64-freebsd
/usr/perl5.30.3p/lib/site_perl/5.30.3
/usr/perl5.30.3p/lib/5.30.3/amd64-freebsd
/usr/perl5.30.3p/lib/5.30.3
.