Hash-AutoHash-Args v1.18 Perl 5 v5.24.2 x86_64-linux

Status
Pass
From
Slaven Rezić (SREZIC)
Dist
Hash-AutoHash-Args v1.18
Platform
Perl 5 v5.24.2 x86_64-linux
Date
2017-09-16 22:23:23
ID
a6dcb038-9b2d-11e7-aee9-cb52c18cdaa8
This distribution has been tested as part of the CPAN Testers
project, supporting the Perl programming language.  See
http://wiki.cpantesters.org/ for more information or email
questions to cpan-testers-discuss@perl.org


--
Dear Nathan Goodman,

This is a computer-generated report for Hash-AutoHash-Args-1.18
on perl 5.24.2, created by CPAN-Reporter-1.2018.

Thank you for uploading your work to CPAN.  Congratulations!
All tests were successful.

Sections of this report:

    * Tester comments
    * Program output
    * Prerequisites
    * Environment and other context

------------------------------
TESTER COMMENTS
------------------------------

Additional comments from tester:

none provided

------------------------------
PROGRAM OUTPUT
------------------------------

Output from './Build test':

# Testing Hash::AutoHash::Args 1.18, Perl 5.024002, /opt/perl-5.24.2/bin/perl
t/autoargs.000.code_exists.t .... ok
t/autoargs.001.boilerplate.t .... ok
t/autoargs.002.pod.t ............ ok
t/autoargs.010.basics.t ......... ok
t/autoargs.020.class_methods.t .. ok
t/autoargs.020.special_keys.t ... ok
t/autoargs.020.universal.t ...... ok
t/autoargs.030.functions.t ...... ok
t/autoargs.030.v0_methods.t ..... ok
t/autoargs.031.alias.t .......... ok
t/autoargs.098.docs.t ........... ok
t/autoargs.099.v0_docs.t ........ ok
t/autoargs.100.grow_slot.t ...... ok
All tests successful.
Files=13, Tests=329,  1 wallclock secs ( 0.04 usr  0.10 sys +  0.58 cusr  0.12 csys =  0.84 CPU)
Result: PASS

------------------------------
PREREQUISITES
------------------------------

Prerequisite modules loaded:

requires:

    Module             Need   Have    
    ------------------ ------ --------
    Carp               1.2    1.40    
    Cwd                3.4    3.63_01 
    Exporter           5.68   5.72    
    Hash::AutoHash     1.17   1.17    
    List::MoreUtils    0.33   0.423   
    List::Util         1.32   1.48    
    Tie::Hash          1.04   1.05    
    Tie::ToObject      0.03   0.03    
    XSLoader           0.16   0.22    

build_requires:

    Module             Need   Have    
    ------------------ ------ --------
    Carp               1.2    1.40    
    Exporter           5.68   5.72    
    File::Basename     2.82   2.85    
    File::Spec         3.4    3.63_01 
    Hash::AutoHash     1.17   1.17    
    List::MoreUtils    0.33   0.423   
    Module::Build      0.4007 0.4224  
    Test::Deep         0.11   1.127   
    Test::More         0.98   1.001014
    Test::Pod          1.48   1.51    
    Test::Pod::Content v0.0.6 0.0.6   

configure_requires:

    Module             Need   Have    
    ------------------ ------ --------
    Module::Build      0.4007 0.4224  


------------------------------
ENVIRONMENT AND OTHER CONTEXT
------------------------------

Environment variables:

    LANG = en_US.UTF-8
    PATH = /usr/local/bin:/usr/bin:/bin:/usr/local/sbin:/usr/sbin:/sbin:/home/cpansand/bin/linux-gnu:/home/cpansand/bin/sh:/home/cpansand/bin:/usr/games:/home/cpansand/devel:/home/eserte/src/srezic-misc/scripts
    PERL5LIB = /home/cpansand/.cpan/build/2017091621/Hash-AutoHash-1.17-8pQ7SI/blib/arch:/home/cpansand/.cpan/build/2017091621/Hash-AutoHash-1.17-8pQ7SI/blib/lib:/home/cpansand/.cpan/build/2017091621/Tie-Hash-MultiValue-1.02-kH4yJ6/blib/arch:/home/cpansand/.cpan/build/2017091621/Tie-Hash-MultiValue-1.02-kH4yJ6/blib/lib:/home/cpansand/.cpan/build/2017091621/Tie-ToObject-0.03-_9dwnn/blib/arch:/home/cpansand/.cpan/build/2017091621/Tie-ToObject-0.03-_9dwnn/blib/lib:/home/cpansand/.cpan/build/2017091621/Data-Rmap-0.65-h1Zv93/blib/arch:/home/cpansand/.cpan/build/2017091621/Data-Rmap-0.65-h1Zv93/blib/lib:/home/cpansand/.cpan/build/2017091621/DBD-mysql-4.043-C2unl0/blib/arch:/home/cpansand/.cpan/build/2017091621/DBD-mysql-4.043-C2unl0/blib/lib:/home/cpansand/.cpan/build/2017091621/DBI-1.637-BQdHdV/blib/arch:/home/cpansand/.cpan/build/2017091621/DBI-1.637-BQdHdV/blib/lib:/home/cpansand/.cpan/build/2017091621/Test-Pod-Content-v0.0.6-2qYGIZ/blib/arch:/home/cpansand/.cpan/build/2017091621/Test-Pod-Content-v0.0.6-2qYGIZ/blib/lib
    PERL5OPT = 
    PERL5_CPANPLUS_IS_RUNNING = 12855
    PERL5_CPAN_IS_RUNNING = 12855
    PERL5_CPAN_IS_RUNNING_IN_RECURSION = 12831,12855
    PERLDOC = -MPod::Perldoc::ToTextOverstrike
    PERL_BATCH = yes
    PERL_CANARY_STABILITY_NOPROMPT = 1
    PERL_CPAN_REPORTER_CONFIG = /var/tmp/cpansmoker-1023/2017091621/cpanreporter_000_config.ini
    PERL_EXTUTILS_AUTOINSTALL = --defaultdeps
    SHELL = /usr/bin/zsh
    TERM = screen
    TMPDIR = /var/tmp/cpansmoker-1023/2017091621

Perl special variables (and OS-specific diagnostics, for MSWin32):

    $^X = /opt/perl-5.24.2/bin/perl
    $UID/$EUID = 1023 / 1023
    $GID = 1023 1023
    $EGID = 1023 1023

Perl module toolchain versions installed:

    Module              Have      
    ------------------- ----------
    CPAN                2.11_01   
    CPAN::Meta          2.150005  
    Cwd                 3.63_01   
    ExtUtils::CBuilder  0.280225  
    ExtUtils::Command   7.10_02   
    ExtUtils::Install   2.04      
    ExtUtils::MakeMaker 7.10_02   
    ExtUtils::Manifest  1.70      
    ExtUtils::ParseXS   3.31      
    File::Spec          3.63_01   
    JSON                n/a       
    JSON::PP            2.27300_01
    Module::Build       0.4224    
    Module::Signature   n/a       
    Parse::CPAN::Meta   1.4417_001
    Test::Harness       3.36_01   
    Test::More          1.001014  
    YAML                1.23      
    YAML::Syck          1.30      
    version             0.9916    


--

Summary of my perl5 (revision 5 version 24 subversion 2) configuration:
   
  Platform:
    osname=linux, osvers=4.4.0-91-generic, archname=x86_64-linux
    uname='linux ubuntu16 4.4.0-91-generic #114-ubuntu smp tue aug 8 11:56:56 utc 2017 x86_64 x86_64 x86_64 gnulinux '
    config_args='-ds -e -Dprefix=/opt/perl-5.24.2 -Dcf_email=srezic@cpan.org'
    hint=recommended, useposix=true, d_sigaction=define
    useithreads=undef, usemultiplicity=undef
    use64bitint=define, use64bitall=define, uselongdouble=undef
    usemymalloc=n, bincompat5005=undef
  Compiler:
    cc='cc', ccflags ='-fwrapv -fno-strict-aliasing -pipe -fstack-protector-strong -I/usr/local/include -D_LARGEFILE_SOURCE -D_FILE_OFFSET_BITS=64',
    optimize='-O2',
    cppflags='-fwrapv -fno-strict-aliasing -pipe -fstack-protector-strong -I/usr/local/include'
    ccversion='', gccversion='5.4.0 20160609', gccosandvers=''
    intsize=4, longsize=8, ptrsize=8, doublesize=8, byteorder=12345678, doublekind=3
    d_longlong=define, longlongsize=8, d_longdbl=define, longdblsize=16, longdblkind=3
    ivtype='long', ivsize=8, nvtype='double', nvsize=8, Off_t='off_t', lseeksize=8
    alignbytes=8, prototype=define
  Linker and Libraries:
    ld='cc', ldflags =' -fstack-protector-strong -L/usr/local/lib'
    libpth=/usr/local/lib /usr/lib/gcc/x86_64-linux-gnu/5/include-fixed /usr/include/x86_64-linux-gnu /usr/lib /lib/x86_64-linux-gnu /lib/../lib /usr/lib/x86_64-linux-gnu /usr/lib/../lib /lib
    libs=-lpthread -lnsl -lgdbm -ldb -ldl -lm -lcrypt -lutil -lc -lgdbm_compat
    perllibs=-lpthread -lnsl -ldl -lm -lcrypt -lutil -lc
    libc=libc-2.23.so, so=so, useshrplib=false, libperl=libperl.a
    gnulibc_version='2.23'
  Dynamic Linking:
    dlsrc=dl_dlopen.xs, dlext=so, d_dlsymun=undef, ccdlflags='-Wl,-E'
    cccdlflags='-fPIC', lddlflags='-shared -O2 -L/usr/local/lib -fstack-protector-strong'


Characteristics of this binary (from libperl): 
  Compile-time options: HAS_TIMES PERLIO_LAYERS PERL_COPY_ON_WRITE
                        PERL_DONT_CREATE_GVSV
                        PERL_HASH_FUNC_ONE_AT_A_TIME_HARD PERL_MALLOC_WRAP
                        PERL_PRESERVE_IVUV USE_64_BIT_ALL USE_64_BIT_INT
                        USE_LARGE_FILES USE_LOCALE USE_LOCALE_COLLATE
                        USE_LOCALE_CTYPE USE_LOCALE_NUMERIC USE_LOCALE_TIME
                        USE_PERLIO USE_PERL_ATOF
  Built under linux
  Compiled at Aug 31 2017 21:10:13
  %ENV:
    PERL5LIB="/home/cpansand/.cpan/build/2017091621/Hash-AutoHash-1.17-8pQ7SI/blib/arch:/home/cpansand/.cpan/build/2017091621/Hash-AutoHash-1.17-8pQ7SI/blib/lib:/home/cpansand/.cpan/build/2017091621/Tie-Hash-MultiValue-1.02-kH4yJ6/blib/arch:/home/cpansand/.cpan/build/2017091621/Tie-Hash-MultiValue-1.02-kH4yJ6/blib/lib:/home/cpansand/.cpan/build/2017091621/Tie-ToObject-0.03-_9dwnn/blib/arch:/home/cpansand/.cpan/build/2017091621/Tie-ToObject-0.03-_9dwnn/blib/lib:/home/cpansand/.cpan/build/2017091621/Data-Rmap-0.65-h1Zv93/blib/arch:/home/cpansand/.cpan/build/2017091621/Data-Rmap-0.65-h1Zv93/blib/lib:/home/cpansand/.cpan/build/2017091621/DBD-mysql-4.043-C2unl0/blib/arch:/home/cpansand/.cpan/build/2017091621/DBD-mysql-4.043-C2unl0/blib/lib:/home/cpansand/.cpan/build/2017091621/DBI-1.637-BQdHdV/blib/arch:/home/cpansand/.cpan/build/2017091621/DBI-1.637-BQdHdV/blib/lib:/home/cpansand/.cpan/build/2017091621/Test-Pod-Content-v0.0.6-2qYGIZ/blib/arch:/home/cpansand/.cpan/build/2017091621/Test-Pod-Content-v0.0.6-2qYGIZ/blib/lib"
    PERL5OPT=""
    PERL5_CPANPLUS_IS_RUNNING="12855"
    PERL5_CPAN_IS_RUNNING="12855"
    PERL5_CPAN_IS_RUNNING_IN_RECURSION="12831,12855"
    PERLDOC="-MPod::Perldoc::ToTextOverstrike"
    PERL_BATCH="yes"
    PERL_CANARY_STABILITY_NOPROMPT="1"
    PERL_CPAN_REPORTER_CONFIG="/var/tmp/cpansmoker-1023/2017091621/cpanreporter_000_config.ini"
    PERL_EXTUTILS_AUTOINSTALL="--defaultdeps"
  @INC:
    /home/cpansand/.cpan/build/2017091621/Hash-AutoHash-1.17-8pQ7SI/blib/arch
    /home/cpansand/.cpan/build/2017091621/Hash-AutoHash-1.17-8pQ7SI/blib/lib
    /home/cpansand/.cpan/build/2017091621/Tie-Hash-MultiValue-1.02-kH4yJ6/blib/arch
    /home/cpansand/.cpan/build/2017091621/Tie-Hash-MultiValue-1.02-kH4yJ6/blib/lib
    /home/cpansand/.cpan/build/2017091621/Tie-ToObject-0.03-_9dwnn/blib/arch
    /home/cpansand/.cpan/build/2017091621/Tie-ToObject-0.03-_9dwnn/blib/lib
    /home/cpansand/.cpan/build/2017091621/Data-Rmap-0.65-h1Zv93/blib/arch
    /home/cpansand/.cpan/build/2017091621/Data-Rmap-0.65-h1Zv93/blib/lib
    /home/cpansand/.cpan/build/2017091621/DBD-mysql-4.043-C2unl0/blib/arch
    /home/cpansand/.cpan/build/2017091621/DBD-mysql-4.043-C2unl0/blib/lib
    /home/cpansand/.cpan/build/2017091621/DBI-1.637-BQdHdV/blib/arch
    /home/cpansand/.cpan/build/2017091621/DBI-1.637-BQdHdV/blib/lib
    /home/cpansand/.cpan/build/2017091621/Test-Pod-Content-v0.0.6-2qYGIZ/blib/arch
    /home/cpansand/.cpan/build/2017091621/Test-Pod-Content-v0.0.6-2qYGIZ/blib/lib
    /opt/perl-5.24.2/lib/site_perl/5.24.2/x86_64-linux
    /opt/perl-5.24.2/lib/site_perl/5.24.2
    /opt/perl-5.24.2/lib/5.24.2/x86_64-linux
    /opt/perl-5.24.2/lib/5.24.2
    .