Report for Syntax-Feature-Try-1.005

Back
From: metabase:user:314402c4-2aae-11df-837a-5e0a49663a4f
Subject: PASS Syntax-Feature-Try-1.005 v5.20.2 GNU/Linux
Date: 2016-05-15T20:36:07Z

This distribution has been tested as part of the CPAN Testers
project, supporting the Perl programming language.  See
http://wiki.cpantesters.org/ for more information or email
questions to cpan-testers-discuss@perl.org


--
Dear Tomas Pokorny,

This is a computer-generated report for Syntax-Feature-Try-1.005
on perl 5.20.2, created by CPAN-Reporter-1.2017.

Thank you for uploading your work to CPAN.  Congratulations!
All tests were successful.

Sections of this report:

    * Tester comments
    * Program output
    * Prerequisites
    * Environment and other context

------------------------------
TESTER COMMENTS
------------------------------

Additional comments from tester:

none provided

------------------------------
PROGRAM OUTPUT
------------------------------

Output from '/usr/bin/make test':

Running Mkbootstrap for Syntax::Feature::Try ()
chmod 644 "Try.bs"
PERL_DL_NONLAZY=1 "/home/eserte/perl5/perlbrew/perls/perl-5.20.2/bin/perl5.20.2" "-MExtUtils::Command::MM" "-MTest::Harness" "-e" "undef *Test::Harness::Switches; test_harness(0, 'blib/lib', 'blib/arch')" t/*.t
t/01_use_ok.t ..................... ok
t/10_parser_output.t .............. ok
t/15_parser_syntax_ok.t ........... ok
t/20_parser_syntax_errors.t ....... ok
t/20_parser_warnings.t ............ ok
t/author-critic.t ................. skipped: these tests are for testing by the author
t/author-pod-coverage.t ........... skipped: these tests are for testing by the author
t/author-pod-syntax.t ............. skipped: these tests are for testing by the author
t/catch_isa.t ..................... ok
t/catch_moose_type_constraints.t .. ok
t/catch_others.t .................. ok
t/catch_variable.t ................ ok
t/catch_without_variable.t ........ ok
t/customer_exception_matchers.t ... ok
t/exception_class.t ............... ok
t/exit.t .......................... ok
t/finally.t ....................... ok
t/import.t ........................ ok
t/last_op_in_block.t .............. ok
t/line_numbers.t .................. ok
t/localized_error_variable.t ...... ok
t/loops.t ......................... ok
t/memory_leaks.t .................. ok
t/moose_throwable.t ............... ok
t/nested.t ........................ ok
t/recursive.t ..................... ok
t/return.t ........................ ok
t/statement.t ..................... ok
t/subroutine_args.t ............... ok
t/wantarray.t ..................... ok
All tests successful.

Test Summary Report
-------------------
t/loops.t                       (Wstat: 0 Tests: 5 Failed: 0)
  TODO passed:   2, 4
Files=30, Tests=337,  3 wallclock secs ( 0.12 usr  0.02 sys +  2.97 cusr  0.34 csys =  3.45 CPU)
Result: PASS

------------------------------
PREREQUISITES
------------------------------

Prerequisite modules loaded:

requires:

    Module                       Need  Have    
    ---------------------------- ----- --------
    Carp                         0     1.36    
    perl                         5.014 5.020002
    Scalar::Util                 0     1.38    
    strict                       0     1.08    
    syntax                       0.004 0.004   
    warnings                     0     1.23    
    XSLoader                     0     0.17    

build_requires:

    Module                       Need  Have    
    ---------------------------- ----- --------
    base                         0     2.22    
    Exception::Class             0     1.39    
    Exporter                     0     5.72    
    ExtUtils::MakeMaker          0     7.10    
    FindBin                      0     1.51    
    lib                          0     0.63    
    Moose                        0     2.1404  
    Moose::Util::TypeConstraints 0     2.1404  
    syntax                       0.004 0.004   
    Test::Exception              0     0.43    
    Test::LeakTrace              0     0.15    
    Test::More                   0     1.302015
    Test::NoWarnings             0     1.04    
    Test::Spec                   0     0.51    
    Test::Warn                   0     0.30    
    Throwable                    0     0.200012

configure_requires:

    Module                       Need  Have    
    ---------------------------- ----- --------
    ExtUtils::MakeMaker          0     7.10    


------------------------------
ENVIRONMENT AND OTHER CONTEXT
------------------------------

Environment variables:

    LANG = de_DE.UTF-8
    PATH = /usr/local/bin:/usr/bin:/bin:/usr/local/sbin:/usr/sbin:/sbin:/home/eserte/bin/linux-gnu:/home/eserte/bin/sh:/home/eserte/bin:/home/eserte/bin/pistachio-perl/bin:/usr/games:/home/eserte/devel:/home/eserte/src/srezic-misc/scripts
    PERL5LIB = /home/eserte/.cpan/build/2016051521/Test-Spec-0.51-EWoVSL/blib/arch:/home/eserte/.cpan/build/2016051521/Test-Spec-0.51-EWoVSL/blib/lib:/home/eserte/.cpan/build/2016051521/Test-Trap-v0.3.2-OXSaj4/blib/arch:/home/eserte/.cpan/build/2016051521/Test-Trap-v0.3.2-OXSaj4/blib/lib:/home/eserte/.cpan/build/2016051521/syntax-0.004-thJZSh/blib/arch:/home/eserte/.cpan/build/2016051521/syntax-0.004-thJZSh/blib/lib
    PERL5OPT = 
    PERL5_CPANPLUS_IS_RUNNING = 16393
    PERL5_CPAN_IS_RUNNING = 16393
    PERL5_CPAN_IS_RUNNING_IN_RECURSION = 4459,16393
    PERLDOC = -MPod::Perldoc::ToTextOverstrike
    PERL_BATCH = yes
    PERL_CANARY_STABILITY_NOPROMPT = 1
    PERL_CPAN_REPORTER_CONFIG = /var/tmp/cpansmoker-1002/2016051521/cpanreporter_000_config.ini
    PERL_EXTUTILS_AUTOINSTALL = --defaultdeps
    SHELL = /bin/zsh
    TERM = screen
    TMPDIR = /var/tmp/cpansmoker-1002/2016051521

Perl special variables (and OS-specific diagnostics, for MSWin32):

    $^X = /home/eserte/perl5/perlbrew/perls/perl-5.20.2/bin/perl5.20.2
    $UID/$EUID = 1002 / 1002
    $GID = 1001 1001
    $EGID = 1001 1001

Perl module toolchain versions installed:

    Module              Have    
    ------------------- --------
    CPAN                2.10    
    CPAN::Meta          2.150005
    Cwd                 3.48_01 
    ExtUtils::CBuilder  0.280223
    ExtUtils::Command   7.10    
    ExtUtils::Install   2.04    
    ExtUtils::MakeMaker 7.10    
    ExtUtils::Manifest  1.70    
    ExtUtils::ParseXS   3.30    
    File::Spec          3.48_01 
    JSON                2.90    
    JSON::PP            2.27300 
    Module::Build       0.4211  
    Module::Signature   0.79    
    Parse::CPAN::Meta   1.4414  
    Test::Harness       3.36    
    Test::More          1.302015
    YAML                1.15    
    YAML::Syck          1.29    
    version             0.9909  


--

Summary of my perl5 (revision 5 version 20 subversion 2) configuration:
   
  Platform:
    osname=linux, osvers=3.13.0-24-generic, archname=x86_64-linux
    uname='linux w1wc 3.13.0-24-generic #47-ubuntu smp fri may 2 23:30:00 utc 2014 x86_64 x86_64 x86_64 gnulinux '
    config_args='-de -Dprefix=/home/eserte/perl5/perlbrew/perls/perl-5.20.2 -Aeval:scriptdir=/home/eserte/perl5/perlbrew/perls/perl-5.20.2/bin'
    hint=recommended, useposix=true, d_sigaction=define
    useithreads=undef, usemultiplicity=undef
    use64bitint=define, use64bitall=define, uselongdouble=undef
    usemymalloc=n, bincompat5005=undef
  Compiler:
    cc='cc', ccflags ='-fwrapv -fno-strict-aliasing -pipe -fstack-protector -I/usr/local/include -D_LARGEFILE_SOURCE -D_FILE_OFFSET_BITS=64',
    optimize='-O2',
    cppflags='-fwrapv -fno-strict-aliasing -pipe -fstack-protector -I/usr/local/include'
    ccversion='', gccversion='4.8.2', gccosandvers=''
    intsize=4, longsize=8, ptrsize=8, doublesize=8, byteorder=12345678
    d_longlong=define, longlongsize=8, d_longdbl=define, longdblsize=16
    ivtype='long', ivsize=8, nvtype='double', nvsize=8, Off_t='off_t', lseeksize=8
    alignbytes=8, prototype=define
  Linker and Libraries:
    ld='cc', ldflags =' -fstack-protector -L/usr/local/lib'
    libpth=/usr/local/lib /usr/lib/gcc/x86_64-linux-gnu/4.8/include-fixed /usr/include/x86_64-linux-gnu /usr/lib /lib/x86_64-linux-gnu /lib/../lib /usr/lib/x86_64-linux-gnu /usr/lib/../lib /lib
    libs=-lnsl -ldl -lm -lcrypt -lutil -lc
    perllibs=-lnsl -ldl -lm -lcrypt -lutil -lc
    libc=, so=so, useshrplib=false, libperl=libperl.a
    gnulibc_version='2.19'
  Dynamic Linking:
    dlsrc=dl_dlopen.xs, dlext=so, d_dlsymun=undef, ccdlflags='-Wl,-E'
    cccdlflags='-fPIC', lddlflags='-shared -O2 -L/usr/local/lib -fstack-protector'


Characteristics of this binary (from libperl): 
  Compile-time options: HAS_TIMES PERLIO_LAYERS PERL_DONT_CREATE_GVSV
                        PERL_HASH_FUNC_ONE_AT_A_TIME_HARD PERL_MALLOC_WRAP
                        PERL_NEW_COPY_ON_WRITE PERL_PRESERVE_IVUV
                        USE_64_BIT_ALL USE_64_BIT_INT USE_LARGE_FILES
                        USE_LOCALE USE_LOCALE_COLLATE USE_LOCALE_CTYPE
                        USE_LOCALE_NUMERIC USE_PERLIO USE_PERL_ATOF
  Built under linux
  Compiled at Apr 30 2015 20:10:21
  %ENV:
    PERL5LIB="/home/eserte/.cpan/build/2016051521/Test-Spec-0.51-EWoVSL/blib/arch:/home/eserte/.cpan/build/2016051521/Test-Spec-0.51-EWoVSL/blib/lib:/home/eserte/.cpan/build/2016051521/Test-Trap-v0.3.2-OXSaj4/blib/arch:/home/eserte/.cpan/build/2016051521/Test-Trap-v0.3.2-OXSaj4/blib/lib:/home/eserte/.cpan/build/2016051521/syntax-0.004-thJZSh/blib/arch:/home/eserte/.cpan/build/2016051521/syntax-0.004-thJZSh/blib/lib"
    PERL5OPT=""
    PERL5_CPANPLUS_IS_RUNNING="16393"
    PERL5_CPAN_IS_RUNNING="16393"
    PERL5_CPAN_IS_RUNNING_IN_RECURSION="4459,16393"
    PERLDOC="-MPod::Perldoc::ToTextOverstrike"
    PERL_BATCH="yes"
    PERL_CANARY_STABILITY_NOPROMPT="1"
    PERL_CPAN_REPORTER_CONFIG="/var/tmp/cpansmoker-1002/2016051521/cpanreporter_000_config.ini"
    PERL_EXTUTILS_AUTOINSTALL="--defaultdeps"
  @INC:
    /home/eserte/.cpan/build/2016051521/Test-Spec-0.51-EWoVSL/blib/arch
    /home/eserte/.cpan/build/2016051521/Test-Spec-0.51-EWoVSL/blib/lib
    /home/eserte/.cpan/build/2016051521/Test-Trap-v0.3.2-OXSaj4/blib/arch
    /home/eserte/.cpan/build/2016051521/Test-Trap-v0.3.2-OXSaj4/blib/lib
    /home/eserte/.cpan/build/2016051521/syntax-0.004-thJZSh/blib/arch
    /home/eserte/.cpan/build/2016051521/syntax-0.004-thJZSh/blib/lib
    /home/eserte/perl5/perlbrew/perls/perl-5.20.2/lib/site_perl/5.20.2/x86_64-linux
    /home/eserte/perl5/perlbrew/perls/perl-5.20.2/lib/site_perl/5.20.2
    /home/eserte/perl5/perlbrew/perls/perl-5.20.2/lib/5.20.2/x86_64-linux
    /home/eserte/perl5/perlbrew/perls/perl-5.20.2/lib/5.20.2
    .