Report for Debian-Copyright-0.2

Back
From: metabase:user:cd035d39-6d5b-1014-ab3a-39c0c09612a1
Subject: PASS Debian-Copyright-0.2 v5.20.2 
Date: 2015-03-03T15:10:51Z

This distribution has been tested as part of the CPAN Testers
project, supporting the Perl programming language.  See
http://wiki.cpantesters.org/ for more information or email
questions to cpan-testers-discuss@perl.org


--
Dear Nicholas Bamber,

This is a computer-generated report for Debian-Copyright-0.2
on perl 5.20.2, created by CPAN-Reporter-1.2011.

Thank you for uploading your work to CPAN.  Congratulations!
All tests were successful.

Sections of this report:

    * Tester comments
    * Program output
    * Prerequisites
    * Environment and other context

------------------------------
TESTER COMMENTS
------------------------------

Additional comments from tester:

this report is from an automated smoke testing program
and was not reviewed by a human for accuracy

------------------------------
PROGRAM OUTPUT
------------------------------

Output from 'C:\Strawberry\perl\bin\perl.exe ./Build test':

# Testing 0.2
t\00.load.t ....... ok
t\01.basic.t ...... ok
t\02.mysql.t ...... ok
t\manifest.t ...... skipped: Author test.  Set $ENV{TEST_AUTHOR} to a true value to run.
t\perlcritic.t .... skipped: Author test.  Set $ENV{TEST_AUTHOR} to a true value to run.
t\pod-coverage.t .. skipped: Author test.  Set $ENV{TEST_AUTHOR} to a true value to run.
t\pod.t ........... skipped: Author test.  Set $ENV{TEST_AUTHOR} to a true value to run.
t\podspell.t ...... skipped: Author test.  Set $ENV{TEST_AUTHOR} to a true value to run.
t\prereq.t ........ skipped: Author test.  Set $ENV{TEST_PREREQ} to a true value to run.
t\version.t ....... skipped: Author test. Set $ENV{TEST_AUTHOR} to run.
All tests successful.
Files=10, Tests=104,  4 wallclock secs ( 0.16 usr +  0.05 sys =  0.20 CPU)
Result: PASS

------------------------------
PREREQUISITES
------------------------------

Prerequisite modules loaded:

requires:

    Module            Need    Have    
    ----------------- ------- --------
    Array::Unique     0       0.08    
    Class::Accessor   0       0.34    
    Parse::DebControl 0       2.005   
    perl              v5.10.1 5.020002
    Tie::IxHash       0       1.23    

build_requires:

    Module            Need    Have    
    ----------------- ------- --------
    Perl6::Slurp      0       0.051005
    Test::Deep        0       0.115   
    Test::Exception   0       0.36    
    Test::LongString  0       0.17    
    Test::More        0       1.001014
    Test::NoWarnings  0       1.04    

configure_requires:

    Module            Need    Have    
    ----------------- ------- --------
    Module::Build     0.38    0.4211  


------------------------------
ENVIRONMENT AND OTHER CONTEXT
------------------------------

Environment variables:

    AUTOMATED_TESTING = 1
    COMSPEC = C:\WINDOWS.0\system32\cmd.exe
    NONINTERACTIVE_TESTING = 1
    NUMBER_OF_PROCESSORS = 1
    PATH = C:\WINDOWS.0\system32;C:\strawberry\c\bin;C:\strawberry\perl\site\bin;C:\strawberry\perl\bin
    PERL5LIB = C:\cpan\build\Array-Unique-0.08-hU8fG_/blib/arch;C:\cpan\build\Array-Unique-0.08-hU8fG_/blib/lib;C:\cpan\build\Test-LongString-0.17-jIJEnd/blib/arch;C:\cpan\build\Test-LongString-0.17-jIJEnd/blib/lib;C:\cpan\build\Tie-IxHash-1.23-K1fU_B/blib/arch;C:\cpan\build\Tie-IxHash-1.23-K1fU_B/blib/lib;C:\cpan\build\Parse-DebControl-2.005-dZyjyA/blib/arch;C:\cpan\build\Parse-DebControl-2.005-dZyjyA/blib/lib;C:\cpan\build\Perl6-Slurp-0.051005-orglL0/blib/arch;C:\cpan\build\Perl6-Slurp-0.051005-orglL0/blib/lib
    PERL5OPT = 
    PERL5_CPANPLUS_IS_RUNNING = 3388
    PERL5_CPAN_IS_RUNNING = 3388
    PERL5_CPAN_IS_RUNNING_IN_RECURSION = 3912,3388
    PERL_CR_SMOKER_CURRENT = Debian-Copyright-0.2
    PERL_EXTUTILS_AUTOINSTALL = --defaultdeps
    PERL_MM_USE_DEFAULT = 1
    PROCESSOR_IDENTIFIER = x86 Family 6 Model 14 Stepping 8, GenuineIntel
    TEMP = C:\DOKUME~1\smoker\LOKALE~1\Temp
    TERM = dumb

Perl special variables (and OS-specific diagnostics, for MSWin32):

    $^X = C:\Strawberry\perl\bin\perl.exe
    $UID/$EUID = 0 / 0
    $GID = 0
    $EGID = 0
    Win32::GetOSName = WinXP/.Net
    Win32::GetOSVersion = Service Pack 3, 5, 1, 2600, 2, 3, 0, 256, 1
    Win32::FsType = NTFS
    Win32::IsAdminUser = 1

Perl module toolchain versions installed:

    Module              Have    
    ------------------- --------
    CPAN                2.05    
    CPAN::Meta          2.143240
    Cwd                 3.48_01 
    ExtUtils::CBuilder  0.280220
    ExtUtils::Command   1.20    
    ExtUtils::Install   2.04    
    ExtUtils::MakeMaker 7.04    
    ExtUtils::Manifest  1.70    
    ExtUtils::ParseXS   3.24    
    File::Spec          3.48_01 
    JSON                2.90    
    JSON::PP            2.27300 
    Module::Build       0.4211  
    Module::Signature   n/a     
    Parse::CPAN::Meta   1.4414  
    Test::Harness       3.35    
    Test::More          1.001014
    YAML                1.14    
    YAML::Syck          n/a     
    version             0.9912  


--

Summary of my perl5 (revision 5 version 20 subversion 2) configuration:
   
  Platform:
    osname=MSWin32, osvers=6.3, archname=MSWin32-x86-multi-thread-64int
    uname='Win32 strawberry-perl 5.20.2.1 #1 Sat Feb 21 12:32:00 2015 i386'
    config_args='undef'
    hint=recommended, useposix=true, d_sigaction=undef
    useithreads=define, usemultiplicity=define
    use64bitint=define, use64bitall=undef, uselongdouble=undef
    usemymalloc=n, bincompat5005=undef
  Compiler:
    cc='gcc', ccflags =' -s -O2 -DWIN32  -DPERL_TEXTMODE_SCRIPTS -DPERL_IMPLICIT_CONTEXT -DPERL_IMPLICIT_SYS -DUSE_PERLIO -fwrapv -fno-strict-aliasing -mms-bitfields',
    optimize='-s -O2',
    cppflags='-DWIN32'
    ccversion='', gccversion='4.8.3', gccosandvers=''
    intsize=4, longsize=4, ptrsize=4, doublesize=8, byteorder=12345678
    d_longlong=define, longlongsize=8, d_longdbl=define, longdblsize=12
    ivtype='long long', ivsize=8, nvtype='double', nvsize=8, Off_t='long long', lseeksize=8
    alignbytes=8, prototype=define
  Linker and Libraries:
    ld='g++', ldflags ='-s -L"C:\STRAWB~1\perl\lib\CORE" -L"C:\STRAWB~1\c\lib"'
    libpth=C:\STRAWB~1\c\lib C:\STRAWB~1\c\i686-w64-mingw32\lib C:\STRAWB~1\c\lib\gcc\i686-w64-mingw32\4.8.3
    libs=-lmoldname -lkernel32 -luser32 -lgdi32 -lwinspool -lcomdlg32 -ladvapi32 -lshell32 -lole32 -loleaut32 -lnetapi32 -luuid -lws2_32 -lmpr -lwinmm -lversion -lodbc32 -lodbccp32 -lcomctl32
    perllibs=-lmoldname -lkernel32 -luser32 -lgdi32 -lwinspool -lcomdlg32 -ladvapi32 -lshell32 -lole32 -loleaut32 -lnetapi32 -luuid -lws2_32 -lmpr -lwinmm -lversion -lodbc32 -lodbccp32 -lcomctl32
    libc=, so=dll, useshrplib=true, libperl=libperl520.a
    gnulibc_version=''
  Dynamic Linking:
    dlsrc=dl_win32.xs, dlext=xs.dll, d_dlsymun=undef, ccdlflags=' '
    cccdlflags=' ', lddlflags='-mdll -s -L"C:\STRAWB~1\perl\lib\CORE" -L"C:\STRAWB~1\c\lib"'


Characteristics of this binary (from libperl): 
  Compile-time options: HAS_TIMES HAVE_INTERP_INTERN MULTIPLICITY
                        PERLIO_LAYERS PERL_DONT_CREATE_GVSV
                        PERL_HASH_FUNC_ONE_AT_A_TIME_HARD
                        PERL_IMPLICIT_CONTEXT PERL_IMPLICIT_SYS
                        PERL_MALLOC_WRAP PERL_NEW_COPY_ON_WRITE
                        PERL_PRESERVE_IVUV USE_64_BIT_INT USE_ITHREADS
                        USE_LARGE_FILES USE_LOCALE USE_LOCALE_COLLATE
                        USE_LOCALE_CTYPE USE_LOCALE_NUMERIC USE_PERLIO
                        USE_PERL_ATOF
  Built under MSWin32
  Compiled at Feb 21 2015 12:36:01
  %ENV:
    PERL5LIB="C:\cpan\build\Array-Unique-0.08-hU8fG_/blib/arch;C:\cpan\build\Array-Unique-0.08-hU8fG_/blib/lib;C:\cpan\build\Test-LongString-0.17-jIJEnd/blib/arch;C:\cpan\build\Test-LongString-0.17-jIJEnd/blib/lib;C:\cpan\build\Tie-IxHash-1.23-K1fU_B/blib/arch;C:\cpan\build\Tie-IxHash-1.23-K1fU_B/blib/lib;C:\cpan\build\Parse-DebControl-2.005-dZyjyA/blib/arch;C:\cpan\build\Parse-DebControl-2.005-dZyjyA/blib/lib;C:\cpan\build\Perl6-Slurp-0.051005-orglL0/blib/arch;C:\cpan\build\Perl6-Slurp-0.051005-orglL0/blib/lib"
    PERL5_CPANPLUS_IS_RUNNING="3388"
    PERL5_CPAN_IS_RUNNING="3388"
    PERL5_CPAN_IS_RUNNING_IN_RECURSION="3912,3388"
    PERL_CR_SMOKER_CURRENT="Debian-Copyright-0.2"
    PERL_EXTUTILS_AUTOINSTALL="--defaultdeps"
    PERL_MM_USE_DEFAULT="1"
  @INC:
    C:\cpan\build\Array-Unique-0.08-hU8fG_/blib/arch
    C:\cpan\build\Array-Unique-0.08-hU8fG_/blib/lib
    C:\cpan\build\Test-LongString-0.17-jIJEnd/blib/arch
    C:\cpan\build\Test-LongString-0.17-jIJEnd/blib/lib
    C:\cpan\build\Tie-IxHash-1.23-K1fU_B/blib/arch
    C:\cpan\build\Tie-IxHash-1.23-K1fU_B/blib/lib
    C:\cpan\build\Parse-DebControl-2.005-dZyjyA/blib/arch
    C:\cpan\build\Parse-DebControl-2.005-dZyjyA/blib/lib
    C:\cpan\build\Perl6-Slurp-0.051005-orglL0/blib/arch
    C:\cpan\build\Perl6-Slurp-0.051005-orglL0/blib/lib
    C:/Strawberry/perl/site/lib
    C:/Strawberry/perl/vendor/lib
    C:/Strawberry/perl/lib
    .