Report for Dancer2-0.13

Back
From: metabase:user:dc1c8589-6bf4-1014-abca-562cf06b08ef
Subject: PASS Dancer2-0.13 v5.16.3 
Date: 2014-04-13T22:36:36Z

This distribution has been tested as part of the CPAN Testers
project, supporting the Perl programming language.  See
http://wiki.cpantesters.org/ for more information or email
questions to cpan-testers-discuss@perl.org


--
Dear Sawyer X,

This is a computer-generated report for Dancer2-0.13
on perl 5.16.3, created by CPAN-Reporter-1.2011.

Thank you for uploading your work to CPAN.  Congratulations!
All tests were successful.

Sections of this report:

    * Tester comments
    * Program output
    * Prerequisites
    * Environment and other context

------------------------------
TESTER COMMENTS
------------------------------

Additional comments from tester:

none provided

------------------------------
PROGRAM OUTPUT
------------------------------

Output from 'C:\strawberry-perl-5.16-32bit\perl\bin\perl.exe ./Build test':

script/dancer2 syntax OK
t/00-compile.t ............................. ok
# Prerequisite Report:
#    Version Module                      
#   -------- ----------------------------
#      0.323 App::Cmd::Setup             
#    missing CGI::Deurl::XS              
#       0.24 Capture::Tiny               
#     1.3301 Carp                        
#       0.21 Class::Load                 
#       0.08 Class::Load::XS             
#       0.24 Config::Any                 
#    missing Crypt::URandom              
#       3.40 Cwd                         
#      2.151 Data::Dumper                
#       5.88 Digest::SHA                 
#       2.59 Encode                      
#       5.68 Exporter                    
#       6.96 ExtUtils::MakeMaker         
#       1.11 Fcntl                       
#       2.84 File::Basename              
#       2.23 File::Copy                  
#       1.20 File::Find                  
#       2.09 File::Path                  
#       1.03 File::ShareDir              
#       0.08 File::ShareDir::Install     
#       3.40 File::Spec                  
#       3.40 File::Spec::Functions       
#     0.2304 File::Temp                  
#       1.51 FindBin                     
#       1.19 HTTP::Body                  
#       6.02 HTTP::Date                  
#       6.05 HTTP::Headers               
#       6.00 HTTP::Request               
#       6.04 HTTP::Request::Common       
#       0.16 HTTP::Server::Simple::PSGI  
#      0.051 Hash::Merge::Simple         
#       1.16 IO::File                    
#       1.33 IO::Handle                  
#       1.12 IPC::Open3                  
#       2.90 JSON                        
#       3.01 JSON::XS                    
#       0.06 LWP::Protocol::PSGI         
#       6.05 LWP::UserAgent              
#       1.38 List::Util                  
#       3.14 MIME::Base64                
#       2.04 MIME::Types                 
#    missing Math::Random::ISAAC::XS     
#     0.4205 Module::Build               
#   1.004002 Moo                         
#   1.004002 Moo::Role                   
#       0.25 MooX::Types::MooseLike      
#       0.25 MooX::Types::MooseLike::Base
#       1.30 POSIX                       
#     1.0030 Plack::Request              
#      undef Plack::Test                 
#       3.28 Pod::Simple::Search         
#       3.28 Pod::Simple::SimpleTree     
#       0.03 Return::MultiLevel          
#   1.003003 Role::Tiny                  
#       1.38 Scalar::Util                
#       0.24 Scope::Upper                
#       2.25 Template                    
#       1.12 Template::Tiny              
#   1.001003 Test::Builder               
#      0.013 Test::Fatal                 
#       0.12 Test::MockTime              
#   1.001003 Test::More                  
#       1.07 Test::Script                
#       2.02 Test::TCP                   
#       1.60 URI                         
#       3.31 URI::Escape                 
#    missing URL::Encode::XS             
#       0.90 YAML                        
#       0.63 lib                         
#       1.18 overload                    
#      0.228 parent                      
#       1.07 strict                      
#       1.09 utf8                        
#       1.02 vars                        
#       1.13 warnings                    
t/00-report-prereqs.t ...................... ok
t/ajax_plugin.t ............................ ok
t/any.t .................................... ok
t/app.t .................................... ok
t/auto_page.t .............................. ok
>> Dancer2 v0.13 server -7404 listening on http://0.0.0.0:50944
t/charset_server.t ......................... ok
t/config.t ................................. ok
t/config_app1.t ............................ ok
t/config_app2.t ............................ ok
t/config_app3.t ............................ ok
t/config_settings.t ........................ ok
t/context.t ................................ ok
>> Dancer2 v0.13 server -7860 listening on http://0.0.0.0:50970
t/context_trigger.t ........................ ok
t/cookie.t ................................. ok
t/custom_dsl.t ............................. ok
t/dancer-test.t ............................ ok
t/deserialize.t ............................ ok
t/dispatcher.t ............................. ok
t/dsl.t .................................... ok
t/dsl/halt.t ............................... ok
t/engine.t ................................. ok
t/error.t .................................. ok
t/error_template.t ......................... ok
t/factory.t ................................ ok
t/file_utils.t ............................. ok
t/forward.t ................................ ok
t/forward_before_hook.t .................... ok
>> Dancer2 v0.13 server -7760 listening on http://0.0.0.0:50085
t/forward_test_tcp.t ....................... ok
t/handler_file.t ........................... ok
t/hooks.t .................................. ok
t/http_methods.t ........................... ok
t/http_status.t ............................ ok
t/logger.t ................................. ok
t/logger_console.t ......................... ok
t/mime.t ................................... ok
t/plugin_import.t .......................... ok
t/plugin_multiple_apps.t ................... ok
t/plugin_register.t ........................ ok
t/plugin_syntax.t .......................... ok
t/redirect.t ............................... ok
t/release-distmeta.t ....................... skipped: these tests are for release candidate testing
t/release-no-tabs.t ........................ skipped: these tests are for release candidate testing
t/release-pod-syntax.t ..................... skipped: these tests are for release candidate testing
# If you want extra speed, install URL::Encode::XS
# If you want extra speed, install CGI::Deurl::XS
t/request.t ................................ ok
# If you want extra speed, install URL::Encode::XS
# If you want extra speed, install CGI::Deurl::XS
t/request_params.t ......................... ok
# If you want extra speed, install URL::Encode::XS
# If you want extra speed, install CGI::Deurl::XS
t/request_upload.t ......................... ok
t/response.t ............................... ok
t/roles/headers.t .......................... ok
t/roles/hook.t ............................. ok
t/roles/server.t ........................... ok
t/route-pod-coverage/route-pod-coverage.t .. ok
t/route.t .................................. ok
t/runner.t ................................. ok
t/serializer.t ............................. ok
t/serializer_json.t ........................ ok
t/server.t ................................. ok
>> Dancer2 v0.13 server -8688 listening on http://0.0.0.0:50261
t/server_standalone.t ...................... ok
>> Dancer2 v0.13 server -8796 listening on http://0.0.0.0:50082
>> Dancer2 v0.13 server -8860 listening on http://0.0.0.0:50672
>> Dancer2 v0.13 server -8892 listening on http://0.0.0.0:50676
t/session_config.t ......................... ok
>> Dancer2 v0.13 server -8984 listening on http://0.0.0.0:50096
>> Dancer2 v0.13 server -9036 listening on http://0.0.0.0:50593
t/session_engines.t ........................ ok
>> Dancer2 v0.13 server -9116 listening on http://0.0.0.0:50596
t/session_forward.t ........................ ok
t/session_hooks.t .......................... ok
# Testing engine YAML
>> Dancer2 v0.13 server -8356 listening on http://0.0.0.0:50524
# Testing engine Simple
>> Dancer2 v0.13 server -8444 listening on http://0.0.0.0:50981
t/session_lifecycle.t ...................... ok
# Default strength tokens
t/session_object.t ......................... ok
>> Dancer2 v0.13 server -8848 listening on http://0.0.0.0:50044
t/shared_engines.t ......................... ok
t/splat.t .................................. ok
t/template.t ............................... ok
t/template_default_tokens.t ................ ok
t/template_ext.t ........................... ok
t/template_name.t .......................... ok
t/template_simple.t ........................ ok
t/template_tiny/01_compile.t ............... ok
t/template_tiny/02_trivial.t ............... ok
t/template_tiny/03_samples.t ............... ok
t/template_tiny/04_compat.t ................ ok
t/template_tiny/05_preparse.t .............. ok
t/time.t ................................... ok
t/types.t .................................. ok
t/uri_for.t ................................ ok
t/vars.t ................................... ok
All tests successful.
Files=80, Tests=1021, 159 wallclock secs ( 0.67 usr +  0.17 sys =  0.84 CPU)
Result: PASS

------------------------------
PREREQUISITES
------------------------------

Prerequisite modules loaded:

requires:

    Module                       Need     Have    
    ---------------------------- -------- --------
    App::Cmd::Setup              0        0.323   
    Carp                         0        1.3301  
    Class::Load                  0        0.21    
    Config::Any                  0        0.24    
    Cwd                          0        3.40    
    Data::Dumper                 0        2.151   
    Digest::SHA                  0        5.88    
    Encode                       0        2.59    
    Exporter                     5.57     5.68    
    Fcntl                        0        1.11    
    File::Basename               0        2.84    
    File::Copy                   0        2.23    
    File::Find                   0        1.20    
    File::Path                   0        2.09    
    File::ShareDir               1.00     1.03    
    File::Spec                   0        3.40    
    File::Spec::Functions        0        3.40    
    File::Temp                   0.22     0.2304  
    Hash::Merge::Simple          0        0.051   
    HTTP::Body                   0        1.19    
    HTTP::Date                   0        6.02    
    HTTP::Headers                0        6.05    
    HTTP::Server::Simple::PSGI   0        0.16    
    IO::File                     0        1.16    
    JSON                         0        2.90    
    List::Util                   0        1.38    
    LWP::UserAgent               0        6.05    
    MIME::Base64                 3.13     3.14    
    MIME::Types                  0        2.04    
    Moo                          1.003000 1.004002
    Moo::Role                    0        1.004002
    MooX::Types::MooseLike       0.16     0.25    
    MooX::Types::MooseLike::Base 0        0.25    
    overload                     0        1.18    
    parent                       0        0.228   
    perl                         5.00503  5.016003
    Plack::Request               0        1.0030  
    Pod::Simple::Search          0        3.28    
    Pod::Simple::SimpleTree      0        3.28    
    POSIX                        0        1.30    
    Return::MultiLevel           0        0.03    
    Role::Tiny                   1.003000 1.003003
    Scalar::Util                 0        1.38    
    strict                       0        1.07    
    Template                     0        2.25    
    Template::Tiny               0        1.12    
    Test::Builder                0        1.001003
    Test::More                   0.92     1.001003
    URI                          0        1.60    
    URI::Escape                  0        3.31    
    warnings                     0        1.13    
    YAML                         0        0.90    

build_requires:

    Module                       Need     Have    
    ---------------------------- -------- --------
    Capture::Tiny                0.12     0.24    
    ExtUtils::MakeMaker          0        6.96    
    File::Temp                   0.22     0.2304  
    FindBin                      0        1.51    
    HTTP::Body                   0        1.19    
    HTTP::Request                0        6.00    
    HTTP::Request::Common        0        6.04    
    HTTP::Server::Simple::PSGI   0        0.16    
    IO::Handle                   0        1.33    
    IPC::Open3                   0        1.12    
    lib                          0        0.63    
    LWP::Protocol::PSGI          0.06     0.06    
    Module::Build                0.3601   0.4205  
    Plack::Test                  0        0       
    Test::Fatal                  0        0.013   
    Test::MockTime               0        0.12    
    Test::More                   0.92     1.001003
    Test::Script                 0        1.07    
    Test::TCP                    1.13     2.02    
    utf8                         0        1.09    
    vars                         0        1.02    
    YAML                         0        0.90    

configure_requires:

    Module                       Need     Have    
    ---------------------------- -------- --------
    ExtUtils::MakeMaker          6.30     6.96    
    File::ShareDir::Install      0.03     0.08    
    Module::Build                0.3601   0.4205  


------------------------------
ENVIRONMENT AND OTHER CONTEXT
------------------------------

Environment variables:

    COMSPEC = C:\Windows\system32\cmd.exe
    NUMBER_OF_PROCESSORS = 4
    PATH = C:\strawberry-perl-5.16-32bit\perl\site\bin;C:\strawberry-perl-5.16-32bit\perl\bin;C:\strawberry-perl-5.16-32bit\c\bin;C:\Program Files (x86)\Wizvera\Delfino;C:\Windows\SYSTEM32;C:\Windows;C:\Windows\SYSTEM32\WBEM;C:\Windows\SYSTEM32\WINDOWSPOWERSHELL\V1.0\;C:\PROGRAM FILES (X86)\LENOVO\ACCESS CONNECTIONS\;C:\PROGRAM FILES\THINKPAD\BLUETOOTH SOFTWARE\;C:\PROGRAM FILES\THINKPAD\BLUETOOTH SOFTWARE\SYSWOW64;;C:\Program Files (x86)\Intel\OpenCL SDK\2.0\bin\x86;C:\Program Files (x86)\Intel\OpenCL SDK\2.0\bin\x64;C:\Program Files (x86)\Windows Kits\8.1\Windows Performance Toolkit\;C:\Program Files\Microsoft SQL Server\110\Tools\Binn\
    PERL5LIB = 
    PERL5OPT = 
    PERL5_CPANPLUS_IS_RUNNING = 3280
    PERL5_CPAN_IS_RUNNING = 3280
    PROCESSOR_IDENTIFIER = Intel64 Family 6 Model 42 Stepping 7, GenuineIntel
    TEMP = C:\Users\kang\AppData\Local\Temp
    TERM = dumb

Perl special variables (and OS-specific diagnostics, for MSWin32):

    $^X = C:\strawberry-perl-5.16-32bit\perl\bin\perl.exe
    $UID/$EUID = 0 / 0
    $GID = 0
    $EGID = 0
    Win32::GetOSName = Win7
    Win32::GetOSVersion = Service Pack 1, 6, 1, 7601, 2, 1, 0, 256, 1
    Win32::FsType = NTFS
    Win32::IsAdminUser = 0

Perl module toolchain versions installed:

    Module              Have    
    ------------------- --------
    CPAN                2.00    
    CPAN::Meta          2.140640
    Cwd                 3.40    
    ExtUtils::CBuilder  0.280216
    ExtUtils::Command   1.18    
    ExtUtils::Install   1.64    
    ExtUtils::MakeMaker 6.96    
    ExtUtils::Manifest  1.63    
    ExtUtils::ParseXS   3.24    
    File::Spec          3.40    
    JSON                2.90    
    JSON::PP            2.27203 
    Module::Build       0.4205  
    Module::Signature   0.73    
    Parse::CPAN::Meta   1.4414  
    Test::Harness       3.30    
    Test::More          1.001003
    YAML                0.90    
    YAML::Syck          1.27    
    version             0.9908  


--

Summary of my perl5 (revision 5 version 16 subversion 3) configuration:
   
  Platform:
    osname=MSWin32, osvers=4.0, archname=MSWin32-x86-multi-thread
    uname='Win32 strawberry-perl 5.16.3.1 #1 Tue Mar 12 13:55:20 2013 i386'
    config_args='undef'
    hint=recommended, useposix=true, d_sigaction=undef
    useithreads=define, usemultiplicity=define
    useperlio=define, d_sfio=undef, uselargefiles=define, usesocks=undef
    use64bitint=undef, use64bitall=undef, uselongdouble=undef
    usemymalloc=n, bincompat5005=undef
  Compiler:
    cc='gcc', ccflags =' -s -O2 -DWIN32  -DPERL_TEXTMODE_SCRIPTS -DPERL_IMPLICIT_CONTEXT -DPERL_IMPLICIT_SYS -fno-strict-aliasing -mms-bitfields',
    optimize='-s -O2',
    cppflags='-DWIN32'
    ccversion='', gccversion='4.6.3', gccosandvers=''
    intsize=4, longsize=4, ptrsize=4, doublesize=8, byteorder=1234
    d_longlong=undef, longlongsize=8, d_longdbl=define, longdblsize=12
    ivtype='long', ivsize=4, nvtype='double', nvsize=8, Off_t='long long', lseeksize=8
    alignbytes=8, prototype=define
  Linker and Libraries:
    ld='g++', ldflags ='-s -L"C:\strawberry-perl-5.16-32bit\perl\lib\CORE" -L"C:\strawberry-perl-5.16-32bit\c\lib"'
    libpth=C:\strawberry-perl-5.16-32bit\c\lib C:\strawberry-perl-5.16-32bit\c\i686-w64-mingw32\lib
    libs=-lmoldname -lkernel32 -luser32 -lgdi32 -lwinspool -lcomdlg32 -ladvapi32 -lshell32 -lole32 -loleaut32 -lnetapi32 -luuid -lws2_32 -lmpr -lwinmm -lversion -lodbc32 -lodbccp32 -lcomctl32
    perllibs=-lmoldname -lkernel32 -luser32 -lgdi32 -lwinspool -lcomdlg32 -ladvapi32 -lshell32 -lole32 -loleaut32 -lnetapi32 -luuid -lws2_32 -lmpr -lwinmm -lversion -lodbc32 -lodbccp32 -lcomctl32
    libc=, so=dll, useshrplib=true, libperl=libperl516.a
    gnulibc_version=''
  Dynamic Linking:
    dlsrc=dl_win32.xs, dlext=dll, d_dlsymun=undef, ccdlflags=' '
    cccdlflags=' ', lddlflags='-mdll -s -L"C:\strawberry-perl-5.16-32bit\perl\lib\CORE" -L"C:\strawberry-perl-5.16-32bit\c\lib"'


Characteristics of this binary (from libperl): 
  Compile-time options: HAS_TIMES HAVE_INTERP_INTERN MULTIPLICITY
                        PERLIO_LAYERS PERL_DONT_CREATE_GVSV
                        PERL_IMPLICIT_CONTEXT PERL_IMPLICIT_SYS
                        PERL_MALLOC_WRAP PERL_PRESERVE_IVUV PL_OP_SLAB_ALLOC
                        USE_ITHREADS USE_LARGE_FILES USE_LOCALE
                        USE_LOCALE_COLLATE USE_LOCALE_CTYPE
                        USE_LOCALE_NUMERIC USE_PERLIO USE_PERL_ATOF
  Built under MSWin32
  Compiled at Mar 12 2013 14:01:07
  %ENV:
    PERL5_CPANPLUS_IS_RUNNING="3280"
    PERL5_CPAN_IS_RUNNING="3280"
  @INC:
    C:/strawberry-perl-5.16-32bit/perl/site/lib/MSWin32-x86-multi-thread
    C:/strawberry-perl-5.16-32bit/perl/site/lib
    C:/strawberry-perl-5.16-32bit/perl/vendor/lib
    C:/strawberry-perl-5.16-32bit/perl/lib
    .