MooseX-Util v0.006 Perl 5 v5.16.3 x86_64-linux-thread-multi

Status
Pass
From
David Cantrell (DCANTRELL)
Dist
MooseX-Util v0.006
Platform
Perl 5 v5.16.3 x86_64-linux-thread-multi
Date
2020-12-05 14:39:15
ID
a647e556-3707-11eb-9b6e-9ebd2ce25bbc
This distribution has been tested as part of the CPAN Testers
project, supporting the Perl programming language.  See
http://wiki.cpantesters.org/ for more information or email
questions to cpan-testers-discuss@perl.org


--
Dear Chris Weyl,

This is a computer-generated report for MooseX-Util-0.006
on perl 5.16.3, created by CPAN-Reporter-1.2018.

Thank you for uploading your work to CPAN.  Congratulations!
All tests were successful.

Sections of this report:

    * Tester comments
    * Program output
    * Prerequisites
    * Environment and other context

------------------------------
TESTER COMMENTS
------------------------------

Additional comments from tester:

this report is from an automated smoke testing program
and was not reviewed by a human for accuracy

------------------------------
PROGRAM OUTPUT
------------------------------

Output from '/usr/bin/make test':

PERL_DL_NONLAZY=1 "/home/david/cpantesting/perl-5.16.3/bin/perl" "-MExtUtils::Command::MM" "-MTest::Harness" "-e" "undef *Test::Harness::Switches; test_harness(0, 'blib/lib', 'blib/arch')" t/*.t t/metaclass/*.t
t/00-check-deps.t ............. ok
t/00-compile.t ................ ok
# 
# 
# Generated by Dist::Zilla::Plugin::ReportVersions::Tiny v1.12
# perl: 5.016003 (wanted 5.006) on linux from /home/david/cpantesting/perl-5.16.3/bin/perl
# 
# Carp                                          => 1.26       (want any version)
# ExtUtils::MakeMaker                           => 7.34       (want any version)
# File::Spec                                    => 3.39_02    (want any version)
# IO::Handle                                    => 1.33       (want any version)
# IPC::Open3                                    => 1.12       (want any version)
# Moose                                         => 2.2013     (want any version)
# Moose::Meta::Class                            => 2.2013     (want any version)
# Moose::Role                                   => 2.2013     (want any version)
# Moose::Util                                   => 2.2013     (want any version)
# MooseX::TraitFor::Meta::Class::BetterAnonClassNames => 0.002003   (want 0.002001)
# Sub::Exporter::Progressive                    => 0.001013   (want any version)
# Test::CheckDeps                               => 0.010      (want 0.010)  
# Test::Moose::More                             => 0.050      (want 0.016)  
# Test::More                                    => 1.302183   (want 0.94)   
# Test::Requires                                => 0.11       (want any version)
# aliased                                       => 0.34       (want any version)
# namespace::autoclean                          => 0.29       (want any version)
# parent                                        => 0.225      (want any version)
# strict                                        => 1.07       (want any version)
# warnings                                      => 1.13       (want any version)
# 
# Thanks for using my code.  I hope it works for you.
# If not, please try and include this output in the bug report.
# That will help me reproduce the issue and solve your problem.
# 
t/000-report-versions-tiny.t .. ok
t/basic.t ..................... ok
t/find_meta.t ................. ok
t/is_private.t ................ ok
t/metaclass/compat.t .......... skipped: Test requires module 'Reindeer' but it's not found
t/metaclass/validate.t ........ ok
t/with_traits.t ............... ok
All tests successful.
Files=9, Tests=61,  5 wallclock secs ( 0.03 usr  0.00 sys +  1.46 cusr  0.14 csys =  1.63 CPU)
Result: PASS

------------------------------
PREREQUISITES
------------------------------

Prerequisite modules loaded:

requires:

    Module                                              Need     Have    
    --------------------------------------------------- -------- --------
    Carp                                                0        1.26    
    Moose                                               0        2.2013  
    Moose::Meta::Class                                  0        2.2013  
    Moose::Util                                         0        2.2013  
    MooseX::TraitFor::Meta::Class::BetterAnonClassNames 0.002001 0.002003
    namespace::autoclean                                0        0.29    
    parent                                              0        0.225   
    perl                                                5.006    5.016003
    strict                                              0        1.07    
    Sub::Exporter::Progressive                          0        0.001013
    warnings                                            0        1.13    

build_requires:

    Module                                              Need     Have    
    --------------------------------------------------- -------- --------
    aliased                                             0        0.34    
    ExtUtils::MakeMaker                                 0        7.34    
    File::Spec                                          0        3.39_02 
    IO::Handle                                          0        1.33    
    IPC::Open3                                          0        1.12    
    Moose::Role                                         0        2.2013  
    Test::CheckDeps                                     0.010    0.010   
    Test::Moose::More                                   0.016    0.050   
    Test::More                                          0.94     1.302183
    Test::Requires                                      0        0.11    

configure_requires:

    Module                                              Need     Have    
    --------------------------------------------------- -------- --------
    ExtUtils::MakeMaker                                 0        7.34    
    perl                                                5.006    5.016003


------------------------------
ENVIRONMENT AND OTHER CONTEXT
------------------------------

Environment variables:

    AUTOMATED_TESTING = 1
    LANG = en_GB.UTF-8
    LANGUAGE = en_GB:en
    NONINTERACTIVE_TESTING = 1
    PATH = /usr/local/bin:/usr/bin:/bin:/usr/local/games:/usr/games
    PERL = 5.16.3
    PERL5LIB = 
    PERL5OPT = 
    PERL5_CPANPLUS_IS_RUNNING = 13271
    PERL5_CPAN_IS_RUNNING = 13271
    PERLVER = 5.16.3
    PERL_INLINE_DIRECTORY = /home/david/.Inline-5.16.3
    PERL_MM_USE_DEFAULT = 1
    PERL_USE_UNSAFE_INC = 0
    SHELL = /bin/bash
    TERM = screen

Perl special variables (and OS-specific diagnostics, for MSWin32):

    $^X = /home/david/cpantesting/perl-5.16.3/bin/perl
    $UID/$EUID = 1000 / 1000
    $GID = 1000 24 25 27 29 30 44 46 109 1000
    $EGID = 1000 24 25 27 29 30 44 46 109 1000

Perl module toolchain versions installed:

    Module              Have    
    ------------------- --------
    CPAN                1.9800  
    CPAN::Meta          2.143240
    Cwd                 3.39_02 
    ExtUtils::CBuilder  0.280206
    ExtUtils::Command   7.34    
    ExtUtils::Install   2.06    
    ExtUtils::MakeMaker 7.34    
    ExtUtils::Manifest  1.70    
    ExtUtils::ParseXS   3.16    
    File::Spec          3.39_02 
    JSON                4.02    
    JSON::PP            4.02    
    Module::Build       0.39_01 
    Module::Signature   n/a     
    Parse::CPAN::Meta   1.4414  
    Test::Harness       3.42    
    Test::More          1.302183
    YAML                1.30    
    YAML::Syck          n/a     
    version             0.99    


--

Summary of my perl5 (revision 5 version 16 subversion 3) configuration:
   
  Platform:
    osname=linux, osvers=4.9.0-8-amd64, archname=x86_64-linux-thread-multi
    uname='linux pigsty 4.9.0-8-amd64 #1 smp debian 4.9.144-3 (2019-02-02) x86_64 gnulinux '
    config_args='-de -Duse64bitall -Dusethreads -Dprefix=/home/david/cpantesting/perl-5.16.3 -A ccflags=-fwrapv'
    hint=previous, useposix=true, d_sigaction=define
    useithreads=define, usemultiplicity=define
    useperlio=define, d_sfio=undef, uselargefiles=define, usesocks=undef
    use64bitint=define, use64bitall=define, uselongdouble=undef
    usemymalloc=n, bincompat5005=undef
  Compiler:
    cc='cc', ccflags ='-D_REENTRANT -D_GNU_SOURCE -fwrapv -fno-strict-aliasing -pipe -fstack-protector -I/usr/local/include -D_LARGEFILE_SOURCE -D_FILE_OFFSET_BITS=64 -fwrapv -fwrapv',
    optimize='-O2',
    cppflags='-D_REENTRANT -D_GNU_SOURCE -fwrapv -fno-strict-aliasing -pipe -fstack-protector -I/usr/local/include -D_REENTRANT -D_GNU_SOURCE -fwrapv -fno-strict-aliasing -pipe -fstack-protector -I/usr/local/include -D_LARGEFILE_SOURCE -D_FILE_OFFSET_BITS=64 -fwrapv -D_REENTRANT -D_GNU_SOURCE -fwrapv -fno-strict-aliasing -pipe -fstack-protector -I/usr/local/include -D_LARGEFILE_SOURCE -D_FILE_OFFSET_BITS=64 -fwrapv -fwrapv'
    ccversion='', gccversion='6.3.0 20170516', gccosandvers=''
    intsize=4, longsize=8, ptrsize=8, doublesize=8, byteorder=12345678
    d_longlong=define, longlongsize=8, d_longdbl=define, longdblsize=16
    ivtype='long', ivsize=8, nvtype='double', nvsize=8, Off_t='off_t', lseeksize=8
    alignbytes=8, prototype=define
  Linker and Libraries:
    ld='cc', ldflags =' -fstack-protector -L/usr/local/lib'
    libpth=/usr/local/lib /lib/x86_64-linux-gnu /lib/../lib /usr/lib/x86_64-linux-gnu /usr/lib/../lib /lib /usr/lib
    libs=-lnsl -ldb -ldl -lm -lcrypt -lutil -lpthread -lc
    perllibs=-lnsl -ldl -lm -lcrypt -lutil -lpthread -lc
    libc=libc-2.24.so, so=so, useshrplib=false, libperl=libperl.a
    gnulibc_version='2.24'
  Dynamic Linking:
    dlsrc=dl_dlopen.xs, dlext=so, d_dlsymun=undef, ccdlflags='-Wl,-E'
    cccdlflags='-fPIC', lddlflags='-shared -O2 -L/usr/local/lib -fstack-protector'


Characteristics of this binary (from libperl): 
  Compile-time options: HAS_TIMES MULTIPLICITY PERLIO_LAYERS
                        PERL_DONT_CREATE_GVSV PERL_IMPLICIT_CONTEXT
                        PERL_MALLOC_WRAP PERL_PRESERVE_IVUV USE_64_BIT_ALL
                        USE_64_BIT_INT USE_ITHREADS USE_LARGE_FILES
                        USE_LOCALE USE_LOCALE_COLLATE USE_LOCALE_CTYPE
                        USE_LOCALE_NUMERIC USE_PERLIO USE_PERL_ATOF
                        USE_REENTRANT_API
  Locally applied patches:
	Devel::PatchPerl 1.56
  Built under linux
  Compiled at Apr 25 2019 22:17:10
  %ENV:
    PERL="5.16.3"
    PERL5LIB=""
    PERL5OPT=""
    PERL5_CPANPLUS_IS_RUNNING="13271"
    PERL5_CPAN_IS_RUNNING="13271"
    PERLVER="5.16.3"
    PERL_INLINE_DIRECTORY="/home/david/.Inline-5.16.3"
    PERL_MM_USE_DEFAULT="1"
    PERL_USE_UNSAFE_INC="0"
  @INC:
    /home/david/cpantesting/perl-5.16.3/lib/site_perl/5.16.3/x86_64-linux-thread-multi
    /home/david/cpantesting/perl-5.16.3/lib/site_perl/5.16.3
    /home/david/cpantesting/perl-5.16.3/lib/5.16.3/x86_64-linux-thread-multi
    /home/david/cpantesting/perl-5.16.3/lib/5.16.3
    .