Alien-Base-ModuleBuild v1.17 Perl 5 v5.43.4 amd64-midnightbsd-thread-multi
- Status
- Pass
- From
- Carlos Guevara
- Dist
-
Alien-Base-ModuleBuild v1.17
- Platform
- Perl 5 v5.43.4 amd64-midnightbsd-thread-multi
- Date
- 2025-09-27 03:25:43
- ID
- a63b5f30-9b51-11f0-9c76-e20a32cb7f63
This distribution has been tested as part of the CPAN Testers
project, supporting the Perl programming language. See
http://wiki.cpantesters.org/ for more information or email
questions to cpan-testers-discuss@perl.org
--
Dear Graham Ollis,
This is a computer-generated report for Alien-Base-ModuleBuild-1.17
on perl 5.43.4, created by CPAN-Reporter-1.2020.
Thank you for uploading your work to CPAN. Congratulations!
All tests were successful.
Sections of this report:
* Tester comments
* Program output
* Prerequisites
* Environment and other context
------------------------------
TESTER COMMENTS
------------------------------
Additional comments from tester:
this report is from an automated smoke testing program
and was not reviewed by a human for accuracy
------------------------------
PROGRAM OUTPUT
------------------------------
Output from './Build test':
#
#
#
# HARNESS_ACTIVE=1
# HARNESS_VERSION=3.52
# LC_ALL=C
# PERL5LIB=/usr/home/cpan/.cpan/build/Alien-Base-ModuleBuild-1.17-0/blib/lib:/usr/home/cpan/.cpan/build/Alien-Base-ModuleBuild-1.17-0/blib/arch:
# PERL5OPT=
# PERL5_CPANPLUS_IS_RUNNING=42905
# PERL5_CPAN_IS_RUNNING=42905
# PERL_DL_NONLAZY=1
# PERL_MM_USE_DEFAULT=1
# PERL_PERTURB_KEYS=0
# PERL_USE_UNSAFE_INC=1
# SHELL=/usr/local/bin/bash
#
#
#
# PERL5LIB path
# /usr/home/cpan/.cpan/build/Alien-Base-ModuleBuild-1.17-0/blib/lib
# /usr/home/cpan/.cpan/build/Alien-Base-ModuleBuild-1.17-0/blib/arch
#
#
#
# perl 5.043004 midnightbsd amd64-midnightbsd-thread-multi
# Acme::Alien::DontPanic -
# Acme::Alien::DontPanic2 -
# Alien::Base 2.84
# Alien::Base::PkgConfig 2.84
# Archive::Extract 0.88
# Archive::Tar 3.04
# Capture::Tiny 0.50
# Digest::SHA 6.04
# File::chdir 0.1011
# HTML::LinkExtor 3.83
# HTTP::Tiny 0.090
# LWP::UserAgent 6.80
# List::Util 1.70
# Module::Build 0.4234
# Path::Tiny 0.150
# Shell::Config::Generate 0.34
# Shell::Guess 0.10
# Sort::Versions 1.62
# Test2::V0 1.302214
# Text::ParseWords 3.31
# URI 5.34
# URI::file 5.34
# parent 0.244
#
#
#
t/00_diag.t .................................. ok
t/alien_base_modulebuild.t ................... ok
t/alien_base_modulebuild_cabinet.t ........... ok
t/alien_base_modulebuild_file.t .............. ok
t/alien_base_modulebuild_repository.t ........ ok
t/alien_base_modulebuild_repository_ftp.t .... ok
t/alien_base_modulebuild_repository_http.t ... ok
t/alien_base_modulebuild_repository_local.t .. ok
t/alien_base_modulebuild_utils.t ............. ok
All tests successful.
Files=9, Tests=56, 3 wallclock secs ( 0.05 usr 0.00 sys + 1.85 cusr 0.78 csys = 2.68 CPU)
Result: PASS
------------------------------
PREREQUISITES
------------------------------
Prerequisite modules loaded:
requires:
Module Need Have
----------------------- -------- --------
Alien::Base 0 2.84
Alien::Base::PkgConfig 1.20 2.84
Archive::Extract 0 0.88
Archive::Tar 1.40 3.04
Capture::Tiny 0.17 0.50
File::chdir 0.1005 0.1011
HTTP::Tiny 0.044 0.090
List::Util 1.45 1.70
Module::Build 0.4004 0.4234
parent 0 0.244
Path::Tiny 0.077 0.150
perl 5.008001 5.043004
Shell::Config::Generate 0 0.34
Shell::Guess 0 0.10
Sort::Versions 0 1.62
Text::ParseWords 3.26 3.31
URI 0 5.34
build_requires:
Module Need Have
----------------------- -------- --------
Module::Build 0.4004 0.4234
perl 5.008001 5.043004
Test2::V0 0.000121 1.302214
URI::file 0 5.34
configure_requires:
Module Need Have
----------------------- -------- --------
Module::Build 0.4004 0.4234
perl 5.008001 5.043004
------------------------------
ENVIRONMENT AND OTHER CONTEXT
------------------------------
Environment variables:
AUTOMATED_TESTING = 1
DATE_MANIP_TEST_DM5 = 1
LC_ALL = C
NONINTERACTIVE_TESTING = 1
NO_NETWORK_TESTING = 1
PATH = /home/cpan/bin/perl/bin:/home/cpan/bin:/sbin:/bin:/usr/sbin:/usr/bin:/usr/games:/usr/local/sbin:/usr/local/bin:/home/cpan/bin
PERL5LIB =
PERL5OPT =
PERL5_CPANPLUS_IS_RUNNING = 42905
PERL5_CPAN_IS_RUNNING = 42905
PERL_MM_USE_DEFAULT = 1
PERL_PERTURB_KEYS = 0
PERL_USE_UNSAFE_INC = 1
SHELL = /usr/local/bin/bash
TERM = screen
TMPDIR = /home/cpan/tmp
Perl special variables (and OS-specific diagnostics, for MSWin32):
$^X = /usr/home/cpan/bin/perl/bin/perl5.43.4
$UID/$EUID = 1002 / 1002
$GID = 1002 1002
$EGID = 1002 1002
Perl module toolchain versions installed:
Module Have
------------------- --------
CPAN 2.38
CPAN::Meta 2.150010
Cwd 3.94
ExtUtils::CBuilder 0.280242
ExtUtils::Command 7.76
ExtUtils::Install 2.22
ExtUtils::MakeMaker 7.76
ExtUtils::Manifest 1.75
ExtUtils::ParseXS 3.60
File::Spec 3.94
JSON 4.10
JSON::PP 4.16
Module::Build 0.4234
Module::Signature n/a
Parse::CPAN::Meta 2.150010
Test2 1.302214
Test::Harness 3.52
Test::More 1.302214
YAML 1.31
YAML::Syck 1.34
version 0.9933
--
Summary of my perl5 (revision 5 version 43 subversion 4) configuration:
Commit id: fb4d3f55c423d89e5606932d0e00dec9869b6ba0
Platform:
osname=midnightbsd
osvers=3.2.1
archname=amd64-midnightbsd-thread-multi
uname='midnightbsd cjg-midnightbsd3 3.2.1 midnightbsd 3.2.1 #15n13132-0869ed7092(stable3.2)-dirty: wed nov 6 12:53:25 est 2024 root@m3264:usrobjusrsrcamd64.amd64sysgeneric amd64 '
config_args='-des -Dprefix=/home/cpan/bin/perl -Dscriptdir=/home/cpan/bin/perl/bin -Dusedevel -Duse64bitall -Duseithreads'
hint=recommended
useposix=true
d_sigaction=define
useithreads=define
usemultiplicity=define
use64bitint=define
use64bitall=define
uselongdouble=undef
usemymalloc=n
default_inc_excludes_dot=define
Compiler:
cc='cc'
ccflags ='-DHAS_FPSETMASK -DHAS_FLOATINGPOINT_H -fno-strict-aliasing -pipe -fstack-protector-strong -I/usr/local/include'
optimize='-O'
cppflags='-DHAS_FPSETMASK -DHAS_FLOATINGPOINT_H -fno-strict-aliasing -pipe -fstack-protector-strong -I/usr/local/include'
ccversion=''
gccversion='MidnightBSD Clang 13.0.0 (git@github.com:llvm/llvm-project.git llvmorg-13.0.0-0-gd7b669b3a303)'
gccosandvers=''
intsize=4
longsize=8
ptrsize=8
doublesize=8
byteorder=12345678
doublekind=3
d_longlong=define
longlongsize=8
d_longdbl=define
longdblsize=16
longdblkind=3
ivtype='long'
ivsize=8
nvtype='double'
nvsize=8
Off_t='off_t'
lseeksize=8
alignbytes=8
prototype=define
Linker and Libraries:
ld='cc'
ldflags ='-pthread -Wl,-E -fstack-protector-strong -L/usr/local/lib'
libpth=/usr/lib /usr/local/lib /usr/lib/clang/13.0.0/lib
libs=-lpthread -lgdbm -ldl -lm -lcrypt
perllibs=-lpthread -ldl -lm -lcrypt
libc=
so=so
useshrplib=false
libperl=libperl.a
gnulibc_version=''
Dynamic Linking:
dlsrc=dl_dlopen.xs
dlext=so
d_dlsymun=undef
ccdlflags=' '
cccdlflags='-DPIC -fPIC'
lddlflags='-shared -L/usr/local/lib -fstack-protector-strong'
Characteristics of this binary (from libperl):
Compile-time options:
HAS_LONG_DOUBLE
HAS_STRTOLD
HAS_TIMES
MULTIPLICITY
PERLIO_LAYERS
PERL_COPY_ON_WRITE
PERL_DONT_CREATE_GVSV
PERL_HASH_FUNC_SIPHASH13
PERL_HASH_USE_SBOX32
PERL_MALLOC_WRAP
PERL_OP_PARENT
PERL_PRESERVE_IVUV
PERL_USE_DEVEL
PERL_USE_SAFE_PUTENV
USE_64_BIT_ALL
USE_64_BIT_INT
USE_ITHREADS
USE_LARGE_FILES
USE_LOCALE
USE_LOCALE_COLLATE
USE_LOCALE_CTYPE
USE_LOCALE_NUMERIC
USE_LOCALE_TIME
USE_PERLIO
USE_PERL_ATOF
USE_REENTRANT_API
USE_THREAD_SAFE_LOCALE
Built under midnightbsd
Compiled at Sep 26 2025 19:36:36
%ENV:
PERL5LIB=""
PERL5OPT=""
PERL5_CPANPLUS_IS_RUNNING="42905"
PERL5_CPAN_IS_RUNNING="42905"
PERL_MM_USE_DEFAULT="1"
PERL_PERTURB_KEYS="0"
PERL_USE_UNSAFE_INC="1"
@INC:
/home/cpan/bin/perl/lib/site_perl/5.43.4/amd64-midnightbsd-thread-multi
/home/cpan/bin/perl/lib/site_perl/5.43.4
/home/cpan/bin/perl/lib/5.43.4/amd64-midnightbsd-thread-multi
/home/cpan/bin/perl/lib/5.43.4
.