Module-Setup v0.09 Perl 5 v5.18.4 x86_64-linux-thread-multi
- Status
- Pass
- From
- Andreas J. König (ANDK)
- Dist
-
Module-Setup v0.09
- Platform
- Perl 5 v5.18.4 x86_64-linux-thread-multi
- Date
- 2017-09-03 10:42:57
- ID
- a61c352c-9094-11e7-9cef-56fbd8a57ab1
This distribution has been tested as part of the CPAN Testers
project, supporting the Perl programming language. See
http://wiki.cpantesters.org/ for more information or email
questions to cpan-testers-discuss@perl.org
--
Dear Kazuhiro Osawa,
This is a computer-generated report for Module-Setup-0.09
on perl 5.18.4, created by CPAN-Reporter-1.2018.
Thank you for uploading your work to CPAN. Congratulations!
All tests were successful.
Sections of this report:
* Tester comments
* Program output
* Prerequisites
* Environment and other context
------------------------------
TESTER COMMENTS
------------------------------
Additional comments from tester:
this report is from an automated smoke testing program
and was not reviewed by a human for accuracy
------------------------------
PROGRAM OUTPUT
------------------------------
Output from '/usr/bin/make test':
PERL_DL_NONLAZY=1 "/home/sand/src/perl/repoperls/installed-perls/host/k93msid/v5.18.4/f11c/bin/perl" "-MExtUtils::Command::MM" "-MTest::Harness" "-e" "undef *Test::Harness::Switches; test_harness(0, 'inc', 'blib/lib', 'blib/arch')" t/*.t t/*/*.t
t/00_compile.t .................................... ok
t/010_core/detect-flavor-tests-error.t ............ ok
t/010_core/detect_module_and_flavor_name_error.t .. ok
t/010_core/dialog.t ............................... ok
t/010_core/distribute.t ........................... ok
t/010_core/flavor.t ............................... ok
t/010_core/load_argv.t ............................ ok
t/010_core/path.t ................................. ok
t/010_core/select-flavor.t ........................ ok
t/010_core/setup_base_dir.t ....................... ok
t/010_core/setup_options.t ........................ ok
t/010_core/setup_options_code.t ................... ok
t/010_core/stdout-log.t ........................... ok
t/010_core/system.t ............................... ok
t/010_core/test_util.t ............................ ok
t/020_run/additional.t ............................ ok
t/020_run/binary.t ................................ ok
t/020_run/direct.t ................................ ok
t/020_run/dupe-flavor.t ........................... ok
t/020_run/dupe.t .................................. ok
t/020_run/empty_dir.t ............................. ok
t/020_run/fail_flavor.t ........................... ok
t/020_run/hasnt-flavorclass.t ..................... ok
t/020_run/init.t .................................. ok
t/020_run/nullflavors.t ........................... ok
t/020_run/pack-additional.t ....................... ok
t/020_run/pack.t .................................. ok
t/020_run/simple.t ................................ ok
t/030_plugin/append_template_file.t ............... ok
t/030_plugin/append_template_file2.t .............. ok
t/030_plugin/illegalplugin.t ...................... ok
t/030_plugin/illegalpluginconfig.t ................ ok
t/030_plugin/localplugin.t ........................ ok
t/030_plugin/plain.t .............................. ok
t/030_plugin/site_github.t ........................ ok
t/030_plugin/template.t ........................... ok
cannot remove path when cwd is /tmp/Uj0L1tPRV4/Test-Makefile3_3 for /tmp/Uj0L1tPRV4: at /home/sand/src/perl/repoperls/installed-perls/host/k93msid/v5.18.4/f11c/lib/site_perl/5.18.4/File/Temp.pm line 1616.
t/030_plugin/test_makefile.t ...................... ok
error: pathspec 'commit' did not match any file(s) known to git.
cannot remove path when cwd is /tmp/pbhyZbJh7e/VC-Git3_2 for /tmp/pbhyZbJh7e: at /home/sand/src/perl/repoperls/installed-perls/host/k93msid/v5.18.4/f11c/lib/site_perl/5.18.4/File/Temp.pm line 1616.
t/030_plugin/vc_git.t ............................. ok
Name "Module::Setup::Flavor::Default::setup_config" used only once: possible typo at t/030_plugin/vc_svk.t line 17.
t/030_plugin/vc_svk.t ............................. ok
t/030_plugin/vc_svn.t ............................. ok
t/040_flavor/coderepos.t .......................... ok
t/040_flavor/default-setup_config.t ............... ok
t/040_flavor/default.t ............................ ok
t/040_flavor/github.t ............................. ok
t/050_helper/basic-callback.t ..................... ok
t/050_helper/basic-foo.t .......................... ok
t/050_helper/basic.t .............................. ok
All tests successful.
Files=47, Tests=467, 24 wallclock secs ( 0.15 usr 0.24 sys + 10.12 cusr 2.34 csys = 12.85 CPU)
Result: PASS
------------------------------
PREREQUISITES
------------------------------
Prerequisite modules loaded:
requires:
Module Need Have
---------------------------- ---- --------
Class::Trigger 0 0.14
Cwd 0 3.62
ExtUtils::MakeMaker 0 7.30
File::Basename 0 2.84
File::Find::Rule 0 0.34
File::HomeDir 0 1.002
File::Path 0 2.09
File::Temp 0.2 0.2304
Filter::Util::Call 0 1.45
Getopt::Long 0 2.5
IO::Scalar 0 2.111
LWP::UserAgent 0 6.26
Module::Collect 0.06 0.06
Module::Install::AuthorTests 0 0.002
Module::Install::Repository 0 0.06
Path::Class 0 0.37
Pod::Usage 0 1.61
Scalar::Util 0 1.48
Storable 0 2.41
Template 2.2 2.27
Test::More 0 1.302095
Test::Requires 0 0.10
Text::Patch 0 1.8
YAML 0 1.23
build_requires:
Module Need Have
---------------------------- ---- --------
ExtUtils::MakeMaker 0 7.30
configure_requires:
Module Need Have
---------------------------- ---- --------
ExtUtils::MakeMaker 6.42 7.30
------------------------------
ENVIRONMENT AND OTHER CONTEXT
------------------------------
Environment variables:
AUTOMATED_TESTING = 1
LANG = en_US.UTF-8
PATH = /home/sand/bin:/usr/local/bin:/usr/bin:/bin:/usr/games:/usr/local/perl/bin:/usr/X11/bin:/sbin:/usr/sbin
PERL5LIB = /tmp/loop_over_bdir-10615-kzr7vK/Text-Patch-1.8-0/blib/arch:/tmp/loop_over_bdir-10615-kzr7vK/Text-Patch-1.8-0/blib/lib:/tmp/loop_over_bdir-10615-kzr7vK/Module-Install-Repository-0.06-0/blib/arch:/tmp/loop_over_bdir-10615-kzr7vK/Module-Install-Repository-0.06-0/blib/lib:/tmp/loop_over_bdir-10615-kzr7vK/Module-Install-AuthorTests-0.002-0/blib/arch:/tmp/loop_over_bdir-10615-kzr7vK/Module-Install-AuthorTests-0.002-0/blib/lib:/tmp/loop_over_bdir-10615-kzr7vK/Module-Install-1.18-0/blib/arch:/tmp/loop_over_bdir-10615-kzr7vK/Module-Install-1.18-0/blib/lib:/tmp/loop_over_bdir-10615-kzr7vK/Module-ScanDeps-1.24-0/blib/arch:/tmp/loop_over_bdir-10615-kzr7vK/Module-ScanDeps-1.24-0/blib/lib:/tmp/loop_over_bdir-10615-kzr7vK/Module-Collect-0.06-0/blib/arch:/tmp/loop_over_bdir-10615-kzr7vK/Module-Collect-0.06-0/blib/lib
PERL5OPT =
PERL5_CPANPLUS_IS_RUNNING = 10648
PERL5_CPAN_IS_RUNNING = 10648
PERL5_CPAN_IS_RUNNING_IN_RECURSION = 18372,10648
PERL_CANARY_STABILITY_NOPROMPT = 1
PERL_MM_USE_DEFAULT = 1
PERL_USE_UNSAFE_INC = 1
SHELL = /usr/bin/zsh
TERM = screen
Perl special variables (and OS-specific diagnostics, for MSWin32):
$^X = /home/sand/src/perl/repoperls/installed-perls/host/k93msid/v5.18.4/f11c/bin/perl
$UID/$EUID = 1005 / 1005
$GID = 1005 1005
$EGID = 1005 1005
Perl module toolchain versions installed:
Module Have
------------------- --------
CPAN 2.18
CPAN::Meta 2.150010
Cwd 3.62
ExtUtils::CBuilder 0.280226
ExtUtils::Command 7.30
ExtUtils::Install 2.06
ExtUtils::MakeMaker 7.30
ExtUtils::Manifest 1.70
ExtUtils::ParseXS 3.35
File::Spec 3.62
JSON 2.94
JSON::PP 2.94
Module::Build 0.4224
Module::Signature 0.81
Parse::CPAN::Meta 2.150010
Test::Harness 3.39
Test::More 1.302095
YAML 1.23
YAML::Syck 1.30
version 0.9902
--
Summary of my perl5 (revision 5 version 18 subversion 4) configuration:
Derived from: 51202371ba68f3f52f13124a3ea1bc3c171e0ee2
Platform:
osname=linux, osvers=4.9.0-2-amd64, archname=x86_64-linux-thread-multi
uname='linux k93msid 4.9.0-2-amd64 #1 smp debian 4.9.18-1 (2017-03-30) x86_64 gnulinux '
config_args='-Dprefix=/home/sand/src/perl/repoperls/installed-perls/host/k93msid/v5.18.4/f11c -Dmyhostname=k93msid -Dinstallusrbinperl=n -Uversiononly -Dusedevel -des -Ui_db -Dlibswanted=cl pthread socket inet nsl gdbm dbm malloc dl ld sun m crypt sec util c cposix posix ucb BSD gdbm_compat -Duseithreads -Uuselongdouble -DDEBUGGING=-g'
hint=recommended, useposix=true, d_sigaction=define
useithreads=define, usemultiplicity=define
useperlio=define, d_sfio=undef, uselargefiles=define, usesocks=undef
use64bitint=define, use64bitall=define, uselongdouble=undef
usemymalloc=n, bincompat5005=undef
Compiler:
cc='cc', ccflags ='-D_REENTRANT -D_GNU_SOURCE -fno-strict-aliasing -pipe -fstack-protector -I/usr/local/include -D_LARGEFILE_SOURCE -D_FILE_OFFSET_BITS=64',
optimize='-O2 -g',
cppflags='-D_REENTRANT -D_GNU_SOURCE -fno-strict-aliasing -pipe -fstack-protector -I/usr/local/include'
ccversion='', gccversion='6.3.0 20170406', gccosandvers=''
intsize=4, longsize=8, ptrsize=8, doublesize=8, byteorder=12345678
d_longlong=define, longlongsize=8, d_longdbl=define, longdblsize=16
ivtype='long', ivsize=8, nvtype='double', nvsize=8, Off_t='off_t', lseeksize=8
alignbytes=8, prototype=define
Linker and Libraries:
ld='cc', ldflags =' -fstack-protector -L/usr/local/lib'
libpth=/usr/local/lib /lib/x86_64-linux-gnu /lib/../lib /usr/lib/x86_64-linux-gnu /usr/lib/../lib /lib /usr/lib
libs=-lpthread -lnsl -ldl -lm -lcrypt -lutil -lc
perllibs=-lpthread -lnsl -ldl -lm -lcrypt -lutil -lc
libc=libc-2.24.so, so=so, useshrplib=false, libperl=libperl.a
gnulibc_version='2.24'
Dynamic Linking:
dlsrc=dl_dlopen.xs, dlext=so, d_dlsymun=undef, ccdlflags='-Wl,-E'
cccdlflags='-fPIC', lddlflags='-shared -O2 -g -L/usr/local/lib -fstack-protector'
Characteristics of this binary (from libperl):
Compile-time options: HAS_TIMES MULTIPLICITY PERLIO_LAYERS
PERL_DONT_CREATE_GVSV
PERL_HASH_FUNC_ONE_AT_A_TIME_HARD
PERL_IMPLICIT_CONTEXT PERL_MALLOC_WRAP
PERL_PRESERVE_IVUV PERL_SAWAMPERSAND PERL_USE_DEVEL
USE_64_BIT_ALL USE_64_BIT_INT USE_ITHREADS
USE_LARGE_FILES USE_LOCALE USE_LOCALE_COLLATE
USE_LOCALE_CTYPE USE_LOCALE_NUMERIC USE_PERLIO
USE_PERL_ATOF USE_REENTRANT_API
Locally applied patches:
uncommitted-changes
Built under linux
Compiled at Aug 26 2017 02:48:53
%ENV:
PERL5LIB="/tmp/loop_over_bdir-10615-kzr7vK/Text-Patch-1.8-0/blib/arch:/tmp/loop_over_bdir-10615-kzr7vK/Text-Patch-1.8-0/blib/lib:/tmp/loop_over_bdir-10615-kzr7vK/Module-Install-Repository-0.06-0/blib/arch:/tmp/loop_over_bdir-10615-kzr7vK/Module-Install-Repository-0.06-0/blib/lib:/tmp/loop_over_bdir-10615-kzr7vK/Module-Install-AuthorTests-0.002-0/blib/arch:/tmp/loop_over_bdir-10615-kzr7vK/Module-Install-AuthorTests-0.002-0/blib/lib:/tmp/loop_over_bdir-10615-kzr7vK/Module-Install-1.18-0/blib/arch:/tmp/loop_over_bdir-10615-kzr7vK/Module-Install-1.18-0/blib/lib:/tmp/loop_over_bdir-10615-kzr7vK/Module-ScanDeps-1.24-0/blib/arch:/tmp/loop_over_bdir-10615-kzr7vK/Module-ScanDeps-1.24-0/blib/lib:/tmp/loop_over_bdir-10615-kzr7vK/Module-Collect-0.06-0/blib/arch:/tmp/loop_over_bdir-10615-kzr7vK/Module-Collect-0.06-0/blib/lib"
PERL5OPT=""
PERL5_CPANPLUS_IS_RUNNING="10648"
PERL5_CPAN_IS_RUNNING="10648"
PERL5_CPAN_IS_RUNNING_IN_RECURSION="18372,10648"
PERL_CANARY_STABILITY_NOPROMPT="1"
PERL_MM_USE_DEFAULT="1"
PERL_USE_UNSAFE_INC="1"
@INC:
/tmp/loop_over_bdir-10615-kzr7vK/Text-Patch-1.8-0/blib/arch
/tmp/loop_over_bdir-10615-kzr7vK/Text-Patch-1.8-0/blib/lib
/tmp/loop_over_bdir-10615-kzr7vK/Module-Install-Repository-0.06-0/blib/arch
/tmp/loop_over_bdir-10615-kzr7vK/Module-Install-Repository-0.06-0/blib/lib
/tmp/loop_over_bdir-10615-kzr7vK/Module-Install-AuthorTests-0.002-0/blib/arch
/tmp/loop_over_bdir-10615-kzr7vK/Module-Install-AuthorTests-0.002-0/blib/lib
/tmp/loop_over_bdir-10615-kzr7vK/Module-Install-1.18-0/blib/arch
/tmp/loop_over_bdir-10615-kzr7vK/Module-Install-1.18-0/blib/lib
/tmp/loop_over_bdir-10615-kzr7vK/Module-ScanDeps-1.24-0/blib/arch
/tmp/loop_over_bdir-10615-kzr7vK/Module-ScanDeps-1.24-0/blib/lib
/tmp/loop_over_bdir-10615-kzr7vK/Module-Collect-0.06-0/blib/arch
/tmp/loop_over_bdir-10615-kzr7vK/Module-Collect-0.06-0/blib/lib
/home/sand/src/perl/repoperls/installed-perls/host/k93msid/v5.18.4/f11c/lib/site_perl/5.18.4/x86_64-linux-thread-multi
/home/sand/src/perl/repoperls/installed-perls/host/k93msid/v5.18.4/f11c/lib/site_perl/5.18.4
/home/sand/src/perl/repoperls/installed-perls/host/k93msid/v5.18.4/f11c/lib/5.18.4/x86_64-linux-thread-multi
/home/sand/src/perl/repoperls/installed-perls/host/k93msid/v5.18.4/f11c/lib/5.18.4
.