Report for Pod-PseudoPod-XHTML-1.02

Back
From: metabase:user:314402c4-2aae-11df-837a-5e0a49663a4f
Subject: PASS Pod-PseudoPod-XHTML-1.02 v5.24.1 GNU/Linux
Date: 2017-02-03T08:56:27Z

This distribution has been tested as part of the CPAN Testers
project, supporting the Perl programming language.  See
http://wiki.cpantesters.org/ for more information or email
questions to cpan-testers-discuss@perl.org


--
Dear Alan Young,

This is a computer-generated report for Pod-PseudoPod-XHTML-1.02
on perl 5.24.1, created by CPAN-Reporter-1.2018.

Thank you for uploading your work to CPAN.  Congratulations!
All tests were successful.

Sections of this report:

    * Tester comments
    * Program output
    * Prerequisites
    * Environment and other context

------------------------------
TESTER COMMENTS
------------------------------

Additional comments from tester:

none provided

------------------------------
PROGRAM OUTPUT
------------------------------

Output from './Build test':

t/00-compile.t ................. ok
# Testing Pod::PseudoPod::XHTML 1.02, Perl 5.024001, /opt/perl-5.24.1/bin/perl5.24.1
t/00-load.t .................... ok
# Testing with Perl 5.024001, /opt/perl-5.24.1/bin/perl5.24.1
#     Carp version is 1.38
#     English version is 1.10
#     File::Find version is 1.34
#     File::Temp version is 0.2304
#     Module::Build version is 0.422
#     Path::Class version is 0.37
#     Pod::PseudoPod::HTML version is 0.18
#     Scalar::Util version is 1.47
#     Test::More version is 1.302075
#     Test::NoWarnings version is 1.04
#     Test::Perl::Critic::Progressive version is 0.03
#     Try::Tiny version is 0.28
#     base version is 2.23
#     strict version is 1.11
#     warnings version is 1.36
t/000-report-versions.t ........ ok
t/author-critic.t .............. skipped: these tests are for testing by the author
t/author-critic_progressive.t .. skipped: these tests are for testing by the author
t/author-pod-spell.t ........... skipped: these tests are for testing by the author
t/manifest.t ................... skipped: Author tests not required for installation
t/release-distmeta.t ........... skipped: these tests are for release candidate testing
t/release-eol.t ................ skipped: these tests are for release candidate testing
t/release-has-version.t ........ skipped: these tests are for release candidate testing
t/release-kwalitee.t ........... skipped: these tests are for release candidate testing
t/release-no-tabs.t ............ skipped: these tests are for release candidate testing
t/release-pod-coverage.t ....... skipped: these tests are for release candidate testing
t/release-pod-syntax.t ......... skipped: these tests are for release candidate testing
t/release-synopsis.t ........... skipped: these tests are for release candidate testing
t/release-unused-vars.t ........ skipped: these tests are for release candidate testing
t/xhtml.t ...................... ok
All tests successful.
Files=17, Tests=52,  3 wallclock secs ( 0.09 usr  0.04 sys +  2.67 cusr  0.48 csys =  3.28 CPU)
Result: PASS

------------------------------
PREREQUISITES
------------------------------

Prerequisite modules loaded:

requires:

    Module                          Need   Have    
    ------------------------------- ------ --------
    base                            0      2.23    
    Carp                            0      1.38    
    Pod::PseudoPod::HTML            0      0.18    
    strict                          0      1.11    
    warnings                        0      1.36    

build_requires:

    Module                          Need   Have    
    ------------------------------- ------ --------
    English                         0      1.10    
    File::Find                      0      1.34    
    File::Temp                      0      0.2304  
    Module::Build                   0.3601 0.4220  
    Path::Class                     0      0.37    
    perl                            5.004  5.024001
    Scalar::Util                    0      1.47    
    Test::More                      0.94   1.302075
    Test::NoWarnings                0      1.04    
    Test::Perl::Critic::Progressive 0      0.03    
    Try::Tiny                       0      0.28    

configure_requires:

    Module                          Need   Have    
    ------------------------------- ------ --------
    Module::Build                   0.3601 0.4220  


------------------------------
ENVIRONMENT AND OTHER CONTEXT
------------------------------

Environment variables:

    LANG = de_DE.utf8
    LANGUAGE = de_DE.utf8
    LC_ALL = de_DE.utf8
    PATH = /usr/local/bin:/usr/bin:/bin:/usr/local/sbin:/usr/sbin:/sbin:/home/cpansand/bin/linux-gnu:/home/cpansand/bin/sh:/home/cpansand/bin:/usr/games:/home/cpansand/devel:/home/eserte/src/srezic-misc/scripts
    PERL5LIB = 
    PERL5OPT = 
    PERL5_CPANPLUS_IS_RUNNING = 30253
    PERL5_CPAN_IS_RUNNING = 30253
    PERL5_CPAN_IS_RUNNING_IN_RECURSION = 14760,30253
    PERLDOC = -MPod::Perldoc::ToTextOverstrike
    PERL_BATCH = yes
    PERL_CANARY_STABILITY_NOPROMPT = 1
    PERL_CPAN_REPORTER_CONFIG = /var/tmp/cpansmoker-1001/2017020115/cpanreporter_000_config.ini
    PERL_EXTUTILS_AUTOINSTALL = --defaultdeps
    SHELL = /bin/zsh
    TERM = screen
    TMPDIR = /var/tmp/cpansmoker-1001/2017020115

Perl special variables (and OS-specific diagnostics, for MSWin32):

    $^X = /opt/perl-5.24.1/bin/perl5.24.1
    $UID/$EUID = 1001 / 1001
    $GID = 1001 1001
    $EGID = 1001 1001

Perl module toolchain versions installed:

    Module              Have    
    ------------------- --------
    CPAN                2.14    
    CPAN::Meta          2.150010
    Cwd                 3.62    
    ExtUtils::CBuilder  0.280224
    ExtUtils::Command   7.24    
    ExtUtils::Install   2.04    
    ExtUtils::MakeMaker 7.24    
    ExtUtils::Manifest  1.70    
    ExtUtils::ParseXS   3.30    
    File::Spec          3.62    
    JSON                2.90    
    JSON::PP            2.27400 
    Module::Build       0.4220  
    Module::Signature   0.81    
    Parse::CPAN::Meta   2.150010
    Test::Harness       3.36    
    Test::More          1.302075
    YAML                1.21    
    YAML::Syck          1.29    
    version             0.9917  


--

Summary of my perl5 (revision 5 version 24 subversion 1) configuration:
   
  Platform:
    osname=linux, osvers=3.10.0-042stab120.6, archname=x86_64-linux
    uname='linux h1980015.stratoserver.net 3.10.0-042stab120.6 #1 smp thu oct 27 16:59:03 msk 2016 x86_64 x86_64 x86_64 gnulinux '
    config_args='-ds -e -Dprefix=/opt/perl-5.24.1 -Dcf_email=srezic@cpan.org'
    hint=previous, useposix=true, d_sigaction=define
    useithreads=undef, usemultiplicity=undef
    use64bitint=define, use64bitall=define, uselongdouble=undef
    usemymalloc=n, bincompat5005=undef
  Compiler:
    cc='cc', ccflags ='-fwrapv -fno-strict-aliasing -pipe -fstack-protector-strong -I/usr/local/include -D_LARGEFILE_SOURCE -D_FILE_OFFSET_BITS=64 -D_FORTIFY_SOURCE=2',
    optimize='-O2',
    cppflags='-fwrapv -fno-strict-aliasing -pipe -fstack-protector-strong -I/usr/local/include'
    ccversion='', gccversion='4.8.5 20150623 (Red Hat 4.8.5-11)', gccosandvers=''
    intsize=4, longsize=8, ptrsize=8, doublesize=8, byteorder=12345678, doublekind=3
    d_longlong=define, longlongsize=8, d_longdbl=define, longdblsize=16, longdblkind=3
    ivtype='long', ivsize=8, nvtype='double', nvsize=8, Off_t='off_t', lseeksize=8
    alignbytes=8, prototype=define
  Linker and Libraries:
    ld='cc', ldflags =' -fstack-protector-strong -L/usr/local/lib'
    libpth=/usr/local/lib /usr/lib /lib/../lib64 /usr/lib/../lib64 /lib /lib64 /usr/lib64 /usr/local/lib64 /usr/local/lib /usr/lib
    libs=-lpthread -lnsl -lgdbm -ldb -ldl -lm -lcrypt -lutil -lc -lgdbm_compat
    perllibs=-lpthread -lnsl -ldl -lm -lcrypt -lutil -lc
    libc=libc-2.17.so, so=so, useshrplib=false, libperl=libperl.a
    gnulibc_version='2.17'
  Dynamic Linking:
    dlsrc=dl_dlopen.xs, dlext=so, d_dlsymun=undef, ccdlflags='-Wl,-E'
    cccdlflags='-fPIC', lddlflags='-shared -O2 -L/usr/local/lib -fstack-protector-strong'


Characteristics of this binary (from libperl): 
  Compile-time options: HAS_TIMES PERLIO_LAYERS PERL_COPY_ON_WRITE
                        PERL_DONT_CREATE_GVSV
                        PERL_HASH_FUNC_ONE_AT_A_TIME_HARD PERL_MALLOC_WRAP
                        PERL_PRESERVE_IVUV USE_64_BIT_ALL USE_64_BIT_INT
                        USE_LARGE_FILES USE_LOCALE USE_LOCALE_COLLATE
                        USE_LOCALE_CTYPE USE_LOCALE_NUMERIC USE_LOCALE_TIME
                        USE_PERLIO USE_PERL_ATOF
  Built under linux
  Compiled at Jan 21 2017 20:32:30
  %ENV:
    PERL5LIB=""
    PERL5OPT=""
    PERL5_CPANPLUS_IS_RUNNING="30253"
    PERL5_CPAN_IS_RUNNING="30253"
    PERL5_CPAN_IS_RUNNING_IN_RECURSION="14760,30253"
    PERLDOC="-MPod::Perldoc::ToTextOverstrike"
    PERL_BATCH="yes"
    PERL_CANARY_STABILITY_NOPROMPT="1"
    PERL_CPAN_REPORTER_CONFIG="/var/tmp/cpansmoker-1001/2017020115/cpanreporter_000_config.ini"
    PERL_EXTUTILS_AUTOINSTALL="--defaultdeps"
  @INC:
    /opt/perl-5.24.1/lib/site_perl/5.24.1/x86_64-linux
    /opt/perl-5.24.1/lib/site_perl/5.24.1
    /opt/perl-5.24.1/lib/5.24.1/x86_64-linux
    /opt/perl-5.24.1/lib/5.24.1
    .