Text-Amuse-Preprocessor v0.65 Perl 5 v5.12.2 MSWin32-x86-multi-thread

Status
Pass
From
Alexandr Ciornii (CHORNY)
Dist
Text-Amuse-Preprocessor v0.65
Platform
Perl 5 v5.12.2 MSWin32-x86-multi-thread
Date
2021-11-28 21:21:53
ID
a5dbc521-6bfc-1014-a1a6-69c68bc8f469
This distribution has been tested as part of the CPAN Testers
project, supporting the Perl programming language.  See
http://wiki.cpantesters.org/ for more information or email
questions to cpan-testers-discuss@perl.org


--
Dear Marco Pessotto,

This is a computer-generated report for Text-Amuse-Preprocessor-0.65
on perl 5.12.2, created by CPAN-Reporter-1.2018.

Thank you for uploading your work to CPAN.  Congratulations!
All tests were successful.

Sections of this report:

    * Tester comments
    * Program output
    * Prerequisites
    * Environment and other context

------------------------------
TESTER COMMENTS
------------------------------

Additional comments from tester:

this report is from an automated smoke testing program
and was not reviewed by a human for accuracy

------------------------------
PROGRAM OUTPUT
------------------------------

Output from 'C:\strawberry\c\bin\dmake.EXE test':

C:\strawberry\perl\bin\perl.exe "-MExtUtils::Command::MM" "-MTest::Harness" "-e" "undef *Test::Harness::Switches; test_harness(0, 'blib\lib', 'blib\arch')" t/*.t
# Testing Text::Amuse::Preprocessor 0.65, Perl 5.012002, C:\strawberry\perl\bin\perl.exe
t/00-load.t ........... ok
t/changes.t ........... skipped: Changes testing not required (or Test::CPAN::Changes not found)
t/chars.t ............. ok
# Using C:\DOCUME~1\c\LOCALS~1\Temp\kiooeywCPn for ligatures
# Using C:\DOCUME~1\c\LOCALS~1\Temp\nHHjgfg1U2 for missing_nl
# Using C:\DOCUME~1\c\LOCALS~1\Temp\eEbxlaBJB4 for garbage
# Using C:\DOCUME~1\c\LOCALS~1\Temp\PeDa52jpqW for ellipsis_no_fix
# Using C:\DOCUME~1\c\LOCALS~1\Temp\kKbK4xulfL for ellipsis
# Using C:\DOCUME~1\c\LOCALS~1\Temp\VeAyFUi1OS for links
# Using C:\DOCUME~1\c\LOCALS~1\Temp\9gkSGBPF7A for en
# Using C:\DOCUME~1\c\LOCALS~1\Temp\kEPu7q62IG for fi
# Using C:\DOCUME~1\c\LOCALS~1\Temp\okOdG94Wfl for es
# Using C:\DOCUME~1\c\LOCALS~1\Temp\RVdHgQv6mH for sr
# Using C:\DOCUME~1\c\LOCALS~1\Temp\d6hPeldrvD for hr
# Using C:\DOCUME~1\c\LOCALS~1\Temp\D1vmiKhrOe for ru
# Using C:\DOCUME~1\c\LOCALS~1\Temp\ckssOb6lYZ for it
# Using C:\DOCUME~1\c\LOCALS~1\Temp\wJx5HC_a3D for mk
# Using C:\DOCUME~1\c\LOCALS~1\Temp\nRg2EyhafV for sv
# Using C:\DOCUME~1\c\LOCALS~1\Temp\UDAK0kN2U9 for de
# Using C:\DOCUME~1\c\LOCALS~1\Temp\vHAO4Nqu8A for pl
# Using C:\DOCUME~1\c\LOCALS~1\Temp\5y91cRh9k4 for bg
# Using C:\DOCUME~1\c\LOCALS~1\Temp\zG_WnsXagy for eo
# Using C:\DOCUME~1\c\LOCALS~1\Temp\unhAmh1elW for fr
# Using C:\DOCUME~1\c\LOCALS~1\Temp\MPLQNpOErS for pt
# Using C:\DOCUME~1\c\LOCALS~1\Temp\r5HPPtfXDu for sq
# Using C:\DOCUME~1\c\LOCALS~1\Temp\k9cgBlTDZU for da
# Using C:\DOCUME~1\c\LOCALS~1\Temp\yg5IrQmg54 for nl
# Using C:\DOCUME~1\c\LOCALS~1\Temp\kEQvPyvZbh for id
# Using C:\DOCUME~1\c\LOCALS~1\Temp\CLCk6e3ZpL for Full example
# Using C:\DOCUME~1\c\LOCALS~1\Temp\B3pT4XLoiy for Quote
# Using C:\DOCUME~1\c\LOCALS~1\Temp\H_MzvfV18O for Quote
# Using C:\DOCUME~1\c\LOCALS~1\Temp\cIVsIWdpax for Nl quotation
t/common.t ............ ok
t/crash-on-verb.t ..... ok
# $VAR1 = "#title Test
# #lang en
# 
# 0
# 
# \x{201c}0\x{201d}
# 
# 0
# ";
# $VAR1 = "#title Test
# #lang en
# 
# 0
# 
# \x{201c}0\x{201d}
# 
# 0
# ";
t/crash_on_loop.t ..... ok
# C:\DOCUME~1\c\LOCALS~1\Temp\UcCYe40OrC\verbatim-in.muse
# C:\DOCUME~1\c\LOCALS~1\Temp\UcCYe40OrC
t/exclude-verbatim.t .. ok
# Testing t\footnotes\good.in => t\footnotes\good.out
# Testing t\footnotes\good2.in => t\footnotes\good2.out
# Testing t\footnotes\good3.in => t\footnotes\good3.out
# Testing t\footnotes\mixed.in => t\footnotes\mixed.out
# Testing t\footnotes\indentation.in => t\footnotes\indentation.out
# Testing t\footnotes\sec-good.in => t\footnotes\sec-good.out
# Testing t\footnotes\sec-good2.in => t\footnotes\sec-good2.out
# Testing t\footnotes\sec-good3.in => t\footnotes\sec-good3.out
# Testing t\footnotes\sec-bad.in => t\footnotes\sec-bad.out
# @@ -1 +1,2 @@
# -{4}
# +{3}
# +{3}
# Testing t\footnotes\sec-bad2.in => t\footnotes\sec-bad2.out
# @@ -1,3 +1,2 @@
# -{4}
# +{3}
# -{5}
# +{3}
# -{6}
# Testing t\footnotes\bad.in => t\footnotes\bad.out
# @@ -1,2 +1,3 @@
#  [1]
# -[1]
# +[2]
# +[4]
# Testing t\footnotes\bad2.in => t\footnotes\bad2.out
# @@ -1,4 +1,3 @@
#  [1]
# -[1]
# +[2]
#  [4]
# -[5]
t/footnotes.t ......... ok
tagpile mismatch: root, p
t/html-2.t ............ ok
# Using C:\DOCUME~1\c\LOCALS~1\Temp\ArRZrIStHV.html
# Using C:\DOCUME~1\c\LOCALS~1\Temp\fAqFDbUcsp.html
# Using C:\DOCUME~1\c\LOCALS~1\Temp\DSjl2rruqT.html
# Using C:\DOCUME~1\c\LOCALS~1\Temp\aYI8kDHVgr.html
# Using C:\DOCUME~1\c\LOCALS~1\Temp\na_05N9fmi.html
# Using C:\DOCUME~1\c\LOCALS~1\Temp\irikffVcQv.html
# Using C:\DOCUME~1\c\LOCALS~1\Temp\APkzAKc_8g.html
# Using C:\DOCUME~1\c\LOCALS~1\Temp\GxKJKjj318.html
# Using C:\DOCUME~1\c\LOCALS~1\Temp\57fX8jSKk2.html
# Using C:\DOCUME~1\c\LOCALS~1\Temp\PrQWWvN3X4.html
# Using C:\DOCUME~1\c\LOCALS~1\Temp\Vlh0enCcCJ.html
# Using C:\DOCUME~1\c\LOCALS~1\Temp\u1WdS0Mp2F.html
# Using C:\DOCUME~1\c\LOCALS~1\Temp\WvStJuyXbP.html
# Using C:\DOCUME~1\c\LOCALS~1\Temp\QSAgJ_ae_j.html
# Using C:\DOCUME~1\c\LOCALS~1\Temp\YHngQfD61V.html
# Using C:\DOCUME~1\c\LOCALS~1\Temp\CAphhzEfyJ.html
# Using C:\DOCUME~1\c\LOCALS~1\Temp\i2dcZSPnC0.html
t/html.t .............. ok
t/manifest.t .......... skipped: Author tests not required for installation
t/memory-cycles.t ..... ok
t/nbsp.t .............. ok
# Infile is C:\DOCUME~1\c\LOCALS~1\Temp\wnbL_ZNUzG\input.txt
# Using C:\DOCUME~1\c\LOCALS~1\Temp\oDPq9BZHdR as temporary dir
t/object.t ............ ok
t/pod-coverage.t ...... skipped: Pod coverage not required for installation
t/pod.t ............... skipped: Pod test not required for installation
t/russian.t ........... ok
t/subs.t .............. ok
t/typography.t ........ ok
All tests successful.
Files=19, Tests=441,  5 wallclock secs ( 0.14 usr +  0.04 sys =  0.18 CPU)
Result: PASS

------------------------------
PREREQUISITES
------------------------------

Prerequisite modules loaded:

requires:

    Module              Need Have    
    ------------------- ---- --------
    HTML::PullParser    0    3.57    
    IO::HTML            1    1.001   
    Pod::Simple::Wiki   0.19 0.20    
    Text::Amuse         0.95 1.77    
    Text::Diff          0    1.41    

build_requires:

    Module              Need Have    
    ------------------- ---- --------
    Test::More          0    1.001003

configure_requires:

    Module              Need Have    
    ------------------- ---- --------
    ExtUtils::MakeMaker 0    6.98    


------------------------------
ENVIRONMENT AND OTHER CONTEXT
------------------------------

Environment variables:

    AUTOMATED_TESTING = 1
    COMSPEC = C:\WINDOWS\system32\cmd.exe
    NUMBER_OF_PROCESSORS = 1
    PATH = c:\Windows\system32;c:\Windows\System32\Wbem;C:\Git\cmd;C:\strawberry\c\bin;C:\strawberry\perl\site\bin;C:\strawberry\perl\bin
    PERL5LIB = C:\strawberry\cpan\build\Text-Amuse-1.77-0/blib/arch;C:\strawberry\cpan\build\Text-Amuse-1.77-0/blib/lib;C:\strawberry\cpan\build\Pod-Simple-Wiki-0.20-0/blib/arch;C:\strawberry\cpan\build\Pod-Simple-Wiki-0.20-0/blib/lib
    PERL5OPT = 
    PERL5_CPANPLUS_IS_RUNNING = 1172
    PERL5_CPAN_IS_RUNNING = 1172
    PERL5_CPAN_IS_RUNNING_IN_RECURSION = 1224,1172
    PERL_CR_SMOKER_CURRENT = Text-Amuse-Preprocessor-0.65
    PERL_CR_SMOKER_RUNONCE = 1
    PERL_EXTUTILS_AUTOINSTALL = --defaultdeps
    PERL_MM_USE_DEFAULT = 1
    PROCESSOR_IDENTIFIER = x86 Family 18 Model 1 Stepping 0, AuthenticAMD
    TEMP = C:\DOCUME~1\c\LOCALS~1\Temp
    TERM = dumb

Perl special variables (and OS-specific diagnostics, for MSWin32):

    $^X = C:\strawberry\perl\bin\perl.exe
    $UID/$EUID = 0 / 0
    $GID = 0
    $EGID = 0
    Win32::GetOSName = WinXP/.Net
    Win32::GetOSVersion = Service Pack 3, 5, 1, 2600, 2, 3, 0, 256, 1
    Win32::FsType = NTFS
    Win32::IsAdminUser = 1

Perl module toolchain versions installed:

    Module              Have    
    ------------------- --------
    CPAN                2.16    
    CPAN::Meta          2.141520
    Cwd                 3.47    
    ExtUtils::CBuilder  0.280216
    ExtUtils::Command   1.16    
    ExtUtils::Install   1.55    
    ExtUtils::MakeMaker 6.98    
    ExtUtils::Manifest  1.60    
    ExtUtils::ParseXS   3.24    
    File::Spec          3.47    
    JSON                2.90    
    JSON::PP            2.27203 
    Module::Build       0.4206  
    Module::Signature   0.66    
    Parse::CPAN::Meta   1.4414  
    Test::Harness       3.32    
    Test::More          1.001003
    YAML                0.98    
    YAML::Syck          1.27    
    version             0.9908  


--

Summary of my perl5 (revision 5 version 12 subversion 2) configuration:
   
  Platform:
    osname=MSWin32, osvers=5.1, archname=MSWin32-x86-multi-thread
    uname='Win32 strawberryperl 5.12.2.0 #1 Fri Nov  5 05:17:27 2010 i386'
    config_args='undef'
    hint=recommended, useposix=true, d_sigaction=undef
    useithreads=define, usemultiplicity=define
    useperlio=define, d_sfio=undef, uselargefiles=define, usesocks=undef
    use64bitint=undef, use64bitall=undef, uselongdouble=undef
    usemymalloc=n, bincompat5005=undef
  Compiler:
    cc='gcc', ccflags =' -s -O2 -DWIN32 -DHAVE_DES_FCRYPT  -DUSE_SITECUSTOMIZE -DPERL_IMPLICIT_CONTEXT -DPERL_IMPLICIT_SYS -fno-strict-aliasing -mms-bitfields -DPERL_MSVCRT_READFIX',
    optimize='-s -O2',
    cppflags='-DWIN32'
    ccversion='', gccversion='4.4.3', gccosandvers=''
    intsize=4, longsize=4, ptrsize=4, doublesize=8, byteorder=1234
    d_longlong=undef, longlongsize=8, d_longdbl=define, longdblsize=12
    ivtype='long', ivsize=4, nvtype='double', nvsize=8, Off_t='long long', lseeksize=8
    alignbytes=8, prototype=define
  Linker and Libraries:
    ld='g++', ldflags ='-s -L"C:\strawberry\perl\lib\CORE" -L"C:\strawberry\c\lib"'
    libpth=C:\strawberry\c\lib C:\strawberry\c\i686-w64-mingw32\lib
    libs=-lmoldname -lkernel32 -luser32 -lgdi32 -lwinspool -lcomdlg32 -ladvapi32 -lshell32 -lole32 -loleaut32 -lnetapi32 -luuid -lws2_32 -lmpr -lwinmm -lversion -lodbc32 -lodbccp32 -lcomctl32
    perllibs=-lmoldname -lkernel32 -luser32 -lgdi32 -lwinspool -lcomdlg32 -ladvapi32 -lshell32 -lole32 -loleaut32 -lnetapi32 -luuid -lws2_32 -lmpr -lwinmm -lversion -lodbc32 -lodbccp32 -lcomctl32
    libc=, so=dll, useshrplib=true, libperl=libperl512.a
    gnulibc_version=''
  Dynamic Linking:
    dlsrc=dl_win32.xs, dlext=dll, d_dlsymun=undef, ccdlflags=' '
    cccdlflags=' ', lddlflags='-mdll -s -L"C:\strawberry\perl\lib\CORE" -L"C:\strawberry\c\lib"'


Characteristics of this binary (from libperl): 
  Compile-time options: MULTIPLICITY PERL_DONT_CREATE_GVSV
                        PERL_IMPLICIT_CONTEXT PERL_IMPLICIT_SYS
                        PERL_MALLOC_WRAP PL_OP_SLAB_ALLOC USE_ITHREADS
                        USE_LARGE_FILES USE_PERLIO USE_PERL_ATOF
                        USE_SITECUSTOMIZE
  Built under MSWin32
  Compiled at Nov  5 2010 08:39:08
  %ENV:
    PERL5LIB="C:\strawberry\cpan\build\Text-Amuse-1.77-0/blib/arch;C:\strawberry\cpan\build\Text-Amuse-1.77-0/blib/lib;C:\strawberry\cpan\build\Pod-Simple-Wiki-0.20-0/blib/arch;C:\strawberry\cpan\build\Pod-Simple-Wiki-0.20-0/blib/lib"
    PERL5_CPANPLUS_IS_RUNNING="1172"
    PERL5_CPAN_IS_RUNNING="1172"
    PERL5_CPAN_IS_RUNNING_IN_RECURSION="1224,1172"
    PERL_CR_SMOKER_CURRENT="Text-Amuse-Preprocessor-0.65"
    PERL_CR_SMOKER_RUNONCE="1"
    PERL_EXTUTILS_AUTOINSTALL="--defaultdeps"
    PERL_MM_USE_DEFAULT="1"
  @INC:
    C:\strawberry\cpan\build\Text-Amuse-1.77-0/blib/arch
    C:\strawberry\cpan\build\Text-Amuse-1.77-0/blib/lib
    C:\strawberry\cpan\build\Pod-Simple-Wiki-0.20-0/blib/arch
    C:\strawberry\cpan\build\Pod-Simple-Wiki-0.20-0/blib/lib
    C:/strawberry/perl/site/lib
    C:/strawberry/perl/vendor/lib
    C:/strawberry/perl/lib
    .