Git-Wrapper v0.048_090 Perl 5 v5.14.2 x86_64-linux

Status
Pass
From
Nigel Horne
Dist
Git-Wrapper v0.048_090
Platform
Perl 5 v5.14.2 x86_64-linux
Date
2018-07-18 11:13:50
ID
a5da6e1c-8a7b-11e8-9a4b-6b0db85df66a
This distribution has been tested as part of the CPAN Testers
project, supporting the Perl programming language.  See
http://wiki.cpantesters.org/ for more information or email
questions to cpan-testers-discuss@perl.org


--
Dear John SJ Anderson,

This is a computer-generated report for Git-Wrapper-0.048_090
on perl 5.14.2, created by CPAN-Reporter-1.2018.

Thank you for uploading your work to CPAN.  Congratulations!
All tests were successful.

Sections of this report:

    * Tester comments
    * Program output
    * Prerequisites
    * Environment and other context

------------------------------
TESTER COMMENTS
------------------------------

Additional comments from tester:

this report is from an automated smoke testing program
and was not reviewed by a human for accuracy

------------------------------
PROGRAM OUTPUT
------------------------------

Output from '/usr/bin/make test':

PERL_DL_NONLAZY=1 "/home/njh/perl5/perlbrew/perls/perl-5.14.2/bin/perl" "-MExtUtils::Command::MM" "-MTest::Harness" "-e" "undef *Test::Harness::Switches; test_harness(0, 'blib/lib', 'blib/arch')" t/*.t
t/author-err.t ........... skipped: these tests are for testing by the author
t/author-pod-coverage.t .. skipped: these tests are for testing by the author
t/author-pod-syntax.t .... skipped: these tests are for testing by the author
# Testing Git::Wrapper 0.048090
t/00-load.t .............. ok
# Testing git version: 2.11.0
t/deadlock.t ............. ok
t/git_binary.t ........... ok
t/basic.t ................ ok
t/parse_args.t ........... ok
# Testing git version: 2.11.0
# Testing git version: 2.11.0
t/path_class.t ........... ok
t/statuses.t ............. ok
All tests successful.
Files=10, Tests=131,  1 wallclock secs ( 0.07 usr  0.03 sys +  1.01 cusr  0.29 csys =  1.40 CPU)
Result: PASS

------------------------------
PREREQUISITES
------------------------------

Prerequisite modules loaded:

requires:

    Module              Need Have    
    ------------------- ---- --------
    File::chdir         0    0.1010  
    File::Temp          0    0.22    
    IPC::Cmd            0    1.00    
    IPC::Run3           0    0.048   
    overload            0    1.13    
    Scalar::Util        0    1.23    
    Sort::Versions      0    1.62    
    strict              0    1.04    
    Symbol              0    1.07    
    warnings            0    1.12    

build_requires:

    Module              Need Have    
    ------------------- ---- --------
    Cwd                 0    3.36    
    ExtUtils::MakeMaker 0    7.30    
    File::Path          0    2.08_01 
    File::Spec          0    3.33    
    File::Temp          0    0.22    
    IO::File            0    1.15    
    POSIX               0    1.24    
    Sort::Versions      0    1.62    
    Test::Deep          0    1.127   
    Test::Exception     0    0.43    
    Test::More          0    1.302139

configure_requires:

    Module              Need Have    
    ------------------- ---- --------
    Devel::CheckBin     0    0.04    
    ExtUtils::MakeMaker 0    7.30    
    File::Spec          0    3.33    


------------------------------
ENVIRONMENT AND OTHER CONTEXT
------------------------------

Environment variables:

    AUTOMATED_TESTING = 1
    HARNESS_OPTIONS = j2
    LANG = en_US.UTF-8
    PATH = /home/njh/perl5/perlbrew/bin:/home/njh/perl5/perlbrew/perls/perl-5.14.2/bin:src/njh/smoker/bin:/usr/bin:/bin
    PERL5LIB = /home/njh/.cpan/build/Sort-Versions-1.62-0/blib/arch:/home/njh/.cpan/build/Sort-Versions-1.62-0/blib/lib:/home/njh/.cpan/build/IPC-Run3-0.048-0/blib/arch:/home/njh/.cpan/build/IPC-Run3-0.048-0/blib/lib:/home/njh/.cpan/build/File-chdir-0.1010-0/blib/arch:/home/njh/.cpan/build/File-chdir-0.1010-0/blib/lib:/home/njh/.cpan/build/Devel-CheckBin-0.04-0/blib/arch:/home/njh/.cpan/build/Devel-CheckBin-0.04-0/blib/lib:/home/njh/.cpan/build/Test-Simple-1.302139-0/blib/arch:/home/njh/.cpan/build/Test-Simple-1.302139-0/blib/lib
    PERL5OPT = 
    PERL5_CPANPLUS_IS_RUNNING = 27878
    PERL5_CPAN_IS_RUNNING = 27878
    PERLBREW_HOME = /home/njh/.perlbrew
    PERLBREW_MANPATH = /home/njh/perl5/perlbrew/perls/perl-5.14.2/man
    PERLBREW_PATH = /home/njh/perl5/perlbrew/bin:/home/njh/perl5/perlbrew/perls/perl-5.14.2/bin
    PERLBREW_PERL = perl-5.14.2
    PERLBREW_ROOT = /home/njh/perl5/perlbrew
    PERLBREW_SHELLRC_VERSION = 0.82
    PERLBREW_VERSION = 0.82
    SHELL = /bin/sh
    TMPDIR = /tmp/testwrapper.27866

Perl special variables (and OS-specific diagnostics, for MSWin32):

    $^X = /home/njh/perl5/perlbrew/perls/perl-5.14.2/bin/perl
    $UID/$EUID = 1000 / 1000
    $GID = 1000 1000
    $EGID = 1000 1000

Perl module toolchain versions installed:

    Module              Have    
    ------------------- --------
    CPAN                2.16    
    CPAN::Meta          2.143240
    Cwd                 3.36    
    ExtUtils::CBuilder  0.280230
    ExtUtils::Command   7.30    
    ExtUtils::Install   2.06    
    ExtUtils::MakeMaker 7.30    
    ExtUtils::Manifest  1.70    
    ExtUtils::ParseXS   2.2210  
    File::Spec          3.33    
    JSON                2.97001 
    JSON::PP            2.97001 
    Module::Build       0.3800  
    Module::Signature   n/a     
    Parse::CPAN::Meta   1.4414  
    Test::Harness       3.41    
    Test::More          1.302139
    YAML                1.26    
    YAML::Syck          1.30    
    version             0.88    


--

Summary of my perl5 (revision 5 version 14 subversion 2) configuration:
   
  Platform:
    osname=linux, osvers=4.9.0-5-amd64, archname=x86_64-linux
    uname='linux dev0.teada.net 4.9.0-5-amd64 #1 smp debian 4.9.65-3+deb9u2 (2018-01-04) x86_64 gnulinux '
    config_args='-de -Dprefix=/home/njh/perl5/perlbrew/perls/perl-5.14.2 -Aeval:scriptdir=/home/njh/perl5/perlbrew/perls/perl-5.14.2/bin'
    hint=recommended, useposix=true, d_sigaction=define
    useithreads=undef, usemultiplicity=undef
    useperlio=define, d_sfio=undef, uselargefiles=define, usesocks=undef
    use64bitint=define, use64bitall=define, uselongdouble=undef
    usemymalloc=n, bincompat5005=undef
  Compiler:
    cc='cc', ccflags ='-fno-strict-aliasing -pipe -fstack-protector -I/usr/local/include -D_LARGEFILE_SOURCE -D_FILE_OFFSET_BITS=64',
    optimize='-O2',
    cppflags='-fno-strict-aliasing -pipe -fstack-protector -I/usr/local/include'
    ccversion='', gccversion='6.3.0 20170516', gccosandvers=''
    intsize=4, longsize=8, ptrsize=8, doublesize=8, byteorder=12345678
    d_longlong=define, longlongsize=8, d_longdbl=define, longdblsize=16
    ivtype='long', ivsize=8, nvtype='double', nvsize=8, Off_t='off_t', lseeksize=8
    alignbytes=8, prototype=define
  Linker and Libraries:
    ld='cc', ldflags =' -fstack-protector -L/usr/local/lib'
    libpth=/usr/local/lib /lib/x86_64-linux-gnu /lib/../lib /usr/lib/x86_64-linux-gnu /usr/lib/../lib /lib /usr/lib
    libs=-lnsl -ldl -lm -lcrypt -lutil -lc
    perllibs=-lnsl -ldl -lm -lcrypt -lutil -lc
    libc=libc-2.24.so, so=so, useshrplib=false, libperl=libperl.a
    gnulibc_version='2.24'
  Dynamic Linking:
    dlsrc=dl_dlopen.xs, dlext=so, d_dlsymun=undef, ccdlflags='-Wl,-E'
    cccdlflags='-fPIC', lddlflags='-shared -O2 -L/usr/local/lib -fstack-protector'


Characteristics of this binary (from libperl): 
  Compile-time options: PERL_DONT_CREATE_GVSV PERL_MALLOC_WRAP
                        PERL_PRESERVE_IVUV USE_64_BIT_ALL USE_64_BIT_INT
                        USE_LARGE_FILES USE_PERLIO USE_PERL_ATOF
  Locally applied patches:
	Devel::PatchPerl 1.48
  Built under linux
  Compiled at Feb 17 2018 10:16:04
  %ENV:
    PERL5LIB="/home/njh/.cpan/build/Sort-Versions-1.62-0/blib/arch:/home/njh/.cpan/build/Sort-Versions-1.62-0/blib/lib:/home/njh/.cpan/build/IPC-Run3-0.048-0/blib/arch:/home/njh/.cpan/build/IPC-Run3-0.048-0/blib/lib:/home/njh/.cpan/build/File-chdir-0.1010-0/blib/arch:/home/njh/.cpan/build/File-chdir-0.1010-0/blib/lib:/home/njh/.cpan/build/Devel-CheckBin-0.04-0/blib/arch:/home/njh/.cpan/build/Devel-CheckBin-0.04-0/blib/lib:/home/njh/.cpan/build/Test-Simple-1.302139-0/blib/arch:/home/njh/.cpan/build/Test-Simple-1.302139-0/blib/lib"
    PERL5OPT=""
    PERL5_CPANPLUS_IS_RUNNING="27878"
    PERL5_CPAN_IS_RUNNING="27878"
    PERLBREW_HOME="/home/njh/.perlbrew"
    PERLBREW_MANPATH="/home/njh/perl5/perlbrew/perls/perl-5.14.2/man"
    PERLBREW_PATH="/home/njh/perl5/perlbrew/bin:/home/njh/perl5/perlbrew/perls/perl-5.14.2/bin"
    PERLBREW_PERL="perl-5.14.2"
    PERLBREW_ROOT="/home/njh/perl5/perlbrew"
    PERLBREW_SHELLRC_VERSION="0.82"
    PERLBREW_VERSION="0.82"
  @INC:
    /home/njh/.cpan/build/Sort-Versions-1.62-0/blib/arch
    /home/njh/.cpan/build/Sort-Versions-1.62-0/blib/lib
    /home/njh/.cpan/build/IPC-Run3-0.048-0/blib/arch
    /home/njh/.cpan/build/IPC-Run3-0.048-0/blib/lib
    /home/njh/.cpan/build/File-chdir-0.1010-0/blib/arch
    /home/njh/.cpan/build/File-chdir-0.1010-0/blib/lib
    /home/njh/.cpan/build/Devel-CheckBin-0.04-0/blib/arch
    /home/njh/.cpan/build/Devel-CheckBin-0.04-0/blib/lib
    /home/njh/.cpan/build/Test-Simple-1.302139-0/blib/arch
    /home/njh/.cpan/build/Test-Simple-1.302139-0/blib/lib
    /home/njh/perl5/perlbrew/perls/perl-5.14.2/lib/site_perl/5.14.2/x86_64-linux
    /home/njh/perl5/perlbrew/perls/perl-5.14.2/lib/site_perl/5.14.2
    /home/njh/perl5/perlbrew/perls/perl-5.14.2/lib/5.14.2/x86_64-linux
    /home/njh/perl5/perlbrew/perls/perl-5.14.2/lib/5.14.2
    .