Report for Bit-Vector-7.1

Back
From: metabase:user:30f4dfbe-2aae-11df-837a-5e0a49663a4f
Subject: PASS Bit-Vector-7.1 v5.14.1 Mac OS X
Date: 2011-08-19T20:13:05Z

This distribution has been tested as part of the CPAN Testers
project, supporting the Perl programming language.  See
http://wiki.cpantesters.org/ for more information or email
questions to cpan-testers-discuss@perl.org


--
Dear Steffen Beyer,

This is a computer-generated report for Bit-Vector-7.1
on perl 5.14.1, created by CPAN-Reporter-1.2002.

Thank you for uploading your work to CPAN.  Congratulations!
All tests were successful.

Sections of this report:

    * Tester comments
    * Program output
    * Prerequisites
    * Environment and other context

------------------------------
TESTER COMMENTS
------------------------------

Additional comments from tester:

none provided

------------------------------
PROGRAM OUTPUT
------------------------------

Output from '/usr/bin/make test':

PERL_DL_NONLAZY=1 /usr/local/bin/perl5.14.1 "-MExtUtils::Command::MM" "-e" "test_harness(0, 'blib/lib', 'blib/arch')" t/*.t
t/00_____version.t .. ok
t/01_________new.t .. ok
t/02_____destroy.t .. ok
t/03__operations.t .. ok
t/04___functions.t .. ok
t/05______primes.t .. ok
t/06______subset.t .. ok
t/07_____compare.t .. ok
t/08______resize.t .. ok
t/09__parameters.t .. ok
t/10___intervals.t .. ok
t/11_______shift.t .. ok
t/12______string.t .. ok
t/13___increment.t .. ok
t/14_______empty.t .. ok
t/15_________add.t .. ok
t/16____subtract.t .. ok
t/17_________gcd.t .. ok
t/28___chunklist.t .. ok
t/30__overloaded.t .. ok
t/40___auxiliary.t .. ok
t/50_freeze_thaw.t .. ok
t/51_file_nstore.t .. ok
All tests successful.
Files=23, Tests=91963, 10 wallclock secs ( 8.81 usr  0.13 sys +  1.58 cusr  0.39 csys = 10.91 CPU)
Result: PASS

------------------------------
PREREQUISITES
------------------------------

Prerequisite modules loaded:

requires:

    Module              Need Have
    ------------------- ---- ----
    Carp::Clan          5.3  6.04
    Storable            2.21 2.30

build_requires:

    Module              Need Have
    ------------------- ---- ----
    ExtUtils::MakeMaker 0    6.59


------------------------------
ENVIRONMENT AND OTHER CONTEXT
------------------------------

Environment variables:

    LANG = 
    PATH = /usr/local/bin:/usr/bin:/bin:/usr/sbin:/sbin:/usr/local/bin:/usr/X11/bin:/Users/nigel/bin:/Users/nigel/perl/bin
    PERL5LIB = /Users/nigel/perl/Library/Perl/Updates/:/Users/nigel/perl/Users/nigel/perl::/Users/nigel/perl/lib/perl5:/Users/nigel/perl/lib/perl5/site_perl:
    PERL5OPT = 
    PERL5_CPANPLUS_IS_RUNNING = 56472
    PERL5_CPAN_IS_RUNNING = 56472
    SHELL = /bin/bash
    TERM = xterm-256color
    TMPDIR = /var/folders/cw/7gjv01890zl491p_yjzkp2vm00011n/T/

Perl special variables (and OS-specific diagnostics, for MSWin32):

    $^X = /usr/local/bin/perl5.14.1
    $UID/$EUID = 1077 / 1077
    $GID = 20 20 402 12 33 61 79 80 81 98 100 204 401 403
    $EGID = 20 20 402 12 33 61 79 80 81 98 100 204 401 403

Perl module toolchain versions installed:

    Module              Have    
    ------------------- --------
    CPAN                1.9800  
    CPAN::Meta          2.112150
    Cwd                 3.36    
    ExtUtils::CBuilder  0.280203
    ExtUtils::Command   1.17    
    ExtUtils::Install   1.54    
    ExtUtils::MakeMaker 6.59    
    ExtUtils::Manifest  1.59    
    ExtUtils::ParseXS   3.03    
    File::Spec          3.33    
    JSON                2.53    
    JSON::PP            2.27200 
    Module::Build       0.3800  
    Module::Signature   n/a     
    Parse::CPAN::Meta   1.4401  
    Test::Harness       3.23    
    Test::More          0.98    
    YAML                0.73    
    YAML::Syck          1.17    
    version             0.93    


--

Summary of my perl5 (revision 5 version 14 subversion 1) configuration:
  Snapshot of: 8621250723f229ae2fc76d8fadd21389ca4a3256
  Platform:
    osname=darwin, osvers=11.0.0, archname=darwin-thread-multi-2level
    uname='darwin nigel.int.kcilink.com 11.0.0 darwin kernel version 11.0.0: sat jun 18 12:56:35 pdt 2011; root:xnu-1699.22.73~1release_x86_64 x86_64 '
    config_args='-des -Dusedevel -Accflags=-O2 -W -Wformat=2 -Wswitch -Wshadow -Wwrite-strings -Wuninitialized -Wall -pipe -fomit-frame-pointer -msse2 -msse -mmmx -mfpmath=sse -pedantic -D_FORTIFY_SOURCE=2 -Wpointer-arith -Wstrict-prototypes -fstack-protector -Wstack-protector -Wextra -Wbad-function-cast -Wcast-align -Wcast-qual -Wdisabled-optimization -Wendif-labels -Wfloat-equal -Wformat-nonliteral -Winline -Wmissing-declarations -Wmissing-prototypes -Wnested-externs -Wpointer-arith -Wundef -Wformat-security -Duseithreads'
    hint=recommended, useposix=true, d_sigaction=define
    useithreads=define, usemultiplicity=define
    useperlio=define, d_sfio=undef, uselargefiles=define, usesocks=undef
    use64bitint=define, use64bitall=define, uselongdouble=undef
    usemymalloc=n, bincompat5005=undef
  Compiler:
    cc='cc', ccflags ='-DDEBUGGING -fno-common -DPERL_DARWIN -O2 -W -Wformat=2 -Wswitch -Wshadow -Wwrite-strings -Wuninitialized -Wall -pipe -fomit-frame-pointer -msse2 -msse -mmmx -mfpmath=sse -pedantic -D_FORTIFY_SOURCE=2 -Wpointer-arith -Wstrict-prototypes -fstack-protector -Wstack-protector -Wextra -Wbad-function-cast -Wcast-align -Wcast-qual -Wdisabled-optimization -Wendif-labels -Wfloat-equal -Wformat-nonliteral -Winline -Wmissing-declarations -Wmissing-prototypes -Wnested-externs -Wpointer-arith -Wundef -Wformat-security -fno-strict-aliasing -I/usr/local/include',
    optimize='-O3',
    cppflags='-DDEBUGGING -fno-common -DPERL_DARWIN -O2 -W -Wformat=2 -Wswitch -Wshadow -Wwrite-strings -Wuninitialized -Wall -pipe -fomit-frame-pointer -msse2 -msse -mmmx -mfpmath=sse -pedantic -D_FORTIFY_SOURCE=2 -Wpointer-arith -Wstrict-prototypes -fstack-protector -Wstack-protector -Wextra -Wbad-function-cast -Wcast-align -Wcast-qual -Wdisabled-optimization -Wendif-labels -Wfloat-equal -Wformat-nonliteral -Winline -Wmissing-declarations -Wmissing-prototypes -Wnested-externs -Wpointer-arith -Wundef -Wformat-security -fno-strict-aliasing -I/usr/local/include'
    ccversion='', gccversion='4.2.1 (Based on Apple Inc. build 5658) (LLVM build 2335.15.00)', gccosandvers=''
    intsize=4, longsize=8, ptrsize=8, doublesize=8, byteorder=12345678
    d_longlong=define, longlongsize=8, d_longdbl=define, longdblsize=16
    ivtype='long', ivsize=8, nvtype='double', nvsize=8, Off_t='off_t', lseeksize=8
    alignbytes=8, prototype=define
  Linker and Libraries:
    ld='env MACOSX_DEPLOYMENT_TARGET=10.3 cc', ldflags =' -fstack-protector -L/usr/local/lib'
    libpth=/usr/local/lib /usr/lib
    libs=-ldbm -ldl -lm -lutil -lc
    perllibs=-ldl -lm -lutil -lc
    libc=, so=dylib, useshrplib=false, libperl=libperl.a
    gnulibc_version=''
  Dynamic Linking:
    dlsrc=dl_dlopen.xs, dlext=bundle, d_dlsymun=undef, ccdlflags=' '
    cccdlflags=' ', lddlflags=' -bundle -undefined dynamic_lookup -L/usr/local/lib -fstack-protector'


Characteristics of this binary (from libperl): 
  Compile-time options: DEBUGGING MULTIPLICITY PERL_DONT_CREATE_GVSV
                        PERL_IMPLICIT_CONTEXT PERL_MALLOC_WRAP
                        PERL_PRESERVE_IVUV PERL_TRACK_MEMPOOL PERL_USE_DEVEL
                        USE_64_BIT_ALL USE_64_BIT_INT USE_ITHREADS
                        USE_LARGE_FILES USE_PERLIO USE_PERL_ATOF
                        USE_REENTRANT_API
  Locally applied patches:
	SMOKE8621250723f229ae2fc76d8fadd21389ca4a3256
  Built under darwin
  Compiled at Aug 12 2011 05:15:29
  %ENV:
    PERL5LIB="/Users/nigel/perl/Library/Perl/Updates/:/Users/nigel/perl/Users/nigel/perl::/Users/nigel/perl/lib/perl5:/Users/nigel/perl/lib/perl5/site_perl:"
    PERL5OPT=""
    PERL5_CPANPLUS_IS_RUNNING="56472"
    PERL5_CPAN_IS_RUNNING="56472"
  @INC:
    /Users/nigel/perl/Library/Perl/Updates/
    /Users/nigel/perl/Users/nigel/perl
    /Users/nigel/perl/lib/perl5/5.14.1/darwin-thread-multi-2level
    /Users/nigel/perl/lib/perl5/5.14.1
    /Users/nigel/perl/lib/perl5/darwin-thread-multi-2level
    /Users/nigel/perl/lib/perl5
    /Users/nigel/perl/lib/perl5/site_perl/5.14.1/darwin-thread-multi-2level
    /Users/nigel/perl/lib/perl5/site_perl/5.14.1
    /Users/nigel/perl/lib/perl5/site_perl
    /usr/local/lib/perl5/site_perl/5.14.1/darwin-thread-multi-2level
    /usr/local/lib/perl5/site_perl/5.14.1
    /usr/local/lib/perl5/5.14.1/darwin-thread-multi-2level
    /usr/local/lib/perl5/5.14.1
    /usr/local/lib/perl5/site_perl
    .