Back
From: metabase:user:3143a46e-bb30-11e0-8dd5-45d7e6fb0a34
Subject: PASS Dist-Zilla-Plugin-Test-Perl-Critic-2.112410 v5.18.2 RC4 GNU/Linux
Date: 2013-12-26T02:30:12Z
This distribution has been tested as part of the CPAN Testers
project, supporting the Perl programming language. See
http://wiki.cpantesters.org/ for more information or email
questions to cpan-testers-discuss@perl.org
--
Dear Jerome Quelin,
This is a computer-generated report for Dist-Zilla-Plugin-Test-Perl-Critic-2.112410
on perl 5.18.2, created by CPAN-Reporter-1.2010.
Thank you for uploading your work to CPAN. Congratulations!
All tests were successful.
Sections of this report:
* Tester comments
* Program output
* Prerequisites
* Environment and other context
------------------------------
TESTER COMMENTS
------------------------------
Additional comments from tester:
none provided
------------------------------
PROGRAM OUTPUT
------------------------------
Output from './Build test':
t/00-compile.t ................ ok
#
#
# perl: v5.18.2 (wanted 5.008) on linux from /home/kirk/perl5/perlbrew/perls/perl-5.18.2-RC4/bin/perl
#
# Data::Section => 0.200005 (want 0.004)
# Dist::Zilla::File::InMemory => 5.006 (want any version)
# Dist::Zilla::Role::FileGatherer => 5.006 (want any version)
# Dist::Zilla::Role::TextTemplate => 5.006 (want any version)
# File::Find => 1.23 (want any version)
# File::Path => 2.09 (want any version)
# File::Temp => 0.2304 (want any version)
# Module::Build => 0.4203 (want 0.3601)
# Moose => 2.1005 (want any version)
# Moose::Autobox => 0.15 (want any version)
# Moose::Util => 2.1005 (want any version)
# Test::DZil => 5.006 (want any version)
# Test::More => 1.001002 (want 0.94)
# autodie => 2.22 (want any version)
# namespace::autoclean => 0.15 (want any version)
# strict => 1.07 (want any version)
# warnings => 1.18 (want any version)
#
# Thanks for using my code. I hope it works for you.
# If not, please try and include this output in the bug report.
# That will help me reproduce the issue and solve you problem.
#
t/000-report-versions-tiny.t .. ok
t/manifest.t .................. ok
t/release-has-version.t ....... skipped: these tests are for release candidate testing
t/release-kwalitee.t .......... skipped: these tests are for release candidate testing
t/release-minimum-version.t ... skipped: these tests are for release candidate testing
t/release-pod-coverage.t ...... skipped: these tests are for release candidate testing
t/release-pod-syntax.t ........ skipped: these tests are for release candidate testing
All tests successful.
Files=8, Tests=7, 5 wallclock secs ( 0.05 usr 0.02 sys + 4.75 cusr 0.26 csys = 5.08 CPU)
Result: PASS
------------------------------
PREREQUISITES
------------------------------
Prerequisite modules loaded:
requires:
Module Need Have
------------------------------- ------ --------
Data::Section 0.004 0.200005
Dist::Zilla::File::InMemory 0 5.006
Dist::Zilla::Role::FileGatherer 0 5.006
Dist::Zilla::Role::TextTemplate 0 5.006
Moose 0 2.1005
Moose::Util 0 2.1005
namespace::autoclean 0 0.15
perl 5.008 5.018002
strict 0 1.07
warnings 0 1.18
build_requires:
Module Need Have
------------------------------- ------ --------
autodie 0 2.22
File::Find 0 1.23
File::Path 0 2.09
File::Temp 0 0.2304
Module::Build 0.3601 0.4203
Moose::Autobox 0 0.15
Test::DZil 0 5.006
Test::More 0.94 1.001002
configure_requires:
Module Need Have
------------------------------- ------ --------
Module::Build 0.3601 0.4203
------------------------------
ENVIRONMENT AND OTHER CONTEXT
------------------------------
Environment variables:
LANG = en_US.UTF-8
PATH = /home/kirk/perl5/perlbrew/bin:/home/kirk/perl5/perlbrew/perls/perl-5.18.2-RC4/bin:/usr/local/bin:/usr/bin:/bin:/usr/bin/X11:/usr/X11R6/bin:/usr/games:/opt/kde3/bin
PERL5LIB =
PERL5OPT =
PERL5_CPANPLUS_IS_RUNNING = 14171
PERL5_CPAN_IS_RUNNING = 14171
PERLBREW_BASHRC_VERSION = 0.67
PERLBREW_HOME = /home/kirk/.perlbrew
PERLBREW_MANPATH = /home/kirk/perl5/perlbrew/perls/perl-5.18.2-RC4/man
PERLBREW_PATH = /home/kirk/perl5/perlbrew/bin:/home/kirk/perl5/perlbrew/perls/perl-5.18.2-RC4/bin
PERLBREW_PERL = perl-5.18.2-RC4
PERLBREW_ROOT = /home/kirk/perl5/perlbrew
PERLBREW_SKIP_INIT = 1
PERLBREW_VERSION = 0.67
SHELL = /bin/bash
TERM = screen
TMPDIR = /tmp
Perl special variables (and OS-specific diagnostics, for MSWin32):
$^X = /home/kirk/perl5/perlbrew/perls/perl-5.18.2-RC4/bin/perl
$UID/$EUID = 1000 / 1000
$GID = 100 8 33 100
$EGID = 100 8 33 100
Perl module toolchain versions installed:
Module Have
------------------- --------
CPAN 2.00
CPAN::Meta 2.133380
Cwd 3.40
ExtUtils::CBuilder 0.280210
ExtUtils::Command 1.17
ExtUtils::Install 1.59
ExtUtils::MakeMaker 6.84
ExtUtils::Manifest 1.63
ExtUtils::ParseXS 3.18
File::Spec 3.40
JSON 2.90
JSON::PP 2.27203
Module::Build 0.4203
Module::Signature 0.73
Parse::CPAN::Meta 1.4405
Test::Harness 3.30
Test::More 1.001002
YAML 0.88
YAML::Syck 1.27
version 0.9902
--
Summary of my perl5 (revision 5 version 18 subversion 2) configuration:
Platform:
osname=linux, osvers=3.11.6-4-desktop, archname=i686-linux
uname='linux seeker.site 3.11.6-4-desktop #1 smp preempt wed oct 30 18:04:56 utc 2013 (e6d4a27) i686 i686 i386 gnulinux '
config_args='-de -Dprefix=/home/kirk/perl5/perlbrew/perls/perl-5.18.2-RC4 -Aeval:scriptdir=/home/kirk/perl5/perlbrew/perls/perl-5.18.2-RC4/bin'
hint=recommended, useposix=true, d_sigaction=define
useithreads=undef, usemultiplicity=undef
useperlio=define, d_sfio=undef, uselargefiles=define, usesocks=undef
use64bitint=undef, use64bitall=undef, uselongdouble=undef
usemymalloc=n, bincompat5005=undef
Compiler:
cc='cc', ccflags ='-fno-strict-aliasing -pipe -fstack-protector -I/usr/local/include -D_LARGEFILE_SOURCE -D_FILE_OFFSET_BITS=64',
optimize='-O2',
cppflags='-fno-strict-aliasing -pipe -fstack-protector -I/usr/local/include'
ccversion='', gccversion='4.8.1 20130909 [gcc-4_8-branch revision 202388]', gccosandvers=''
intsize=4, longsize=4, ptrsize=4, doublesize=8, byteorder=1234
d_longlong=define, longlongsize=8, d_longdbl=define, longdblsize=12
ivtype='long', ivsize=4, nvtype='double', nvsize=8, Off_t='off_t', lseeksize=8
alignbytes=4, prototype=define
Linker and Libraries:
ld='cc', ldflags =' -fstack-protector -L/usr/local/lib'
libpth=/usr/local/lib /lib /usr/lib
libs=-lnsl -ldl -lm -lcrypt -lutil -lc
perllibs=-lnsl -ldl -lm -lcrypt -lutil -lc
libc=/lib/libc-2.18.so, so=so, useshrplib=false, libperl=libperl.a
gnulibc_version='2.18'
Dynamic Linking:
dlsrc=dl_dlopen.xs, dlext=so, d_dlsymun=undef, ccdlflags='-Wl,-E'
cccdlflags='-fPIC', lddlflags='-shared -O2 -L/usr/local/lib -fstack-protector'
Characteristics of this binary (from libperl):
Compile-time options: HAS_TIMES PERLIO_LAYERS PERL_DONT_CREATE_GVSV
PERL_HASH_FUNC_ONE_AT_A_TIME_HARD PERL_MALLOC_WRAP
PERL_PRESERVE_IVUV PERL_SAWAMPERSAND USE_LARGE_FILES
USE_LOCALE USE_LOCALE_COLLATE USE_LOCALE_CTYPE
USE_LOCALE_NUMERIC USE_PERLIO USE_PERL_ATOF
Locally applied patches:
RC4
Built under linux
Compiled at Dec 25 2013 00:46:43
%ENV:
PERL5LIB=""
PERL5OPT=""
PERL5_CPANPLUS_IS_RUNNING="14171"
PERL5_CPAN_IS_RUNNING="14171"
PERLBREW_BASHRC_VERSION="0.67"
PERLBREW_HOME="/home/kirk/.perlbrew"
PERLBREW_MANPATH="/home/kirk/perl5/perlbrew/perls/perl-5.18.2-RC4/man"
PERLBREW_PATH="/home/kirk/perl5/perlbrew/bin:/home/kirk/perl5/perlbrew/perls/perl-5.18.2-RC4/bin"
PERLBREW_PERL="perl-5.18.2-RC4"
PERLBREW_ROOT="/home/kirk/perl5/perlbrew"
PERLBREW_SKIP_INIT="1"
PERLBREW_VERSION="0.67"
@INC:
/home/kirk/perl5/perlbrew/perls/perl-5.18.2-RC4/lib/site_perl/5.18.2/i686-linux
/home/kirk/perl5/perlbrew/perls/perl-5.18.2-RC4/lib/site_perl/5.18.2
/home/kirk/perl5/perlbrew/perls/perl-5.18.2-RC4/lib/5.18.2/i686-linux
/home/kirk/perl5/perlbrew/perls/perl-5.18.2-RC4/lib/5.18.2
.