Report for Curses-UI-0.9607

Back
From: metabase:user:322078bc-2aae-11df-837a-5e0a49663a4f
Subject: PASS Curses-UI-0.9607 v5.12.3 FreeBSD
Date: 2011-05-21T15:40:25Z

This distribution has been tested as part of the CPAN Testers
project, supporting the Perl programming language.  See
http://wiki.cpantesters.org/ for more information or email
questions to cpan-testers-discuss@perl.org


--

Dear Shawn Boyette,

This is a computer-generated error report created automatically by
CPANPLUS, version 0.9105. Testers personal comments may appear
at the end of this report.

MAKE TEST passed: /usr/home/cpan/pit/64bit/perl-5.12.3/bin/perl "-Iinc" /usr/home/cpan/pit/64bit/conf/perl-5.12.3/.cpanplus/5.12.3/build/Curses-UI-0.9607/Makefile.PL --config= --installdeps=Curses,0,Term::ReadKey,0
Cannot determine perl version info from lib/Curses/UI.pm
WARNING: 'All rights reserved' in copyright may invalidate Open Source license.
PERL_DL_NONLAZY=1 /usr/home/cpan/pit/64bit/perl-5.12.3/bin/perl "-MExtUtils::Command::MM" "-e" "test_harness(0, 'inc', 'blib/lib', 'blib/arch')" t/01base_classes.t t/02widget_classes.t t/03dialog_classes.t t/04language_classes.t t/05pod.t t/06ui.t t/07widget.t t/08common.t t/09label.t t/10texteditor.t t/11listbox.t t/12gpm_handler.t t/13notebook.t t/99misc.t
Prototype after '@' for Curses::UI::Widget::width_by_windowscrwidth : $@; at /usr/home/cpan/pit/64bit/conf/perl-5.12.3/.cpanplus/5.12.3/build/Curses-UI-0.9607/t/../lib/Curses/UI/Widget.pm line 356.
Prototype after '@' for Curses::UI::Widget::height_by_windowscrheight : $@; at /usr/home/cpan/pit/64bit/conf/perl-5.12.3/.cpanplus/5.12.3/build/Curses-UI-0.9607/t/../lib/Curses/UI/Widget.pm line 380.
Prototype after '@' for Curses::UI::Widget::set_binding : $@; at /usr/home/cpan/pit/64bit/conf/perl-5.12.3/.cpanplus/5.12.3/build/Curses-UI-0.9607/t/../lib/Curses/UI/Widget.pm line 898.
Prototype after '@' for Curses::UI::Widget::set_mouse_binding : $@; at /usr/home/cpan/pit/64bit/conf/perl-5.12.3/.cpanplus/5.12.3/build/Curses-UI-0.9607/t/../lib/Curses/UI/Widget.pm line 924.
Prototype after '@' for Curses::UI::Container::add : $@; at /usr/home/cpan/pit/64bit/conf/perl-5.12.3/.cpanplus/5.12.3/build/Curses-UI-0.9607/t/../lib/Curses/UI/Container.pm line 67.
Prototype after '@' for Curses::UI::Container::set_focusorder : @; at /usr/home/cpan/pit/64bit/conf/perl-5.12.3/.cpanplus/5.12.3/build/Curses-UI-0.9607/t/../lib/Curses/UI/Container.pm line 475.
Prototype after '@' for Curses::UI::Container::set_draworder : @; at /usr/home/cpan/pit/64bit/conf/perl-5.12.3/.cpanplus/5.12.3/build/Curses-UI-0.9607/t/../lib/Curses/UI/Container.pm line 483.
t/01base_classes.t ...... ok
Prototype after '@' for Curses::UI::Widget::width_by_windowscrwidth : $@; at /usr/home/cpan/pit/64bit/conf/perl-5.12.3/.cpanplus/5.12.3/build/Curses-UI-0.9607/blib/lib/Curses/UI/Widget.pm line 356.
Prototype after '@' for Curses::UI::Widget::height_by_windowscrheight : $@; at /usr/home/cpan/pit/64bit/conf/perl-5.12.3/.cpanplus/5.12.3/build/Curses-UI-0.9607/blib/lib/Curses/UI/Widget.pm line 380.
Prototype after '@' for Curses::UI::Widget::set_binding : $@; at /usr/home/cpan/pit/64bit/conf/perl-5.12.3/.cpanplus/5.12.3/build/Curses-UI-0.9607/blib/lib/Curses/UI/Widget.pm line 898.
Prototype after '@' for Curses::UI::Widget::set_mouse_binding : $@; at /usr/home/cpan/pit/64bit/conf/perl-5.12.3/.cpanplus/5.12.3/build/Curses-UI-0.9607/blib/lib/Curses/UI/Widget.pm line 924.
Prototype after '@' for Curses::UI::Container::add : $@; at /usr/home/cpan/pit/64bit/conf/perl-5.12.3/.cpanplus/5.12.3/build/Curses-UI-0.9607/blib/lib/Curses/UI/Container.pm line 67.
Prototype after '@' for Curses::UI::Container::set_focusorder : @; at /usr/home/cpan/pit/64bit/conf/perl-5.12.3/.cpanplus/5.12.3/build/Curses-UI-0.9607/blib/lib/Curses/UI/Container.pm line 475.
Prototype after '@' for Curses::UI::Container::set_draworder : @; at /usr/home/cpan/pit/64bit/conf/perl-5.12.3/.cpanplus/5.12.3/build/Curses-UI-0.9607/blib/lib/Curses/UI/Container.pm line 483.
Prototype after '@' for Curses::UI::Listbox::maxlabelwidth : @; at /usr/home/cpan/pit/64bit/conf/perl-5.12.3/.cpanplus/5.12.3/build/Curses-UI-0.9607/blib/lib/Curses/UI/Listbox.pm line 221.
t/02widget_classes.t .... ok
Prototype after '@' for Curses::UI::Widget::width_by_windowscrwidth : $@; at /usr/home/cpan/pit/64bit/conf/perl-5.12.3/.cpanplus/5.12.3/build/Curses-UI-0.9607/blib/lib/Curses/UI/Widget.pm line 356.
Prototype after '@' for Curses::UI::Widget::height_by_windowscrheight : $@; at /usr/home/cpan/pit/64bit/conf/perl-5.12.3/.cpanplus/5.12.3/build/Curses-UI-0.9607/blib/lib/Curses/UI/Widget.pm line 380.
Prototype after '@' for Curses::UI::Widget::set_binding : $@; at /usr/home/cpan/pit/64bit/conf/perl-5.12.3/.cpanplus/5.12.3/build/Curses-UI-0.9607/blib/lib/Curses/UI/Widget.pm line 898.
Prototype after '@' for Curses::UI::Widget::set_mouse_binding : $@; at /usr/home/cpan/pit/64bit/conf/perl-5.12.3/.cpanplus/5.12.3/build/Curses-UI-0.9607/blib/lib/Curses/UI/Widget.pm line 924.
Prototype after '@' for Curses::UI::Container::add : $@; at /usr/home/cpan/pit/64bit/conf/perl-5.12.3/.cpanplus/5.12.3/build/Curses-UI-0.9607/blib/lib/Curses/UI/Container.pm line 67.
Prototype after '@' for Curses::UI::Container::set_focusorder : @; at /usr/home/cpan/pit/64bit/conf/perl-5.12.3/.cpanplus/5.12.3/build/Curses-UI-0.9607/blib/lib/Curses/UI/Container.pm line 475.
Prototype after '@' for Curses::UI::Container::set_draworder : @; at /usr/home/cpan/pit/64bit/conf/perl-5.12.3/.cpanplus/5.12.3/build/Curses-UI-0.9607/blib/lib/Curses/UI/Container.pm line 483.
t/03dialog_classes.t .... ok
Prototype after '@' for Curses::UI::Widget::width_by_windowscrwidth : $@; at /usr/home/cpan/pit/64bit/conf/perl-5.12.3/.cpanplus/5.12.3/build/Curses-UI-0.9607/t/../lib/Curses/UI/Widget.pm line 356.
Prototype after '@' for Curses::UI::Widget::height_by_windowscrheight : $@; at /usr/home/cpan/pit/64bit/conf/perl-5.12.3/.cpanplus/5.12.3/build/Curses-UI-0.9607/t/../lib/Curses/UI/Widget.pm line 380.
Prototype after '@' for Curses::UI::Widget::set_binding : $@; at /usr/home/cpan/pit/64bit/conf/perl-5.12.3/.cpanplus/5.12.3/build/Curses-UI-0.9607/t/../lib/Curses/UI/Widget.pm line 898.
Prototype after '@' for Curses::UI::Widget::set_mouse_binding : $@; at /usr/home/cpan/pit/64bit/conf/perl-5.12.3/.cpanplus/5.12.3/build/Curses-UI-0.9607/t/../lib/Curses/UI/Widget.pm line 924.
Prototype after '@' for Curses::UI::Container::add : $@; at /usr/home/cpan/pit/64bit/conf/perl-5.12.3/.cpanplus/5.12.3/build/Curses-UI-0.9607/t/../lib/Curses/UI/Container.pm line 67.
Prototype after '@' for Curses::UI::Container::set_focusorder : @; at /usr/home/cpan/pit/64bit/conf/perl-5.12.3/.cpanplus/5.12.3/build/Curses-UI-0.9607/t/../lib/Curses/UI/Container.pm line 475.
Prototype after '@' for Curses::UI::Container::set_draworder : @; at /usr/home/cpan/pit/64bit/conf/perl-5.12.3/.cpanplus/5.12.3/build/Curses-UI-0.9607/t/../lib/Curses/UI/Container.pm line 483.
t/04language_classes.t .. ok
t/05pod.t ............... skipped: Test::Pod required for testing POD
Prototype after '@' for Curses::UI::Widget::width_by_windowscrwidth : $@; at /usr/home/cpan/pit/64bit/conf/perl-5.12.3/.cpanplus/5.12.3/build/Curses-UI-0.9607/blib/lib/Curses/UI/Widget.pm line 356.
Prototype after '@' for Curses::UI::Widget::height_by_windowscrheight : $@; at /usr/home/cpan/pit/64bit/conf/perl-5.12.3/.cpanplus/5.12.3/build/Curses-UI-0.9607/blib/lib/Curses/UI/Widget.pm line 380.
Prototype after '@' for Curses::UI::Widget::set_binding : $@; at /usr/home/cpan/pit/64bit/conf/perl-5.12.3/.cpanplus/5.12.3/build/Curses-UI-0.9607/blib/lib/Curses/UI/Widget.pm line 898.
Prototype after '@' for Curses::UI::Widget::set_mouse_binding : $@; at /usr/home/cpan/pit/64bit/conf/perl-5.12.3/.cpanplus/5.12.3/build/Curses-UI-0.9607/blib/lib/Curses/UI/Widget.pm line 924.
Prototype after '@' for Curses::UI::Container::add : $@; at /usr/home/cpan/pit/64bit/conf/perl-5.12.3/.cpanplus/5.12.3/build/Curses-UI-0.9607/blib/lib/Curses/UI/Container.pm line 67.
Prototype after '@' for Curses::UI::Container::set_focusorder : @; at /usr/home/cpan/pit/64bit/conf/perl-5.12.3/.cpanplus/5.12.3/build/Curses-UI-0.9607/blib/lib/Curses/UI/Container.pm line 475.
Prototype after '@' for Curses::UI::Container::set_draworder : @; at /usr/home/cpan/pit/64bit/conf/perl-5.12.3/.cpanplus/5.12.3/build/Curses-UI-0.9607/blib/lib/Curses/UI/Container.pm line 483.
t/06ui.t ................ ok
Prototype after '@' for Curses::UI::Widget::width_by_windowscrwidth : $@; at /usr/home/cpan/pit/64bit/conf/perl-5.12.3/.cpanplus/5.12.3/build/Curses-UI-0.9607/blib/lib/Curses/UI/Widget.pm line 356.
Prototype after '@' for Curses::UI::Widget::height_by_windowscrheight : $@; at /usr/home/cpan/pit/64bit/conf/perl-5.12.3/.cpanplus/5.12.3/build/Curses-UI-0.9607/blib/lib/Curses/UI/Widget.pm line 380.
Prototype after '@' for Curses::UI::Widget::set_binding : $@; at /usr/home/cpan/pit/64bit/conf/perl-5.12.3/.cpanplus/5.12.3/build/Curses-UI-0.9607/blib/lib/Curses/UI/Widget.pm line 898.
Prototype after '@' for Curses::UI::Widget::set_mouse_binding : $@; at /usr/home/cpan/pit/64bit/conf/perl-5.12.3/.cpanplus/5.12.3/build/Curses-UI-0.9607/blib/lib/Curses/UI/Widget.pm line 924.
Prototype after '@' for Curses::UI::Container::add : $@; at /usr/home/cpan/pit/64bit/conf/perl-5.12.3/.cpanplus/5.12.3/build/Curses-UI-0.9607/blib/lib/Curses/UI/Container.pm line 67.
Prototype after '@' for Curses::UI::Container::set_focusorder : @; at /usr/home/cpan/pit/64bit/conf/perl-5.12.3/.cpanplus/5.12.3/build/Curses-UI-0.9607/blib/lib/Curses/UI/Container.pm line 475.
Prototype after '@' for Curses::UI::Container::set_draworder : @; at /usr/home/cpan/pit/64bit/conf/perl-5.12.3/.cpanplus/5.12.3/build/Curses-UI-0.9607/blib/lib/Curses/UI/Container.pm line 483.
t/07widget.t ............ ok
Prototype after '@' for Curses::UI::Widget::width_by_windowscrwidth : $@; at /usr/home/cpan/pit/64bit/conf/perl-5.12.3/.cpanplus/5.12.3/build/Curses-UI-0.9607/blib/lib/Curses/UI/Widget.pm line 356.
Prototype after '@' for Curses::UI::Widget::height_by_windowscrheight : $@; at /usr/home/cpan/pit/64bit/conf/perl-5.12.3/.cpanplus/5.12.3/build/Curses-UI-0.9607/blib/lib/Curses/UI/Widget.pm line 380.
Prototype after '@' for Curses::UI::Widget::set_binding : $@; at /usr/home/cpan/pit/64bit/conf/perl-5.12.3/.cpanplus/5.12.3/build/Curses-UI-0.9607/blib/lib/Curses/UI/Widget.pm line 898.
Prototype after '@' for Curses::UI::Widget::set_mouse_binding : $@; at /usr/home/cpan/pit/64bit/conf/perl-5.12.3/.cpanplus/5.12.3/build/Curses-UI-0.9607/blib/lib/Curses/UI/Widget.pm line 924.
Prototype after '@' for Curses::UI::Container::add : $@; at /usr/home/cpan/pit/64bit/conf/perl-5.12.3/.cpanplus/5.12.3/build/Curses-UI-0.9607/blib/lib/Curses/UI/Container.pm line 67.
Prototype after '@' for Curses::UI::Container::set_focusorder : @; at /usr/home/cpan/pit/64bit/conf/perl-5.12.3/.cpanplus/5.12.3/build/Curses-UI-0.9607/blib/lib/Curses/UI/Container.pm line 475.
Prototype after '@' for Curses::UI::Container::set_draworder : @; at /usr/home/cpan/pit/64bit/conf/perl-5.12.3/.cpanplus/5.12.3/build/Curses-UI-0.9607/blib/lib/Curses/UI/Container.pm line 483.
t/08common.t ............ ok
Prototype after '@' for Curses::UI::Widget::width_by_windowscrwidth : $@; at /usr/home/cpan/pit/64bit/conf/perl-5.12.3/.cpanplus/5.12.3/build/Curses-UI-0.9607/blib/lib/Curses/UI/Widget.pm line 356.
Prototype after '@' for Curses::UI::Widget::height_by_windowscrheight : $@; at /usr/home/cpan/pit/64bit/conf/perl-5.12.3/.cpanplus/5.12.3/build/Curses-UI-0.9607/blib/lib/Curses/UI/Widget.pm line 380.
Prototype after '@' for Curses::UI::Widget::set_binding : $@; at /usr/home/cpan/pit/64bit/conf/perl-5.12.3/.cpanplus/5.12.3/build/Curses-UI-0.9607/blib/lib/Curses/UI/Widget.pm line 898.
Prototype after '@' for Curses::UI::Widget::set_mouse_binding : $@; at /usr/home/cpan/pit/64bit/conf/perl-5.12.3/.cpanplus/5.12.3/build/Curses-UI-0.9607/blib/lib/Curses/UI/Widget.pm line 924.
Prototype after '@' for Curses::UI::Container::add : $@; at /usr/home/cpan/pit/64bit/conf/perl-5.12.3/.cpanplus/5.12.3/build/Curses-UI-0.9607/blib/lib/Curses/UI/Container.pm line 67.
Prototype after '@' for Curses::UI::Container::set_focusorder : @; at /usr/home/cpan/pit/64bit/conf/perl-5.12.3/.cpanplus/5.12.3/build/Curses-UI-0.9607/blib/lib/Curses/UI/Container.pm line 475.
Prototype after '@' for Curses::UI::Container::set_draworder : @; at /usr/home/cpan/pit/64bit/conf/perl-5.12.3/.cpanplus/5.12.3/build/Curses-UI-0.9607/blib/lib/Curses/UI/Container.pm line 483.
t/09label.t ............. ok
Prototype after '@' for Curses::UI::Widget::width_by_windowscrwidth : $@; at /usr/home/cpan/pit/64bit/conf/perl-5.12.3/.cpanplus/5.12.3/build/Curses-UI-0.9607/blib/lib/Curses/UI/Widget.pm line 356.
Prototype after '@' for Curses::UI::Widget::height_by_windowscrheight : $@; at /usr/home/cpan/pit/64bit/conf/perl-5.12.3/.cpanplus/5.12.3/build/Curses-UI-0.9607/blib/lib/Curses/UI/Widget.pm line 380.
Prototype after '@' for Curses::UI::Widget::set_binding : $@; at /usr/home/cpan/pit/64bit/conf/perl-5.12.3/.cpanplus/5.12.3/build/Curses-UI-0.9607/blib/lib/Curses/UI/Widget.pm line 898.
Prototype after '@' for Curses::UI::Widget::set_mouse_binding : $@; at /usr/home/cpan/pit/64bit/conf/perl-5.12.3/.cpanplus/5.12.3/build/Curses-UI-0.9607/blib/lib/Curses/UI/Widget.pm line 924.
Prototype after '@' for Curses::UI::Container::add : $@; at /usr/home/cpan/pit/64bit/conf/perl-5.12.3/.cpanplus/5.12.3/build/Curses-UI-0.9607/blib/lib/Curses/UI/Container.pm line 67.
Prototype after '@' for Curses::UI::Container::set_focusorder : @; at /usr/home/cpan/pit/64bit/conf/perl-5.12.3/.cpanplus/5.12.3/build/Curses-UI-0.9607/blib/lib/Curses/UI/Container.pm line 475.
Prototype after '@' for Curses::UI::Container::set_draworder : @; at /usr/home/cpan/pit/64bit/conf/perl-5.12.3/.cpanplus/5.12.3/build/Curses-UI-0.9607/blib/lib/Curses/UI/Container.pm line 483.
t/10texteditor.t ........ ok
Prototype after '@' for Curses::UI::Widget::width_by_windowscrwidth : $@; at /usr/home/cpan/pit/64bit/conf/perl-5.12.3/.cpanplus/5.12.3/build/Curses-UI-0.9607/blib/lib/Curses/UI/Widget.pm line 356.
Prototype after '@' for Curses::UI::Widget::height_by_windowscrheight : $@; at /usr/home/cpan/pit/64bit/conf/perl-5.12.3/.cpanplus/5.12.3/build/Curses-UI-0.9607/blib/lib/Curses/UI/Widget.pm line 380.
Prototype after '@' for Curses::UI::Widget::set_binding : $@; at /usr/home/cpan/pit/64bit/conf/perl-5.12.3/.cpanplus/5.12.3/build/Curses-UI-0.9607/blib/lib/Curses/UI/Widget.pm line 898.
Prototype after '@' for Curses::UI::Widget::set_mouse_binding : $@; at /usr/home/cpan/pit/64bit/conf/perl-5.12.3/.cpanplus/5.12.3/build/Curses-UI-0.9607/blib/lib/Curses/UI/Widget.pm line 924.
Prototype after '@' for Curses::UI::Container::add : $@; at /usr/home/cpan/pit/64bit/conf/perl-5.12.3/.cpanplus/5.12.3/build/Curses-UI-0.9607/blib/lib/Curses/UI/Container.pm line 67.
Prototype after '@' for Curses::UI::Container::set_focusorder : @; at /usr/home/cpan/pit/64bit/conf/perl-5.12.3/.cpanplus/5.12.3/build/Curses-UI-0.9607/blib/lib/Curses/UI/Container.pm line 475.
Prototype after '@' for Curses::UI::Container::set_draworder : @; at /usr/home/cpan/pit/64bit/conf/perl-5.12.3/.cpanplus/5.12.3/build/Curses-UI-0.9607/blib/lib/Curses/UI/Container.pm line 483.
Prototype after '@' for Curses::UI::Listbox::maxlabelwidth : @; at /usr/home/cpan/pit/64bit/conf/perl-5.12.3/.cpanplus/5.12.3/build/Curses-UI-0.9607/blib/lib/Curses/UI/Listbox.pm line 221.
t/11listbox.t ........... ok
Prototype after '@' for Curses::UI::Widget::width_by_windowscrwidth : $@; at /usr/home/cpan/pit/64bit/conf/perl-5.12.3/.cpanplus/5.12.3/build/Curses-UI-0.9607/blib/lib/Curses/UI/Widget.pm line 356.
Prototype after '@' for Curses::UI::Widget::height_by_windowscrheight : $@; at /usr/home/cpan/pit/64bit/conf/perl-5.12.3/.cpanplus/5.12.3/build/Curses-UI-0.9607/blib/lib/Curses/UI/Widget.pm line 380.
Prototype after '@' for Curses::UI::Widget::set_binding : $@; at /usr/home/cpan/pit/64bit/conf/perl-5.12.3/.cpanplus/5.12.3/build/Curses-UI-0.9607/blib/lib/Curses/UI/Widget.pm line 898.
Prototype after '@' for Curses::UI::Widget::set_mouse_binding : $@; at /usr/home/cpan/pit/64bit/conf/perl-5.12.3/.cpanplus/5.12.3/build/Curses-UI-0.9607/blib/lib/Curses/UI/Widget.pm line 924.
Prototype after '@' for Curses::UI::Container::add : $@; at /usr/home/cpan/pit/64bit/conf/perl-5.12.3/.cpanplus/5.12.3/build/Curses-UI-0.9607/blib/lib/Curses/UI/Container.pm line 67.
Prototype after '@' for Curses::UI::Container::set_focusorder : @; at /usr/home/cpan/pit/64bit/conf/perl-5.12.3/.cpanplus/5.12.3/build/Curses-UI-0.9607/blib/lib/Curses/UI/Container.pm line 475.
Prototype after '@' for Curses::UI::Container::set_draworder : @; at /usr/home/cpan/pit/64bit/conf/perl-5.12.3/.cpanplus/5.12.3/build/Curses-UI-0.9607/blib/lib/Curses/UI/Container.pm line 483.
t/12gpm_handler.t ....... ok
Prototype after '@' for Curses::UI::Widget::width_by_windowscrwidth : $@; at /usr/home/cpan/pit/64bit/conf/perl-5.12.3/.cpanplus/5.12.3/build/Curses-UI-0.9607/blib/lib/Curses/UI/Widget.pm line 356.
Prototype after '@' for Curses::UI::Widget::height_by_windowscrheight : $@; at /usr/home/cpan/pit/64bit/conf/perl-5.12.3/.cpanplus/5.12.3/build/Curses-UI-0.9607/blib/lib/Curses/UI/Widget.pm line 380.
Prototype after '@' for Curses::UI::Widget::set_binding : $@; at /usr/home/cpan/pit/64bit/conf/perl-5.12.3/.cpanplus/5.12.3/build/Curses-UI-0.9607/blib/lib/Curses/UI/Widget.pm line 898.
Prototype after '@' for Curses::UI::Widget::set_mouse_binding : $@; at /usr/home/cpan/pit/64bit/conf/perl-5.12.3/.cpanplus/5.12.3/build/Curses-UI-0.9607/blib/lib/Curses/UI/Widget.pm line 924.
Prototype after '@' for Curses::UI::Container::add : $@; at /usr/home/cpan/pit/64bit/conf/perl-5.12.3/.cpanplus/5.12.3/build/Curses-UI-0.9607/blib/lib/Curses/UI/Container.pm line 67.
Prototype after '@' for Curses::UI::Container::set_focusorder : @; at /usr/home/cpan/pit/64bit/conf/perl-5.12.3/.cpanplus/5.12.3/build/Curses-UI-0.9607/blib/lib/Curses/UI/Container.pm line 475.
Prototype after '@' for Curses::UI::Container::set_draworder : @; at /usr/home/cpan/pit/64bit/conf/perl-5.12.3/.cpanplus/5.12.3/build/Curses-UI-0.9607/blib/lib/Curses/UI/Container.pm line 483.
t/13notebook.t .......... ok
Prototype after '@' for Curses::UI::Widget::width_by_windowscrwidth : $@; at /usr/home/cpan/pit/64bit/conf/perl-5.12.3/.cpanplus/5.12.3/build/Curses-UI-0.9607/blib/lib/Curses/UI/Widget.pm line 356.
Prototype after '@' for Curses::UI::Widget::height_by_windowscrheight : $@; at /usr/home/cpan/pit/64bit/conf/perl-5.12.3/.cpanplus/5.12.3/build/Curses-UI-0.9607/blib/lib/Curses/UI/Widget.pm line 380.
Prototype after '@' for Curses::UI::Widget::set_binding : $@; at /usr/home/cpan/pit/64bit/conf/perl-5.12.3/.cpanplus/5.12.3/build/Curses-UI-0.9607/blib/lib/Curses/UI/Widget.pm line 898.
Prototype after '@' for Curses::UI::Widget::set_mouse_binding : $@; at /usr/home/cpan/pit/64bit/conf/perl-5.12.3/.cpanplus/5.12.3/build/Curses-UI-0.9607/blib/lib/Curses/UI/Widget.pm line 924.
Prototype after '@' for Curses::UI::Container::add : $@; at /usr/home/cpan/pit/64bit/conf/perl-5.12.3/.cpanplus/5.12.3/build/Curses-UI-0.9607/blib/lib/Curses/UI/Container.pm line 67.
Prototype after '@' for Curses::UI::Container::set_focusorder : @; at /usr/home/cpan/pit/64bit/conf/perl-5.12.3/.cpanplus/5.12.3/build/Curses-UI-0.9607/blib/lib/Curses/UI/Container.pm line 475.
Prototype after '@' for Curses::UI::Container::set_draworder : @; at /usr/home/cpan/pit/64bit/conf/perl-5.12.3/.cpanplus/5.12.3/build/Curses-UI-0.9607/blib/lib/Curses/UI/Container.pm line 483.
t/99misc.t .............. ok
All tests successful.
Files=14, Tests=124,  3 wallclock secs ( 0.02 usr  0.29 sys +  0.55 cusr  2.47 csys =  3.34 CPU)
Result: PASS

[MSG] [Sat May 21 16:37:28 2011] Sending test report for 'Curses-UI-0.9607'

This report was machine-generated by CPANPLUS::Dist::YACSmoke 0.62.
Powered by minismokebox version 0.44

------------------------------
ENVIRONMENT AND OTHER CONTEXT
------------------------------

Environment variables:

    AUTOMATED_TESTING = 1
    PATH = /sbin:/bin:/usr/sbin:/usr/bin:/usr/games:/usr/local/sbin:/usr/local/bin:/home/cpan/bin
    PERL5LIB = :/usr/home/cpan/pit/64bit/conf/perl-5.12.3/.cpanplus/5.12.3/build/Clone-0.31/blib/lib:/usr/home/cpan/pit/64bit/conf/perl-5.12.3/.cpanplus/5.12.3/build/Clone-0.31/blib/arch:/usr/home/cpan/pit/64bit/conf/perl-5.12.3/.cpanplus/5.12.3/build/Curses-1.28/blib/lib:/usr/home/cpan/pit/64bit/conf/perl-5.12.3/.cpanplus/5.12.3/build/Curses-1.28/blib/arch:/usr/home/cpan/pit/64bit/conf/perl-5.12.3/.cpanplus/5.12.3/build/TermReadKey-2.30/blib/lib:/usr/home/cpan/pit/64bit/conf/perl-5.12.3/.cpanplus/5.12.3/build/TermReadKey-2.30/blib/arch:/usr/home/cpan/pit/64bit/conf/perl-5.12.3/.cpanplus/5.12.3/build/Curses-UI-0.9607/blib/lib:/usr/home/cpan/pit/64bit/conf/perl-5.12.3/.cpanplus/5.12.3/build/Curses-UI-0.9607/blib/arch
    PERL5_CPANPLUS_IS_RUNNING = 36516
    PERL5_CPANPLUS_IS_VERSION = 0.9105
    PERL5_MINISMOKEBOX = 0.44
    PERL5_YACSMOKE_BASE = /usr/home/cpan/pit/64bit/conf/perl-5.12.3
    PERL_EXTUTILS_AUTOINSTALL = --defaultdeps
    PERL_MM_USE_DEFAULT = 1
    SHELL = /usr/local/bin/bash
    TERM = screen

Perl special variables (and OS-specific diagnostics, for MSWin32):

    Perl: $^X = /usr/home/cpan/pit/64bit/perl-5.12.3/bin/perl
    UID:  $<  = 1002
    EUID: $>  = 1002
    GID:  $(  = 1002 1002
    EGID: $)  = 1002 1002


-------------------------------


--

Summary of my perl5 (revision 5 version 12 subversion 3) configuration:
   
  Platform:
    osname=freebsd, osvers=8.2-release, archname=i386-freebsd-64int
    uname='freebsd fetlock.bingosnet.co.uk 8.2-release freebsd 8.2-release #0: fri feb 18 02:24:46 utc 2011 root@almeida.cse.buffalo.edu:usrobjusrsrcsysgeneric i386 '
    config_args='-des -Dprefix=/usr/home/cpan/pit/64bit/perl-5.12.3 -Duse64bitint'
    hint=recommended, useposix=true, d_sigaction=define
    useithreads=undef, usemultiplicity=undef
    useperlio=define, d_sfio=undef, uselargefiles=define, usesocks=undef
    use64bitint=define, use64bitall=undef, uselongdouble=undef
    usemymalloc=n, bincompat5005=undef
  Compiler:
    cc='cc', ccflags ='-DHAS_FPSETMASK -DHAS_FLOATINGPOINT_H -fno-strict-aliasing -pipe -fstack-protector -I/usr/local/include',
    optimize='-O',
    cppflags='-DHAS_FPSETMASK -DHAS_FLOATINGPOINT_H -fno-strict-aliasing -pipe -fstack-protector -I/usr/local/include'
    ccversion='', gccversion='4.2.1 20070719  [FreeBSD]', gccosandvers=''
    intsize=4, longsize=4, ptrsize=4, doublesize=8, byteorder=12345678
    d_longlong=define, longlongsize=8, d_longdbl=define, longdblsize=12
    ivtype='long long', ivsize=8, nvtype='double', nvsize=8, Off_t='off_t', lseeksize=8
    alignbytes=4, prototype=define
  Linker and Libraries:
    ld='cc', ldflags ='-Wl,-E  -fstack-protector -L/usr/local/lib'
    libpth=/usr/lib /usr/local/lib
    libs=-lgdbm -lm -lcrypt -lutil -lc
    perllibs=-lm -lcrypt -lutil -lc
    libc=, so=so, useshrplib=false, libperl=libperl.a
    gnulibc_version=''
  Dynamic Linking:
    dlsrc=dl_dlopen.xs, dlext=so, d_dlsymun=undef, ccdlflags=' '
    cccdlflags='-DPIC -fPIC', lddlflags='-shared  -L/usr/local/lib -fstack-protector'


Characteristics of this binary (from libperl): 
  Compile-time options: PERL_DONT_CREATE_GVSV PERL_MALLOC_WRAP USE_64_BIT_INT
                        USE_LARGE_FILES USE_PERLIO USE_PERL_ATOF
  Built under freebsd
  Compiled at Mar 16 2011 07:50:11
  %ENV:
    PERL5LIB=":/usr/home/cpan/pit/64bit/conf/perl-5.12.3/.cpanplus/5.12.3/build/Clone-0.31/blib/lib:/usr/home/cpan/pit/64bit/conf/perl-5.12.3/.cpanplus/5.12.3/build/Clone-0.31/blib/arch:/usr/home/cpan/pit/64bit/conf/perl-5.12.3/.cpanplus/5.12.3/build/Curses-1.28/blib/lib:/usr/home/cpan/pit/64bit/conf/perl-5.12.3/.cpanplus/5.12.3/build/Curses-1.28/blib/arch:/usr/home/cpan/pit/64bit/conf/perl-5.12.3/.cpanplus/5.12.3/build/TermReadKey-2.30/blib/lib:/usr/home/cpan/pit/64bit/conf/perl-5.12.3/.cpanplus/5.12.3/build/TermReadKey-2.30/blib/arch:/usr/home/cpan/pit/64bit/conf/perl-5.12.3/.cpanplus/5.12.3/build/Curses-UI-0.9607/blib/lib:/usr/home/cpan/pit/64bit/conf/perl-5.12.3/.cpanplus/5.12.3/build/Curses-UI-0.9607/blib/arch"
    PERL5_CPANPLUS_IS_RUNNING="36516"
    PERL5_CPANPLUS_IS_VERSION="0.9105"
    PERL5_MINISMOKEBOX="0.44"
    PERL5_YACSMOKE_BASE="/usr/home/cpan/pit/64bit/conf/perl-5.12.3"
    PERL_EXTUTILS_AUTOINSTALL="--defaultdeps"
    PERL_MM_USE_DEFAULT="1"
  @INC:
    /usr/home/cpan/pit/64bit/conf/perl-5.12.3/.cpanplus/5.12.3/build/Clone-0.31/blib/lib
    /usr/home/cpan/pit/64bit/conf/perl-5.12.3/.cpanplus/5.12.3/build/Clone-0.31/blib/arch
    /usr/home/cpan/pit/64bit/conf/perl-5.12.3/.cpanplus/5.12.3/build/Curses-1.28/blib/lib
    /usr/home/cpan/pit/64bit/conf/perl-5.12.3/.cpanplus/5.12.3/build/Curses-1.28/blib/arch
    /usr/home/cpan/pit/64bit/conf/perl-5.12.3/.cpanplus/5.12.3/build/TermReadKey-2.30/blib/lib
    /usr/home/cpan/pit/64bit/conf/perl-5.12.3/.cpanplus/5.12.3/build/TermReadKey-2.30/blib/arch
    /usr/home/cpan/pit/64bit/conf/perl-5.12.3/.cpanplus/5.12.3/build/Curses-UI-0.9607/blib/lib
    /usr/home/cpan/pit/64bit/conf/perl-5.12.3/.cpanplus/5.12.3/build/Curses-UI-0.9607/blib/arch
    /usr/home/cpan/pit/64bit/perl-5.12.3/lib/site_perl/5.12.3/i386-freebsd-64int
    /usr/home/cpan/pit/64bit/perl-5.12.3/lib/site_perl/5.12.3
    /usr/home/cpan/pit/64bit/perl-5.12.3/lib/5.12.3/i386-freebsd-64int
    /usr/home/cpan/pit/64bit/perl-5.12.3/lib/5.12.3
    .