Data-Serializer v0.65 Perl 5 v5.30.2 amd64-netbsd-thread-multi
- Status
- Pass
- From
- Nigel Horne
- Dist
-
Data-Serializer v0.65
- Platform
- Perl 5 v5.30.2 amd64-netbsd-thread-multi
- Date
- 2020-04-27 19:59:47
- ID
- a58b971a-88c1-11ea-a874-a5f729abcad5
This distribution has been tested as part of the CPAN Testers
project, supporting the Perl programming language. See
http://wiki.cpantesters.org/ for more information or email
questions to cpan-testers-discuss@perl.org
--
Dear Neil A. Neely,
This is a computer-generated report for Data-Serializer-0.65
on perl 5.30.2, created by CPAN-Reporter-1.2018.
Thank you for uploading your work to CPAN. Congratulations!
All tests were successful.
Sections of this report:
* Tester comments
* Program output
* Prerequisites
* Environment and other context
------------------------------
TESTER COMMENTS
------------------------------
Additional comments from tester:
this report is from an automated smoke testing program
and was not reviewed by a human for accuracy
------------------------------
PROGRAM OUTPUT
------------------------------
Output from './Build test':
t/00-01-Signature.t ........... skipped: (no reason given)
t/00-02-Kwalitee.t ............ skipped: Test::Kwalitee not installed; skipping
t/01-01-Data-Dumper.t ......... ok
t/01-02-Data-Denter.t ......... skipped: Data::Denter not installed
t/01-03-Storable.t ............ ok
t/01-04-FreezeThaw.t .......... skipped: FreezeThaw not installed
t/01-05-Config-General.t ...... skipped: Config::General not installed
t/01-06-YAML.t ................ ok
t/01-07-XML-Dumper.t .......... skipped: XML::Dumper not installed
t/01-08-PHP-Serialization.t ... skipped: PHP::Serialization not installed
t/01-09-XML-Simple.t .......... skipped: XML::Simple not installed
t/01-10-Data-Taxi.t ........... skipped: Data::Taxi not installed
t/01-11-YAML-Syck.t ........... ok
t/01-12-JSON.t ................ ok
t/01-13-JSON-Syck.t ........... ok
t/01-14-Bencode.t ............. skipped: Bencode not installed
t/01-15-Convert-Bencode.t ..... skipped: Convert::Bencode not installed
t/01-16-Convert-Bencode_XS.t .. skipped: Convert::Bencode_XS not installed
t/02-01-Orig-Raw.t ............ ok
t/02-02-Fast-Raw.t ............ ok
t/03-Non-Portable.t ........... ok
t/04-01-Compress-Zlib.t ....... ok
t/04-02-Compress-PPMd.t ....... skipped: compressppmd not installed
t/05-Encryption.t ............. skipped: encryption not installed
t/06-B64-Encoding.t ........... ok
t/07-01-MD5-Digest.t .......... skipped: md5 not installed
t/07-02-SHA1-Digest.t ......... skipped: sha1 not installed
t/07-03-SHA-256-Digest.t ...... skipped: sha-256 not installed
t/08-Store-Retrieve.t ......... ok
t/09-Feature-Combos.t ......... ok
t/10-01-Pod.t ................. ok
t/10-02-Pod-Coverage.t ........ skipped: Test::Pod::Coverage 1.00 required for testing POD coverage
All tests successful.
Files=32, Tests=1015, 6 wallclock secs ( 0.24 usr 0.04 sys + 2.80 cusr 1.20 csys = 4.28 CPU)
Result: PASS
------------------------------
PREREQUISITES
------------------------------
Prerequisite modules loaded:
requires:
Module Need Have
------------- ---- --------
AutoLoader 0 5.74
Data::Dumper 2.08 2.174
Digest::SHA 0 6.02
Exporter 0 5.73
IO::File 0 1.40
build_requires:
Module Need Have
------------- ---- --------
File::Spec 0 3.78
IO::File 0 1.40
Test::More 0 1.302175
configure_requires:
Module Need Have
------------- ---- --------
Module::Build 0.35 0.4231
------------------------------
ENVIRONMENT AND OTHER CONTEXT
------------------------------
Environment variables:
AUTOMATED_TESTING = 1
NONINTERACTIVE_TESTING = 1
PATH = /home/njh/perl5/perlbrew/bin:/home/njh/perl5/perlbrew/perls/perl-5.30.2-thread-multi/bin:/home/njh/src/njh/smoker/bin:/usr/bin:/bin:/usr/pkg/bin:/usr/local/bin
PERL5LIB = /home/njh/.cpan/build/MooX-Role-Parameterized-0.082-4/blib/arch:/home/njh/.cpan/build/MooX-Role-Parameterized-0.082-4/blib/lib:/home/njh/.cpan/build/List-MoreUtils-0.428-4/blib/arch:/home/njh/.cpan/build/List-MoreUtils-0.428-4/blib/lib:/home/njh/.cpan/build/Test-LeakTrace-0.16-4/blib/arch:/home/njh/.cpan/build/Test-LeakTrace-0.16-4/blib/lib:/home/njh/.cpan/build/List-MoreUtils-XS-0.428-4/blib/arch:/home/njh/.cpan/build/List-MoreUtils-XS-0.428-4/blib/lib:/home/njh/.cpan/build/Exporter-Tiny-1.002002-4/blib/arch:/home/njh/.cpan/build/Exporter-Tiny-1.002002-4/blib/lib:/home/njh/.cpan/build/Clone-0.45-4/blib/arch:/home/njh/.cpan/build/Clone-0.45-4/blib/lib:/home/njh/.cpan/build/B-COW-0.004-4/blib/arch:/home/njh/.cpan/build/B-COW-0.004-4/blib/lib:/home/njh/.cpan/build/Carp-Clan-6.08-4/blib/arch:/home/njh/.cpan/build/Carp-Clan-6.08-4/blib/lib
PERL5OPT =
PERL5_CPANPLUS_IS_RUNNING = 479
PERL5_CPAN_IS_RUNNING = 479
PERL5_CPAN_IS_RUNNING_IN_RECURSION = 25202,479
PERLBREW_HOME = /home/njh/.perlbrew
PERLBREW_MANPATH = /home/njh/perl5/perlbrew/perls/perl-5.30.2-thread-multi/man
PERLBREW_PATH = /home/njh/perl5/perlbrew/bin:/home/njh/perl5/perlbrew/perls/perl-5.30.2-thread-multi/bin
PERLBREW_PERL = perl-5.30.2-thread-multi
PERLBREW_ROOT = /home/njh/perl5/perlbrew
PERLBREW_SHELLRC_VERSION = 0.88
PERLBREW_VERSION = 0.88
PERL_MM_USE_DEFAULT = 1
PERL_USE_UNSAFE_INC = 1
SHELL = /usr/bin/bash
TMPDIR = /tmp/testwrapper.23397
Perl special variables (and OS-specific diagnostics, for MSWin32):
$^X = /home/njh/perl5/perlbrew/perls/perl-5.30.2-thread-multi/bin/perl5.30.2
$UID/$EUID = 1000 / 1000
$GID = 100 100 0
$EGID = 100 100 0
Perl module toolchain versions installed:
Module Have
------------------- --------
CPAN 2.22
CPAN::Meta 2.150010
Cwd 3.78
ExtUtils::CBuilder 0.280231
ExtUtils::Command 7.44
ExtUtils::Install 2.14
ExtUtils::MakeMaker 7.44
ExtUtils::Manifest 1.72
ExtUtils::ParseXS 3.40
File::Spec 3.78
JSON 4.02
JSON::PP 4.04
Module::Build 0.4231
Module::Signature n/a
Parse::CPAN::Meta 2.150010
Test::Harness 3.42
Test::More 1.302175
YAML 1.30
YAML::Syck 1.32
version 0.9924
--
Summary of my perl5 (revision 5 version 30 subversion 2) configuration:
Platform:
osname=netbsd
osvers=7.1.2
archname=amd64-netbsd-thread-multi
uname='netbsd vultr2.bandsman.co.uk 7.1.2 netbsd 7.1.2 (generic.201803151611z) amd64 '
config_args='-de -Dprefix=/home/njh/perl5/perlbrew/perls/perl-5.30.2-thread-multi -Dusedevel -Dusethreads -Dusemultiplicity -Accflags=-O2 -W -Wformat=2 -Wswitch -Wshadow -Wwrite-strings -Wuninitialized -Wall -pipe -fomit-frame-pointer -pedantic -D_FORTIFY_SOURCE=2 -Wpointer-arith -Wstrict-prototypes -fstack-protector -Wstack-protector -Wextra -Wbad-function-cast -Wcast-align -Wcast-qual -Wdisabled-optimization -Wendif-labels -Wfloat-equal -Wformat-nonliteral -Winline -Wmissing-declarations -Wmissing-prototypes -Wnested-externs -Wpointer-arith -Wundef -Wformat-security -ftree-vectorize -mmmx -msse -mfpmath=sse -msse2 -msse3 -msse4.1 -msse4.2 -mtune=native -Aeval:scriptdir=/home/njh/perl5/perlbrew/perls/perl-5.30.2-thread-multi/bin'
hint=recommended
useposix=true
d_sigaction=define
useithreads=define
usemultiplicity=define
use64bitint=define
use64bitall=define
uselongdouble=undef
usemymalloc=n
default_inc_excludes_dot=define
bincompat5005=undef
Compiler:
cc='cc'
ccflags ='-O2 -W -Wformat=2 -Wswitch -Wshadow -Wwrite-strings -Wuninitialized -Wall -pipe -fomit-frame-pointer -pedantic -D_FORTIFY_SOURCE=2 -Wpointer-arith -Wstrict-prototypes -fstack-protector -Wstack-protector -Wextra -Wbad-function-cast -Wcast-align -Wcast-qual -Wdisabled-optimization -Wendif-labels -Wfloat-equal -Wformat-nonliteral -Winline -Wmissing-declarations -Wmissing-prototypes -Wnested-externs -Wpointer-arith -Wundef -Wformat-security -ftree-vectorize -mmmx -msse -mfpmath=sse -msse2 -msse3 -msse4.1 -msse4.2 -mtune=native -fwrapv -fno-strict-aliasing -I/usr/pkg/include'
optimize='-O'
cppflags='-O2 -W -Wformat=2 -Wswitch -Wshadow -Wwrite-strings -Wuninitialized -Wall -pipe -fomit-frame-pointer -pedantic -D_FORTIFY_SOURCE=2 -Wpointer-arith -Wstrict-prototypes -fstack-protector -Wstack-protector -Wextra -Wbad-function-cast -Wcast-align -Wcast-qual -Wdisabled-optimization -Wendif-labels -Wfloat-equal -Wformat-nonliteral -Winline -Wmissing-declarations -Wmissing-prototypes -Wnested-externs -Wpointer-arith -Wundef -Wformat-security -ftree-vectorize -mmmx -msse -mfpmath=sse -msse2 -msse3 -msse4.1 -msse4.2 -mtune=native -fwrapv -fno-strict-aliasing -I/usr/pkg/include'
ccversion=''
gccversion='4.8.5'
gccosandvers=''
intsize=4
longsize=8
ptrsize=8
doublesize=8
byteorder=12345678
doublekind=3
d_longlong=define
longlongsize=8
d_longdbl=define
longdblsize=16
longdblkind=3
ivtype='long'
ivsize=8
nvtype='double'
nvsize=8
Off_t='off_t'
lseeksize=8
alignbytes=8
prototype=define
Linker and Libraries:
ld='cc'
ldflags =' -Wl,-rpath,/usr/pkg/lib -Wl,-rpath,/usr/local/lib -fstack-protector -L/usr/pkg/lib'
libpth=/usr/include/gcc-4.8 /usr/lib /usr/pkg/lib /lib
libs=-lpthread -lm -lcrypt -lutil -lc -lposix
perllibs=-lpthread -lm -lcrypt -lutil -lc -lposix
libc=/lib/libc.so
so=so
useshrplib=false
libperl=libperl.a
gnulibc_version=''
Dynamic Linking:
dlsrc=dl_dlopen.xs
dlext=so
d_dlsymun=undef
ccdlflags='-Wl,-E '
cccdlflags='-DPIC -fPIC '
lddlflags='-shared -L/usr/pkg/lib -fstack-protector'
Characteristics of this binary (from libperl):
Compile-time options:
HAS_TIMES
MULTIPLICITY
PERLIO_LAYERS
PERL_COPY_ON_WRITE
PERL_DONT_CREATE_GVSV
PERL_IMPLICIT_CONTEXT
PERL_MALLOC_WRAP
PERL_OP_PARENT
PERL_PRESERVE_IVUV
PERL_USE_DEVEL
USE_64_BIT_ALL
USE_64_BIT_INT
USE_ITHREADS
USE_LARGE_FILES
USE_LOCALE
USE_LOCALE_COLLATE
USE_LOCALE_CTYPE
USE_LOCALE_NUMERIC
USE_LOCALE_TIME
USE_PERLIO
USE_PERL_ATOF
USE_REENTRANT_API
Locally applied patches:
Devel::PatchPerl 1.48
Built under netbsd
Compiled at Mar 24 2020 19:54:21
%ENV:
PERL5LIB="/home/njh/.cpan/build/MooX-Role-Parameterized-0.082-4/blib/arch:/home/njh/.cpan/build/MooX-Role-Parameterized-0.082-4/blib/lib:/home/njh/.cpan/build/List-MoreUtils-0.428-4/blib/arch:/home/njh/.cpan/build/List-MoreUtils-0.428-4/blib/lib:/home/njh/.cpan/build/Test-LeakTrace-0.16-4/blib/arch:/home/njh/.cpan/build/Test-LeakTrace-0.16-4/blib/lib:/home/njh/.cpan/build/List-MoreUtils-XS-0.428-4/blib/arch:/home/njh/.cpan/build/List-MoreUtils-XS-0.428-4/blib/lib:/home/njh/.cpan/build/Exporter-Tiny-1.002002-4/blib/arch:/home/njh/.cpan/build/Exporter-Tiny-1.002002-4/blib/lib:/home/njh/.cpan/build/Clone-0.45-4/blib/arch:/home/njh/.cpan/build/Clone-0.45-4/blib/lib:/home/njh/.cpan/build/B-COW-0.004-4/blib/arch:/home/njh/.cpan/build/B-COW-0.004-4/blib/lib:/home/njh/.cpan/build/Carp-Clan-6.08-4/blib/arch:/home/njh/.cpan/build/Carp-Clan-6.08-4/blib/lib"
PERL5OPT=""
PERL5_CPANPLUS_IS_RUNNING="479"
PERL5_CPAN_IS_RUNNING="479"
PERL5_CPAN_IS_RUNNING_IN_RECURSION="25202,479"
PERLBREW_HOME="/home/njh/.perlbrew"
PERLBREW_MANPATH="/home/njh/perl5/perlbrew/perls/perl-5.30.2-thread-multi/man"
PERLBREW_PATH="/home/njh/perl5/perlbrew/bin:/home/njh/perl5/perlbrew/perls/perl-5.30.2-thread-multi/bin"
PERLBREW_PERL="perl-5.30.2-thread-multi"
PERLBREW_ROOT="/home/njh/perl5/perlbrew"
PERLBREW_SHELLRC_VERSION="0.88"
PERLBREW_VERSION="0.88"
PERL_MM_USE_DEFAULT="1"
PERL_USE_UNSAFE_INC="1"
@INC:
/home/njh/.cpan/build/MooX-Role-Parameterized-0.082-4/blib/arch
/home/njh/.cpan/build/MooX-Role-Parameterized-0.082-4/blib/lib
/home/njh/.cpan/build/List-MoreUtils-0.428-4/blib/arch
/home/njh/.cpan/build/List-MoreUtils-0.428-4/blib/lib
/home/njh/.cpan/build/Test-LeakTrace-0.16-4/blib/arch
/home/njh/.cpan/build/Test-LeakTrace-0.16-4/blib/lib
/home/njh/.cpan/build/List-MoreUtils-XS-0.428-4/blib/arch
/home/njh/.cpan/build/List-MoreUtils-XS-0.428-4/blib/lib
/home/njh/.cpan/build/Exporter-Tiny-1.002002-4/blib/arch
/home/njh/.cpan/build/Exporter-Tiny-1.002002-4/blib/lib
/home/njh/.cpan/build/Clone-0.45-4/blib/arch
/home/njh/.cpan/build/Clone-0.45-4/blib/lib
/home/njh/.cpan/build/B-COW-0.004-4/blib/arch
/home/njh/.cpan/build/B-COW-0.004-4/blib/lib
/home/njh/.cpan/build/Carp-Clan-6.08-4/blib/arch
/home/njh/.cpan/build/Carp-Clan-6.08-4/blib/lib
/home/njh/perl5/perlbrew/perls/perl-5.30.2-thread-multi/lib/site_perl/5.30.2/amd64-netbsd-thread-multi
/home/njh/perl5/perlbrew/perls/perl-5.30.2-thread-multi/lib/site_perl/5.30.2
/home/njh/perl5/perlbrew/perls/perl-5.30.2-thread-multi/lib/5.30.2/amd64-netbsd-thread-multi
/home/njh/perl5/perlbrew/perls/perl-5.30.2-thread-multi/lib/5.30.2
.