Report for HTML-FillInForm-Lite-1.15

Back
From: metabase:user:314402c4-2aae-11df-837a-5e0a49663a4f
Subject: PASS HTML-FillInForm-Lite-1.15 v5.22.3 RC4 FreeBSD
Date: 2016-11-09T06:42:13Z

This distribution has been tested as part of the CPAN Testers
project, supporting the Perl programming language.  See
http://wiki.cpantesters.org/ for more information or email
questions to cpan-testers-discuss@perl.org


--
Dear Goro Fuji,

This is a computer-generated report for HTML-FillInForm-Lite-1.15
on perl 5.22.3, created by CPAN-Reporter-1.2018.

Thank you for uploading your work to CPAN.  Congratulations!
All tests were successful.

Sections of this report:

    * Tester comments
    * Program output
    * Prerequisites
    * Environment and other context

------------------------------
TESTER COMMENTS
------------------------------

Additional comments from tester:

none provided

------------------------------
PROGRAM OUTPUT
------------------------------

Output from './Build test':

t/00basic.t .......... ok
CGI::param called in list context from /home/cpansand/.cpan/build/2016110906/HTML-FillInForm-Lite-1.15-X2uvpB/blib/lib/HTML/FillInForm/Lite.pm line 373, this can lead to vulnerabilities. See the warning in "Fetching the value or values of a single named parameter" at /usr/perl5.22.3-RC4p/lib/site_perl/5.22.3/CGI.pm line 412.
t/01input.t .......... ok
t/02select.t ......... ok
t/03textarea.t ....... ok
t/04target.t ......... ok
t/05encoding.t ....... ok
t/07fobj.t ........... ok
t/08select-extra.t ... ok
t/09decode_entity.t .. ok
CGI::param called in list context from /home/cpansand/.cpan/build/2016110906/HTML-FillInForm-Lite-1.15-X2uvpB/blib/lib/HTML/FillInForm/Lite.pm line 373, this can lead to vulnerabilities. See the warning in "Fetching the value or values of a single named parameter" at /usr/perl5.22.3-RC4p/lib/site_perl/5.22.3/CGI.pm line 412.
t/10compat.t ......... ok
t/11html4compat.t .... ok
t/12empty_elem.t ..... ok
t/13simple.t ......... ok
t/14stringobj.t ...... ok
t/15data-attr.t ...... ok
t/16html5.t .......... ok
t/17suffix.t ......... ok
t/99pod.t ............ ok
t/99podcoverage.t .... ok
All tests successful.
Files=19, Tests=300,  1 wallclock secs ( 0.02 usr  0.09 sys +  0.65 cusr  0.22 csys =  0.98 CPU)
Result: PASS

------------------------------
PREREQUISITES
------------------------------

Prerequisite modules loaded:

requires:

    Module              Need     Have    
    ------------------- -------- --------
    perl                5.008001 5.022003

build_requires:

    Module              Need     Have    
    ------------------- -------- --------
    CGI                 0        4.35    
    ExtUtils::MakeMaker 6.59     7.04_02 
    Test::More          0.62     1.302059
    Test::Requires      0        0.10    

configure_requires:

    Module              Need     Have    
    ------------------- -------- --------
    Module::Build::Tiny 0.035    0.039   


------------------------------
ENVIRONMENT AND OTHER CONTEXT
------------------------------

Environment variables:

    LC_ALL = de_DE.ISO8859-1
    PATH = /usr/local/bin:/usr/bin:/bin:/usr/local/sbin:/usr/sbin:/sbin:/home/cpansand/bin/freebsd10.1:/home/cpansand/bin/sh:/home/cpansand/bin:/usr/games:/home/cpansand/devel:/home/eserte/src/srezic-misc/scripts
    PERL5LIB = /home/cpansand/.cpan/build/2016110906/Twiggy-0.1025-GuZzfZ/blib/arch:/home/cpansand/.cpan/build/2016110906/Twiggy-0.1025-GuZzfZ/blib/lib:/home/cpansand/.cpan/build/2016110906/AnyEvent-7.13-s9bswJ/blib/arch:/home/cpansand/.cpan/build/2016110906/AnyEvent-7.13-s9bswJ/blib/lib:/home/cpansand/.cpan/build/2016110906/Time-Duration-1.20-oktDD8/blib/arch:/home/cpansand/.cpan/build/2016110906/Time-Duration-1.20-oktDD8/blib/lib:/home/cpansand/.cpan/build/2016110906/Ukigumo-Common-0.10-48sVxz/blib/arch:/home/cpansand/.cpan/build/2016110906/Ukigumo-Common-0.10-48sVxz/blib/lib:/home/cpansand/.cpan/build/2016110906/Log-Minimal-0.19-Bul47K/blib/arch:/home/cpansand/.cpan/build/2016110906/Log-Minimal-0.19-Bul47K/blib/lib:/home/cpansand/.cpan/build/2016110906/Data-Validator-1.07-FfB4Eq/blib/arch:/home/cpansand/.cpan/build/2016110906/Data-Validator-1.07-FfB4Eq/blib/lib
    PERL5OPT = 
    PERL5_CPANPLUS_IS_RUNNING = 25348
    PERL5_CPAN_IS_RUNNING = 25348
    PERL5_CPAN_IS_RUNNING_IN_RECURSION = 25333,25348
    PERLDOC = -MPod::Perldoc::ToTextOverstrike
    PERL_BATCH = yes
    PERL_CANARY_STABILITY_NOPROMPT = 1
    PERL_CPAN_REPORTER_CONFIG = /var/tmp/cpansmoker-1023/2016110906/cpanreporter_001_config.ini
    PERL_EXTUTILS_AUTOINSTALL = --defaultdeps
    SHELL = /usr/local/bin/zsh
    TERM = screen
    TMPDIR = /var/tmp/cpansmoker-1023/2016110906

Perl special variables (and OS-specific diagnostics, for MSWin32):

    $^X = /usr/perl5.22.3-RC4p/bin/perl
    $UID/$EUID = 1023 / 1023
    $GID = 1023 1023
    $EGID = 1023 1023

Perl module toolchain versions installed:

    Module              Have      
    ------------------- ----------
    CPAN                2.11_01   
    CPAN::Meta          2.150001  
    Cwd                 3.56_02   
    ExtUtils::CBuilder  0.280221  
    ExtUtils::Command   1.20_01   
    ExtUtils::Install   2.04      
    ExtUtils::MakeMaker 7.04_02   
    ExtUtils::Manifest  1.70      
    ExtUtils::ParseXS   3.28      
    File::Spec          3.56_02   
    JSON                2.90      
    JSON::PP            2.27300_01
    Module::Build       0.4220    
    Module::Signature   n/a       
    Parse::CPAN::Meta   1.4414_001
    Test::Harness       3.35_01   
    Test::More          1.302059  
    YAML                1.18      
    YAML::Syck          1.29      
    version             0.9909    


--

Summary of my perl5 (revision 5 version 22 subversion 3) configuration:
   
  Platform:
    osname=freebsd, osvers=10.1-release, archname=amd64-freebsd
    uname='freebsd cvrsnica-freebsd-101.herceg.de 10.1-release freebsd 10.1-release #0 r274401: tue nov 11 21:02:49 utc 2014 root@releng1.nyi.freebsd.org:usrobjusrsrcsysgeneric amd64 '
    config_args='-ds -e -Dprefix=/usr/perl5.22.3-RC4p -Dcf_email=srezic@cpan.org -Doptimize=-O2 -pipe'
    hint=recommended, useposix=true, d_sigaction=define
    useithreads=undef, usemultiplicity=undef
    use64bitint=define, use64bitall=define, uselongdouble=undef
    usemymalloc=n, bincompat5005=undef
  Compiler:
    cc='cc', ccflags ='-DHAS_FPSETMASK -DHAS_FLOATINGPOINT_H -fno-strict-aliasing -pipe -fstack-protector -I/usr/local/include -D_FORTIFY_SOURCE=2',
    optimize='-O2 -pipe',
    cppflags='-DHAS_FPSETMASK -DHAS_FLOATINGPOINT_H -fno-strict-aliasing -pipe -fstack-protector -I/usr/local/include'
    ccversion='', gccversion='4.2.1 Compatible FreeBSD Clang 3.4.1 (tags/RELEASE_34/dot1-final 208032)', gccosandvers=''
    intsize=4, longsize=8, ptrsize=8, doublesize=8, byteorder=12345678, doublekind=3
    d_longlong=define, longlongsize=8, d_longdbl=define, longdblsize=16, longdblkind=3
    ivtype='long', ivsize=8, nvtype='double', nvsize=8, Off_t='off_t', lseeksize=8
    alignbytes=8, prototype=define
  Linker and Libraries:
    ld='cc', ldflags ='-pthread -Wl,-E  -fstack-protector -L/usr/local/lib'
    libpth=/usr/lib /usr/local/lib /usr/include/clang/3.4.1 /usr/lib
    libs=-lpthread -lgdbm -lm -lcrypt -lutil -lc
    perllibs=-lpthread -lm -lcrypt -lutil -lc
    libc=, so=so, useshrplib=false, libperl=libperl.a
    gnulibc_version=''
  Dynamic Linking:
    dlsrc=dl_dlopen.xs, dlext=so, d_dlsymun=undef, ccdlflags=' '
    cccdlflags='-DPIC -fPIC', lddlflags='-shared  -L/usr/local/lib -fstack-protector'


Characteristics of this binary (from libperl): 
  Compile-time options: HAS_TIMES PERLIO_LAYERS PERL_DONT_CREATE_GVSV
                        PERL_HASH_FUNC_ONE_AT_A_TIME_HARD PERL_MALLOC_WRAP
                        PERL_NEW_COPY_ON_WRITE PERL_PRESERVE_IVUV
                        USE_64_BIT_ALL USE_64_BIT_INT USE_LARGE_FILES
                        USE_LOCALE USE_LOCALE_COLLATE USE_LOCALE_CTYPE
                        USE_LOCALE_NUMERIC USE_LOCALE_TIME USE_PERLIO
                        USE_PERL_ATOF
  Locally applied patches:
	RC4
  Built under freebsd
  Compiled at Oct 13 2016 19:50:47
  %ENV:
    PERL5LIB="/home/cpansand/.cpan/build/2016110906/Twiggy-0.1025-GuZzfZ/blib/arch:/home/cpansand/.cpan/build/2016110906/Twiggy-0.1025-GuZzfZ/blib/lib:/home/cpansand/.cpan/build/2016110906/AnyEvent-7.13-s9bswJ/blib/arch:/home/cpansand/.cpan/build/2016110906/AnyEvent-7.13-s9bswJ/blib/lib:/home/cpansand/.cpan/build/2016110906/Time-Duration-1.20-oktDD8/blib/arch:/home/cpansand/.cpan/build/2016110906/Time-Duration-1.20-oktDD8/blib/lib:/home/cpansand/.cpan/build/2016110906/Ukigumo-Common-0.10-48sVxz/blib/arch:/home/cpansand/.cpan/build/2016110906/Ukigumo-Common-0.10-48sVxz/blib/lib:/home/cpansand/.cpan/build/2016110906/Log-Minimal-0.19-Bul47K/blib/arch:/home/cpansand/.cpan/build/2016110906/Log-Minimal-0.19-Bul47K/blib/lib:/home/cpansand/.cpan/build/2016110906/Data-Validator-1.07-FfB4Eq/blib/arch:/home/cpansand/.cpan/build/2016110906/Data-Validator-1.07-FfB4Eq/blib/lib"
    PERL5OPT=""
    PERL5_CPANPLUS_IS_RUNNING="25348"
    PERL5_CPAN_IS_RUNNING="25348"
    PERL5_CPAN_IS_RUNNING_IN_RECURSION="25333,25348"
    PERLDOC="-MPod::Perldoc::ToTextOverstrike"
    PERL_BATCH="yes"
    PERL_CANARY_STABILITY_NOPROMPT="1"
    PERL_CPAN_REPORTER_CONFIG="/var/tmp/cpansmoker-1023/2016110906/cpanreporter_001_config.ini"
    PERL_EXTUTILS_AUTOINSTALL="--defaultdeps"
  @INC:
    /home/cpansand/.cpan/build/2016110906/Twiggy-0.1025-GuZzfZ/blib/arch
    /home/cpansand/.cpan/build/2016110906/Twiggy-0.1025-GuZzfZ/blib/lib
    /home/cpansand/.cpan/build/2016110906/AnyEvent-7.13-s9bswJ/blib/arch
    /home/cpansand/.cpan/build/2016110906/AnyEvent-7.13-s9bswJ/blib/lib
    /home/cpansand/.cpan/build/2016110906/Time-Duration-1.20-oktDD8/blib/arch
    /home/cpansand/.cpan/build/2016110906/Time-Duration-1.20-oktDD8/blib/lib
    /home/cpansand/.cpan/build/2016110906/Ukigumo-Common-0.10-48sVxz/blib/arch
    /home/cpansand/.cpan/build/2016110906/Ukigumo-Common-0.10-48sVxz/blib/lib
    /home/cpansand/.cpan/build/2016110906/Log-Minimal-0.19-Bul47K/blib/arch
    /home/cpansand/.cpan/build/2016110906/Log-Minimal-0.19-Bul47K/blib/lib
    /home/cpansand/.cpan/build/2016110906/Data-Validator-1.07-FfB4Eq/blib/arch
    /home/cpansand/.cpan/build/2016110906/Data-Validator-1.07-FfB4Eq/blib/lib
    /usr/perl5.22.3-RC4p/lib/site_perl/5.22.3/amd64-freebsd
    /usr/perl5.22.3-RC4p/lib/site_perl/5.22.3
    /usr/perl5.22.3-RC4p/lib/5.22.3/amd64-freebsd
    /usr/perl5.22.3-RC4p/lib/5.22.3
    .