Syntax-Construct v1.039 Perl 5 v5.14.3 x86_64-linux

Status
Pass
From
Chris Williams (BINGOS)
Dist
Syntax-Construct v1.039
Platform
Perl 5 v5.14.3 x86_64-linux
Date
2025-01-25 20:12:04
ID
a556633a-db58-11ef-98b0-b3c3213a625c
This distribution has been tested as part of the CPAN Testers
project, supporting the Perl programming language.  See
http://wiki.cpantesters.org/ for more information or email
questions to cpan-testers-discuss@perl.org


--

Dear CHOROBA,

This is a computer-generated error report created automatically by
CPANPLUS, version 0.9914. Testers personal comments may appear
at the end of this report.


Thank you for uploading your work to CPAN.  Congratulations!
All tests were successful.

TEST RESULTS:

Below is the error stack from stage 'make test':

PERL_DL_NONLAZY=1 "/home/cpan/pit/bare/perl-5.14.3/bin/perl" "-MExtUtils::Command::MM" "-MTest::Harness" "-e" "undef *Test::Harness::Switches; test_harness(0, 'blib/lib', 'blib/arch')" t/*.t
# Testing Syntax::Construct 1.039, Perl 5.014003, /home/cpan/pit/bare/perl-5.14.3/bin/perl
t/00-load.t ........ ok
t/01-invalid.t ..... ok
Exiting eval via last at (eval 9) line 1.
Use of uninitialized value $_ in concatenation (.) or string at (eval 11) line 1.
Use of uninitialized value $_ in hash element at (eval 11) line 1.
Use of uninitialized value in concatenation (.) or string at (eval 11) line 1.
Use of uninitialized value $_ in concatenation (.) or string at (eval 11) line 1.
Use of uninitialized value $_ in hash element at (eval 11) line 1.
Use of uninitialized value in concatenation (.) or string at (eval 11) line 1.
Use of uninitialized value $_ in concatenation (.) or string at (eval 11) line 1.
Use of uninitialized value $_ in hash element at (eval 11) line 1.
Use of uninitialized value in concatenation (.) or string at (eval 11) line 1.
Use of bare << to mean <<"" is deprecated at (eval 21) line 1.
Possible unintended interpolation of @APTURE in string at (eval 26) line 1.
Bareword found where operator expected at (eval 39) line 1, near "0o12"
	(Missing operator before o12?)
Illegal hexadecimal digit ' ' ignored at (eval 41) line 1.
Use of uninitialized value $x in regexp compilation at (eval 97) line 1.
Use of uninitialized value $^LAST_SUCCESSFUL_PATTERN in regexp compilation at (eval 101) line 1.
Use of bare << to mean <<"" is deprecated at (eval 124) line 1.
"\B{" is deprecated; use "\B\{" instead in regex; marked by <-- HERE in m/O\ <-- HERE B{wb}'/ at (eval 126) line 1.
Having no space between pattern and following word is deprecated at (eval 129) line 1.
Bareword found where operator expected at (eval 129) line 1, near "/(.)/n"
	(Missing operator before n?)
Bareword found where operator expected at (eval 139) line 1, near "0xFFp"
	(Missing operator before p?)
"\b{" is deprecated; use "\b\{" instead in regex; marked by <-- HERE in m/\ <-- HERE b{lb}/ at (eval 162) line 1.
Invalid conversion in sprintf: "%.*2$" at (eval 165) line 1.
t/02-constructs.t .. ok
t/03-hooks.t ....... ok
Use of ?PATTERN? without explicit operator is deprecated at (eval 7) line 1.
Use of qw(...) as parentheses is deprecated at (eval 9) line 1.
Useless use of split in void context at (eval 11) line 1.
Array @arr missing the @ in argument 1 of push() at (eval 12) line 1.
t/04-extra.t ....... ok
t/05-functions.t ... ok
t/06-alias.t ....... ok
All tests successful.
Files=7, Tests=167,  0 wallclock secs ( 0.04 usr  0.00 sys +  0.33 cusr  0.07 csys =  0.44 CPU)
Result: PASS


PREREQUISITES:

Here is a list of prerequisites you specified and versions we
managed to load:

	  Module Name                        Have     Want
	  ExtUtils::MakeMaker                7.70        0
	  File::Spec                         3.75        0
	  FindBin                            1.50        0
	  POSIX                              1.24        0
	  Test::More                     1.302199        0
	  locale                             1.00        0

Perl module toolchain versions installed:
	Module Name                        Have
	CPANPLUS                         0.9914
	CPANPLUS::Dist::Build              0.90
	Cwd                                3.75
	ExtUtils::CBuilder             0.280236
	ExtUtils::Command                  7.70
	ExtUtils::Install                  2.22
	ExtUtils::MakeMaker                7.70
	ExtUtils::Manifest                 1.75
	ExtUtils::ParseXS                  3.51
	File::Spec                         3.75
	Module::Build                    0.4234
	Pod::Parser                        1.37
	Pod::Simple                        3.16
	Test2                          1.302199
	Test::Harness                      3.48
	Test::More                     1.302199
	version                          0.9932

******************************** NOTE ********************************
The comments above are created mechanically, possibly without manual
checking by the sender.  As there are many people performing automatic
tests on each upload to CPAN, it is likely that you will receive
identical messages about the same problem.

If you believe that the message is mistaken, please reply to the first
one with correction and/or additional informations, and do not take
it personally.  We appreciate your patience. :)
**********************************************************************

Additional comments:


This report was machine-generated by CPANPLUS::Dist::YACSmoke 1.08.
Powered by minismokebox version 0.68

CPANPLUS is prefering Build.PL

------------------------------
ENVIRONMENT AND OTHER CONTEXT
------------------------------

Environment variables:

    AUTOMATED_TESTING = 1
    LANG = C.UTF-8
    LC_COLLATE = C
    NONINTERACTIVE_TESTING = 1
    PATH = /home/cpan/pit/jail/lWc0RnhkTf/bin:/usr/local/sbin:/usr/local/bin:/usr/sbin:/usr/bin:/sbin:/bin
    PERL5LIB = /home/cpan/pit/jail/lWc0RnhkTf/lib/perl5:/home/cpan/pit/bare/conf/perl-5.14.3/.cpanplus/5.14.3/build/LZutks5tz6/Syntax-Construct-1.039/blib/lib:/home/cpan/pit/bare/conf/perl-5.14.3/.cpanplus/5.14.3/build/LZutks5tz6/Syntax-Construct-1.039/blib/arch
    PERL5_CPANPLUS_IS_RUNNING = 27556
    PERL5_CPANPLUS_IS_VERSION = 0.9914
    PERL5_MINISMOKEBOX = 0.68
    PERL5_YACSMOKE_BASE = /home/cpan/pit/bare/conf/perl-5.14.3
    PERL_EXTUTILS_AUTOINSTALL = --defaultdeps
    PERL_LOCAL_LIB_ROOT = /home/cpan/pit/jail/lWc0RnhkTf
    PERL_MB_OPT = --install_base "/home/cpan/pit/jail/lWc0RnhkTf"
    PERL_MM_OPT = INSTALL_BASE=/home/cpan/pit/jail/lWc0RnhkTf
    PERL_MM_USE_DEFAULT = 1
    SHELL = /bin/bash
    TERM = screen

Perl special variables (and OS-specific diagnostics, for MSWin32):

    Perl: $^X = /home/cpan/pit/bare/perl-5.14.3/bin/perl
    UID:  $<  = 1001
    EUID: $>  = 1001
    GID:  $(  = 1001 1001
    EGID: $)  = 1001 1001


-------------------------------


--

Summary of my perl5 (revision 5 version 14 subversion 3) configuration:
   
  Platform:
    osname=linux, osvers=5.10.16-0-lts, archname=x86_64-linux
    uname='linux agaric 5.10.16-0-lts #1-alpine smp wed, 17 feb 2021 08:17:06 utc x86_64 linux '
    config_args='-des -Dprefix=/home/cpan/pit/bare/perl-5.14.3'
    hint=recommended, useposix=true, d_sigaction=define
    useithreads=undef, usemultiplicity=undef
    useperlio=define, d_sfio=undef, uselargefiles=define, usesocks=undef
    use64bitint=define, use64bitall=define, uselongdouble=undef
    usemymalloc=n, bincompat5005=undef
  Compiler:
    cc='cc', ccflags ='-D_GNU_SOURCE -fwrapv -fno-strict-aliasing -pipe -fstack-protector -D_LARGEFILE_SOURCE -D_FILE_OFFSET_BITS=64',
    optimize='-O2',
    cppflags='-D_GNU_SOURCE -fwrapv -fno-strict-aliasing -pipe -fstack-protector'
    ccversion='', gccversion='10.2.1 20201203', gccosandvers=''
    intsize=4, longsize=8, ptrsize=8, doublesize=8, byteorder=12345678
    d_longlong=define, longlongsize=8, d_longdbl=define, longdblsize=16
    ivtype='long', ivsize=8, nvtype='double', nvsize=8, Off_t='off_t', lseeksize=8
    alignbytes=8, prototype=define
  Linker and Libraries:
    ld='cc', ldflags =' -fstack-protector -L/usr/local/lib'
    libpth=/usr/local/lib /lib/../lib /usr/lib/../lib /lib /usr/lib
    libs=-lgdbm -ldl -lm -lcrypt -lutil -lc -lgdbm_compat
    perllibs=-ldl -lm -lcrypt -lutil -lc
    libc=/usr/lib/libc.a, so=so, useshrplib=false, libperl=libperl.a
    gnulibc_version=''
  Dynamic Linking:
    dlsrc=dl_dlopen.xs, dlext=so, d_dlsymun=undef, ccdlflags='-Wl,-E'
    cccdlflags='-fPIC', lddlflags='-shared -O2 -L/usr/local/lib -fstack-protector'


Characteristics of this binary (from libperl): 
  Compile-time options: PERL_DONT_CREATE_GVSV PERL_MALLOC_WRAP
                        PERL_PRESERVE_IVUV USE_64_BIT_ALL USE_64_BIT_INT
                        USE_LARGE_FILES USE_PERLIO USE_PERL_ATOF
  Locally applied patches:
	Devel::PatchPerl 2.08
  Built under linux
  Compiled at Mar 11 2021 21:48:41
  %ENV:
    PERL5LIB="/home/cpan/pit/jail/lWc0RnhkTf/lib/perl5:/home/cpan/pit/bare/conf/perl-5.14.3/.cpanplus/5.14.3/build/LZutks5tz6/Syntax-Construct-1.039/blib/lib:/home/cpan/pit/bare/conf/perl-5.14.3/.cpanplus/5.14.3/build/LZutks5tz6/Syntax-Construct-1.039/blib/arch"
    PERL5_CPANPLUS_IS_RUNNING="27556"
    PERL5_CPANPLUS_IS_VERSION="0.9914"
    PERL5_MINISMOKEBOX="0.68"
    PERL5_YACSMOKE_BASE="/home/cpan/pit/bare/conf/perl-5.14.3"
    PERL_EXTUTILS_AUTOINSTALL="--defaultdeps"
    PERL_LOCAL_LIB_ROOT="/home/cpan/pit/jail/lWc0RnhkTf"
    PERL_MB_OPT="--install_base "/home/cpan/pit/jail/lWc0RnhkTf""
    PERL_MM_OPT="INSTALL_BASE=/home/cpan/pit/jail/lWc0RnhkTf"
    PERL_MM_USE_DEFAULT="1"
  @INC:
    /home/cpan/pit/jail/lWc0RnhkTf/lib/perl5/5.14.3/x86_64-linux
    /home/cpan/pit/jail/lWc0RnhkTf/lib/perl5/5.14.3
    /home/cpan/pit/jail/lWc0RnhkTf/lib/perl5/x86_64-linux
    /home/cpan/pit/jail/lWc0RnhkTf/lib/perl5
    /home/cpan/pit/bare/conf/perl-5.14.3/.cpanplus/5.14.3/build/LZutks5tz6/Syntax-Construct-1.039/blib/lib
    /home/cpan/pit/bare/conf/perl-5.14.3/.cpanplus/5.14.3/build/LZutks5tz6/Syntax-Construct-1.039/blib/arch
    /home/cpan/pit/bare/perl-5.14.3/lib/site_perl/5.14.3/x86_64-linux
    /home/cpan/pit/bare/perl-5.14.3/lib/site_perl/5.14.3
    /home/cpan/pit/bare/perl-5.14.3/lib/5.14.3/x86_64-linux
    /home/cpan/pit/bare/perl-5.14.3/lib/5.14.3
    .