Report for Path-IsDev-1.001003

Back
From: metabase:user:320bfe00-2aae-11df-837a-5e0a49663a4f
Subject: PASS Path-IsDev-1.001003 v5.25.11 GNU/Linux
Date: 2017-03-19T19:02:49Z

This distribution has been tested as part of the CPAN Testers
project, supporting the Perl programming language.  See
http://wiki.cpantesters.org/ for more information or email
questions to cpan-testers-discuss@perl.org


--
Dear Kent Fredric,

This is a computer-generated report for Path-IsDev-1.001003
on perl 5.25.11, created by CPAN-Reporter-1.2018.

Thank you for uploading your work to CPAN.  Congratulations!
All tests were successful.

Sections of this report:

    * Tester comments
    * Program output
    * Prerequisites
    * Environment and other context

------------------------------
TESTER COMMENTS
------------------------------

Additional comments from tester:

this report is from an automated smoke testing program
and was not reviewed by a human for accuracy

------------------------------
PROGRAM OUTPUT
------------------------------

Output from '/usr/bin/make test':

PERL_DL_NONLAZY=1 "/tmp/basesmoker-reloperl-80nx/bin/perl" "-MExtUtils::Command::MM" "-MTest::Harness" "-e" "undef *Test::Harness::Switches; test_harness(0, 'blib/lib', 'blib/arch')" t/*.t t/00-compile/*.t t/Path-IsDev-Object/*.t t/Path-IsDev/is_dev/*.t
t/00-compile/lib_Path_IsDev_Heuristic_Changelog_pm.t ........................... ok
t/00-compile/lib_Path_IsDev_Heuristic_DevDirMarker_pm.t ........................ ok
t/00-compile/lib_Path_IsDev_Heuristic_Makefile_pm.t ............................ ok
t/00-compile/lib_Path_IsDev_Heuristic_META_pm.t ................................ ok
t/00-compile/lib_Path_IsDev_Heuristic_MYMETA_pm.t .............................. ok
t/00-compile/lib_Path_IsDev_Heuristic_TestDir_pm.t ............................. ok
t/00-compile/lib_Path_IsDev_Heuristic_Tool_Dzil_pm.t ........................... ok
t/00-compile/lib_Path_IsDev_Heuristic_Tool_MakeMaker_pm.t ...................... ok
t/00-compile/lib_Path_IsDev_Heuristic_Tool_ModuleBuild_pm.t .................... ok
t/00-compile/lib_Path_IsDev_Heuristic_VCS_Git_pm.t ............................. ok
t/00-compile/lib_Path_IsDev_HeuristicSet_Basic_pm.t ............................ ok
t/00-compile/lib_Path_IsDev_NegativeHeuristic_HomeDir_pm.t ..................... ok
t/00-compile/lib_Path_IsDev_NegativeHeuristic_IsDev_IgnoreFile_pm.t ............ ok
t/00-compile/lib_Path_IsDev_NegativeHeuristic_PerlINC_pm.t ..................... ok
t/00-compile/lib_Path_IsDev_Object_pm.t ........................................ ok
t/00-compile/lib_Path_IsDev_pm.t ............................................... ok
t/00-compile/lib_Path_IsDev_Result_pm.t ........................................ ok
t/00-compile/lib_Path_IsDev_Role_Heuristic_pm.t ................................ ok
t/00-compile/lib_Path_IsDev_Role_HeuristicSet_pm.t ............................. ok
t/00-compile/lib_Path_IsDev_Role_HeuristicSet_Simple_pm.t ...................... ok
t/00-compile/lib_Path_IsDev_Role_Matcher_Child_BaseName_MatchRegexp_File_pm.t .. ok
t/00-compile/lib_Path_IsDev_Role_Matcher_Child_BaseName_MatchRegexp_pm.t ....... ok
t/00-compile/lib_Path_IsDev_Role_Matcher_Child_Exists_Any_Dir_pm.t ............. ok
t/00-compile/lib_Path_IsDev_Role_Matcher_Child_Exists_Any_File_pm.t ............ ok
t/00-compile/lib_Path_IsDev_Role_Matcher_Child_Exists_Any_pm.t ................. ok
t/00-compile/lib_Path_IsDev_Role_Matcher_FullPath_Is_Any_pm.t .................. ok
t/00-compile/lib_Path_IsDev_Role_NegativeHeuristic_pm.t ........................ ok
# 
# Versions for all modules listed in MYMETA.json (including optional ones):
# 
# === Configure Requires ===
# 
#     Module              Want Have
#     ------------------- ---- ----
#     ExtUtils::MakeMaker  any 7.24
# 
# === Configure Recommends ===
# 
#     Module              Want Have
#     ------------------- ---- ----
#     ExtUtils::MakeMaker 7.00 7.24
# 
# === Build Requires ===
# 
#     Module              Want Have
#     ------------------- ---- ----
#     ExtUtils::MakeMaker  any 7.24
# 
# === Test Requires ===
# 
#     Module              Want     Have
#     ------------------- ---- --------
#     ExtUtils::MakeMaker  any     7.24
#     File::Spec           any     3.67
#     File::Temp           any   0.2304
#     FindBin              any     1.51
#     Test::Fatal          any    0.014
#     Test::More           any 1.302078
# 
# === Test Recommends ===
# 
#     Module                  Want     Have
#     ------------------- -------- --------
#     CPAN::Meta          2.120900 2.150010
#     ExtUtils::MakeMaker     7.00     7.24
#     Test::More              0.99 1.302078
# 
# === Runtime Requires ===
# 
#     Module            Want     Have
#     ---------------- ----- --------
#     Carp               any     1.42
#     Class::Tiny      0.010    1.006
#     File::HomeDir      any     1.00
#     Module::Runtime    any    0.014
#     Path::Tiny       0.004    0.104
#     Role::Tiny         any 2.000005
#     Role::Tiny::With   any 2.000005
#     Scalar::Util       any     1.47
#     Sub::Exporter      any    0.987
#     strict             any     1.11
#     utf8               any     1.19
#     warnings           any     1.37
# 
# === Runtime Recommends ===
# 
#     Module      Want  Have
#     ---------- ----- -----
#     Path::Tiny 0.058 0.104
# 
t/00-report-prereqs.t .......................................................... ok
t/basic.t ...................................................................... ok
t/Path-IsDev-Object/_matches.t ................................................. ok
# $path_isdev_source = /tmp/loop_over_bdir-20461-66pOxu/Path-IsDev-1.001003-0
# $corpus_Changes_dir = /tmp/loop_over_bdir-20461-66pOxu/Path-IsDev-1.001003-0/corpus/Changelog
# $corpus_Changes_dir/../ = /tmp/loop_over_bdir-20461-66pOxu/Path-IsDev-1.001003-0/corpus
t/Path-IsDev-Object/basic.t .................................................... ok
t/Path-IsDev/is_dev/Changelog.t ................................................ ok
t/Path-IsDev/is_dev/DevDir.t ................................................... ok
t/Path-IsDev/is_dev/DZil.t ..................................................... ok
t/Path-IsDev/is_dev/MakeMaker.t ................................................ ok
t/Path-IsDev/is_dev/META.t ..................................................... ok
t/Path-IsDev/is_dev/ModuleBuild.t .............................................. ok
t/Path-IsDev/is_dev/MYMETA.t ................................................... ok
t/Path-IsDev/is_dev/TestDir.t .................................................. ok
All tests successful.
Files=39, Tests=111,  3 wallclock secs ( 0.12 usr  0.19 sys +  1.37 cusr  0.63 csys =  2.31 CPU)
Result: PASS

------------------------------
PREREQUISITES
------------------------------

Prerequisite modules loaded:

requires:

    Module              Need  Have    
    ------------------- ----- --------
    Carp                0     1.42    
    Class::Tiny         0.010 1.006   
    File::HomeDir       0     1.00    
    Module::Runtime     0     0.014   
    Path::Tiny          0.004 0.104   
    perl                5.008 5.025011
    Role::Tiny          0     2.000005
    Role::Tiny::With    0     2.000005
    Scalar::Util        0     1.47    
    strict              0     1.11    
    Sub::Exporter       0     0.987   
    utf8                0     1.19    
    warnings            0     1.37    

build_requires:

    Module              Need  Have    
    ------------------- ----- --------
    ExtUtils::MakeMaker 0     7.24    
    File::Spec          0     3.67    
    File::Temp          0     0.2304  
    FindBin             0     1.51    
    Test::Fatal         0     0.014   
    Test::More          0     1.302078

configure_requires:

    Module              Need  Have    
    ------------------- ----- --------
    ExtUtils::MakeMaker 0     7.24    
    perl                5.008 5.025011


------------------------------
ENVIRONMENT AND OTHER CONTEXT
------------------------------

Environment variables:

    AUTOMATED_TESTING = 1
    LANG = en_US.UTF-8
    PATH = /home/sand/bin:/usr/local/bin:/usr/bin:/bin:/usr/games:/usr/local/perl/bin:/usr/X11/bin:/sbin:/usr/sbin
    PERL5LIB = /tmp/loop_over_bdir-20461-66pOxu/Hash-FieldHash-0.15-0/blib/arch:/tmp/loop_over_bdir-20461-66pOxu/Hash-FieldHash-0.15-0/blib/lib:/tmp/loop_over_bdir-20461-66pOxu/DBIx-QueryLog-0.41-0/blib/arch:/tmp/loop_over_bdir-20461-66pOxu/DBIx-QueryLog-0.41-0/blib/lib:/tmp/loop_over_bdir-20461-66pOxu/Mouse-v2.4.9-0/blib/arch:/tmp/loop_over_bdir-20461-66pOxu/Mouse-v2.4.9-0/blib/lib:/tmp/loop_over_bdir-20461-66pOxu/libintl-perl-1.26-0/blib/arch:/tmp/loop_over_bdir-20461-66pOxu/libintl-perl-1.26-0/blib/lib:/tmp/loop_over_bdir-20461-66pOxu/HTML-Tree-5.03-0/blib/arch:/tmp/loop_over_bdir-20461-66pOxu/HTML-Tree-5.03-0/blib/lib
    PERL5OPT = 
    PERL5_CPANPLUS_IS_RUNNING = 2552
    PERL5_CPAN_IS_RUNNING = 2552
    PERL_CANARY_STABILITY_NOPROMPT = 1
    PERL_MM_USE_DEFAULT = 1
    PERL_USE_UNSAFE_INC = 1
    SHELL = /usr/bin/zsh
    TERM = screen

Perl special variables (and OS-specific diagnostics, for MSWin32):

    $^X = /tmp/basesmoker-reloperl-80nx/bin/perl
    $UID/$EUID = 1005 / 1005
    $GID = 1005 1005
    $EGID = 1005 1005

Perl module toolchain versions installed:

    Module              Have      
    ------------------- ----------
    CPAN                2.17      
    CPAN::Meta          2.150010  
    Cwd                 3.67      
    ExtUtils::CBuilder  0.280225  
    ExtUtils::Command   7.24      
    ExtUtils::Install   2.04      
    ExtUtils::MakeMaker 7.24      
    ExtUtils::Manifest  1.70      
    ExtUtils::ParseXS   3.34      
    File::Spec          3.67      
    JSON                2.90      
    JSON::PP            2.27400_02
    Module::Build       0.4220    
    Module::Signature   0.81      
    Parse::CPAN::Meta   2.150010  
    Test::Harness       3.38      
    Test::More          1.302078  
    YAML                1.23      
    YAML::Syck          1.29      
    version             0.9917    


--

Summary of my perl5 (revision 5 version 25 subversion 11) configuration:
  Commit id: 6aff4bf3cdbe7898ab6d2fb6c691e278cfd5e80f
  Platform:
    osname=linux
    osvers=4.9.0-2-amd64
    archname=x86_64-linux-thread-multi-ld
    uname='linux k93msid 4.9.0-2-amd64 #1 smp debian 4.9.13-1 (2017-02-27) x86_64 gnulinux '
    config_args='-Dprefix=/home/sand/src/perl/repoperls/installed-perls/host/k93msid/v5.25.10-84-g6aff4bf3cd/ac75 -Dmyhostname=k93msid -Dinstallusrbinperl=n -Uversiononly -Dusedevel -des -Ui_db -Dlibswanted=cl pthread socket inet nsl gdbm dbm malloc dl ld sun m crypt sec util c cposix posix ucb BSD gdbm_compat -Duseithreads -Duselongdouble -DEBUGGING=both'
    hint=recommended
    useposix=true
    d_sigaction=define
    useithreads=define
    usemultiplicity=define
    use64bitint=define
    use64bitall=define
    uselongdouble=define
    usemymalloc=n
    default_inc_excludes_dot=define
    bincompat5005=undef
  Compiler:
    cc='cc'
    ccflags ='-D_REENTRANT -D_GNU_SOURCE -fwrapv -DDEBUGGING -fno-strict-aliasing -pipe -fstack-protector-strong -I/usr/local/include -D_LARGEFILE_SOURCE -D_FILE_OFFSET_BITS=64'
    optimize='-O2 -g'
    cppflags='-D_REENTRANT -D_GNU_SOURCE -fwrapv -DDEBUGGING -fno-strict-aliasing -pipe -fstack-protector-strong -I/usr/local/include'
    ccversion=''
    gccversion='6.3.0 20170316'
    gccosandvers=''
    intsize=4
    longsize=8
    ptrsize=8
    doublesize=8
    byteorder=12345678
    doublekind=3
    d_longlong=define
    longlongsize=8
    d_longdbl=define
    longdblsize=16
    longdblkind=3
    ivtype='long'
    ivsize=8
    nvtype='long double'
    nvsize=16
    Off_t='off_t'
    lseeksize=8
    alignbytes=16
    prototype=define
  Linker and Libraries:
    ld='cc'
    ldflags =' -fstack-protector-strong -L/usr/local/lib'
    libpth=/usr/local/lib /usr/lib/gcc/x86_64-linux-gnu/6/include-fixed /usr/include/x86_64-linux-gnu /usr/lib /lib/x86_64-linux-gnu /lib/../lib /usr/lib/x86_64-linux-gnu /usr/lib/../lib /lib
    libs=-lpthread -lnsl -ldl -lm -lcrypt -lutil -lc
    perllibs=-lpthread -lnsl -ldl -lm -lcrypt -lutil -lc
    libc=libc-2.24.so
    so=so
    useshrplib=false
    libperl=libperl.a
    gnulibc_version='2.24'
  Dynamic Linking:
    dlsrc=dl_dlopen.xs
    dlext=so
    d_dlsymun=undef
    ccdlflags='-Wl,-E'
    cccdlflags='-fPIC'
    lddlflags='-shared -O2 -g -L/usr/local/lib -fstack-protector-strong'


Characteristics of this binary (from libperl): 
  Compile-time options:
    DEBUGGING
    HAS_TIMES
    MULTIPLICITY
    PERLIO_LAYERS
    PERL_COPY_ON_WRITE
    PERL_DONT_CREATE_GVSV
    PERL_IMPLICIT_CONTEXT
    PERL_MALLOC_WRAP
    PERL_OP_PARENT
    PERL_PRESERVE_IVUV
    PERL_TRACK_MEMPOOL
    PERL_USE_DEVEL
    USE_64_BIT_ALL
    USE_64_BIT_INT
    USE_ITHREADS
    USE_LARGE_FILES
    USE_LOCALE
    USE_LOCALE_COLLATE
    USE_LOCALE_CTYPE
    USE_LOCALE_NUMERIC
    USE_LOCALE_TIME
    USE_LONG_DOUBLE
    USE_PERLIO
    USE_PERL_ATOF
    USE_REENTRANT_API
  Built under linux
  Compiled at Mar 18 2017 11:59:50
  %ENV:
    PERL5LIB="/tmp/loop_over_bdir-20461-66pOxu/Hash-FieldHash-0.15-0/blib/arch:/tmp/loop_over_bdir-20461-66pOxu/Hash-FieldHash-0.15-0/blib/lib:/tmp/loop_over_bdir-20461-66pOxu/DBIx-QueryLog-0.41-0/blib/arch:/tmp/loop_over_bdir-20461-66pOxu/DBIx-QueryLog-0.41-0/blib/lib:/tmp/loop_over_bdir-20461-66pOxu/Mouse-v2.4.9-0/blib/arch:/tmp/loop_over_bdir-20461-66pOxu/Mouse-v2.4.9-0/blib/lib:/tmp/loop_over_bdir-20461-66pOxu/libintl-perl-1.26-0/blib/arch:/tmp/loop_over_bdir-20461-66pOxu/libintl-perl-1.26-0/blib/lib:/tmp/loop_over_bdir-20461-66pOxu/HTML-Tree-5.03-0/blib/arch:/tmp/loop_over_bdir-20461-66pOxu/HTML-Tree-5.03-0/blib/lib"
    PERL5OPT=""
    PERL5_CPANPLUS_IS_RUNNING="2552"
    PERL5_CPAN_IS_RUNNING="2552"
    PERL_CANARY_STABILITY_NOPROMPT="1"
    PERL_MM_USE_DEFAULT="1"
    PERL_USE_UNSAFE_INC="1"
  @INC:
    /tmp/loop_over_bdir-20461-66pOxu/Hash-FieldHash-0.15-0/blib/arch
    /tmp/loop_over_bdir-20461-66pOxu/Hash-FieldHash-0.15-0/blib/lib
    /tmp/loop_over_bdir-20461-66pOxu/DBIx-QueryLog-0.41-0/blib/arch
    /tmp/loop_over_bdir-20461-66pOxu/DBIx-QueryLog-0.41-0/blib/lib
    /tmp/loop_over_bdir-20461-66pOxu/Mouse-v2.4.9-0/blib/arch
    /tmp/loop_over_bdir-20461-66pOxu/Mouse-v2.4.9-0/blib/lib
    /tmp/loop_over_bdir-20461-66pOxu/libintl-perl-1.26-0/blib/arch
    /tmp/loop_over_bdir-20461-66pOxu/libintl-perl-1.26-0/blib/lib
    /tmp/loop_over_bdir-20461-66pOxu/HTML-Tree-5.03-0/blib/arch
    /tmp/loop_over_bdir-20461-66pOxu/HTML-Tree-5.03-0/blib/lib
    /home/sand/src/perl/repoperls/installed-perls/host/k93msid/v5.25.10-84-g6aff4bf3cd/ac75/lib/site_perl/5.25.11/x86_64-linux-thread-multi-ld
    /home/sand/src/perl/repoperls/installed-perls/host/k93msid/v5.25.10-84-g6aff4bf3cd/ac75/lib/site_perl/5.25.11
    /home/sand/src/perl/repoperls/installed-perls/host/k93msid/v5.25.10-84-g6aff4bf3cd/ac75/lib/5.25.11/x86_64-linux-thread-multi-ld
    /home/sand/src/perl/repoperls/installed-perls/host/k93msid/v5.25.10-84-g6aff4bf3cd/ac75/lib/5.25.11
    .