Config-Perl-V v0.38 Perl 5 v5.40.3 darwin-2level

Status
Pass
From
Philip Sharman
Dist
Config-Perl-V v0.38
Platform
Perl 5 v5.40.3 darwin-2level
Date
2025-09-27 20:00:41
ID
a515de4c-9bdc-11f0-b39c-b425065d348c
This distribution has been tested as part of the CPAN Testers
project, supporting the Perl programming language.  See
http://wiki.cpantesters.org/ for more information or email
questions to cpan-testers-discuss@perl.org


--
Dear H.Merijn Brand,

This is a computer-generated report for Config-Perl-V-0.38
on perl 5.40.3, created by CPAN-Reporter-1.2020.

Thank you for uploading your work to CPAN.  Congratulations!
All tests were successful.

Sections of this report:

    * Tester comments
    * Program output
    * Prerequisites
    * Environment and other context

------------------------------
TESTER COMMENTS
------------------------------

Additional comments from tester:

none provided

------------------------------
PROGRAM OUTPUT
------------------------------

Output from '/usr/bin/make test':

PERL_DL_NONLAZY=1 "/Users/philip/perl5/perlbrew/perls/perl-5.40.0/bin/perl" "-MExtUtils::Command::MM" "-MTest::Harness" "-e" "undef *Test::Harness::Switches; test_harness(0, 'blib/lib', 'blib/arch')" t/*.t
t/10_base.t ........... ok
t/20_plv56.t .......... ok
t/21_plv58.t .......... ok
t/22_plv510.t ......... ok
t/23_plv512.t ......... ok
t/24_plv514.t ......... ok
t/25_plv516.t ......... ok
t/25_plv5162.t ........ ok
t/26_plv518.t ......... ok
t/26_plv5182.t ........ ok
t/27_plv5200.t ........ ok
t/27_plv5202.t ........ ok
t/28_plv5220.t ........ ok
t/28_plv52201w.t ...... ok
t/29_plv5235w.t ....... ok
t/30_plv5240.t ........ ok
t/31_plv52511.t ....... ok
t/32_plv5261rc1.t ..... ok
t/33_plv52711r.t ...... ok
t/34_plv5280.t ........ ok
t/35_plv52910g.t ...... ok
t/36_plv5300.t ........ ok
t/37_plv53111qm.t ..... ok
t/38_plv5320tld.t ..... ok
t/39_plv5340tqm.t ..... ok
t/40_plv5358dnqm.t .... ok
t/41_plv5360dnqm.t .... ok
t/42_plv5373tld.t ..... ok
t/43_plv53710rcs.t .... ok
t/44_plv5380tqm.t ..... ok
t/45_plv5400tqm.t ..... ok
t/46_plv5411tqmrcs.t .. ok
All tests successful.
Files=32, Tests=4099,  4 wallclock secs ( 0.32 usr  0.10 sys +  2.68 cusr  0.56 csys =  3.66 CPU)
Result: PASS

------------------------------
PREREQUISITES
------------------------------

Prerequisite modules loaded:

requires:

    Module              Need Have    
    ------------------- ---- --------
    Config              0    5.040003

build_requires:

    Module              Need Have    
    ------------------- ---- --------
    ExtUtils::MakeMaker 0    7.70    
    Test::More          0    1.302199
    Test::NoWarnings    0    1.06    

configure_requires:

    Module              Need Have    
    ------------------- ---- --------
    ExtUtils::MakeMaker 0    7.70    


------------------------------
ENVIRONMENT AND OTHER CONTEXT
------------------------------

Environment variables:

    LANG = en_CA.UTF-8
    NONINTERACTIVE_TESTING = 1
    PATH = /Users/philip/perl5/perlbrew/bin:/Users/philip/perl5/perlbrew/perls/perl-5.40.0/bin:/opt/local/bin:/opt/local/sbin:/usr/local/opt/ruby/bin:/usr/local/sbin:/usr/local/bin:/usr/bin:/bin:/usr/sbin:/sbin:/Applications/VMware Fusion.app/Contents/Public:/Applications/Little Snitch.app/Contents/Components:/opt/X11/bin:/Library/Apple/usr/bin:/Users/philip/.local/bin
    PERL5LIB = 
    PERL5OPT = 
    PERL5_CPANPLUS_IS_RUNNING = 34671
    PERL5_CPAN_IS_RUNNING = 34671
    PERLBREW_HOME = /Users/philip/.perlbrew
    PERLBREW_MANPATH = /Users/philip/perl5/perlbrew/perls/perl-5.40.0/man
    PERLBREW_PATH = /Users/philip/perl5/perlbrew/bin:/Users/philip/perl5/perlbrew/perls/perl-5.40.0/bin
    PERLBREW_PERL = perl-5.40.0
    PERLBREW_ROOT = /Users/philip/perl5/perlbrew
    PERLBREW_SHELLRC_VERSION = 0.95
    PERLBREW_VERSION = 0.95
    PERL_MM_USE_DEFAULT = 1
    PERL_USE_UNSAFE_INC = 1
    SHELL = /usr/local/bin/bash
    TERM = xterm-256color
    TMPDIR = /var/folders/06/jdftkz7977sgdq6w4087fn4c0000gn/T/

Perl special variables (and OS-specific diagnostics, for MSWin32):

    $^X = /Users/philip/perl5/perlbrew/perls/perl-5.40.0/bin/perl
    $UID/$EUID = 501 / 501
    $GID = 20 20 12 61 79 80 81 98 701 33 100 204 250 395 398 399 400
    $EGID = 20 20 12 61 79 80 81 98 701 33 100 204 250 395 398 399 400

Perl module toolchain versions installed:

    Module              Have    
    ------------------- --------
    CPAN                2.38    
    CPAN::Meta          2.150010
    Cwd                 3.91    
    ExtUtils::CBuilder  0.280240
    ExtUtils::Command   7.70    
    ExtUtils::Install   2.22    
    ExtUtils::MakeMaker 7.70    
    ExtUtils::Manifest  1.75    
    ExtUtils::ParseXS   3.51    
    File::Spec          3.91    
    JSON                4.10    
    JSON::PP            4.16    
    Module::Build       0.4234  
    Module::Signature   n/a     
    Parse::CPAN::Meta   2.150010
    Test2               1.302199
    Test::Harness       3.48    
    Test::More          1.302199
    YAML                1.31    
    YAML::Syck          n/a     
    version             0.9930  


--

Summary of my perl5 (revision 5 version 40 subversion 3) configuration:
   
  Platform:
    osname=darwin
    osvers=20.6.0
    archname=darwin-2level
    uname='darwin imac3.local 20.6.0 darwin kernel version 20.6.0: thu jul 6 22:12:47 pdt 2023; root:xnu-7195.141.49.702.12~1release_x86_64 x86_64 '
    config_args='-de -Dprefix=/Users/philip/perl5/perlbrew/perls/perl-5.40.0 -Aeval:scriptdir=/Users/philip/perl5/perlbrew/perls/perl-5.40.0/bin'
    hint=recommended
    useposix=true
    d_sigaction=define
    useithreads=undef
    usemultiplicity=undef
    use64bitint=define
    use64bitall=define
    uselongdouble=undef
    usemymalloc=n
    default_inc_excludes_dot=define
  Compiler:
    cc='cc'
    ccflags ='-fno-common -DPERL_DARWIN -mmacosx-version-min=11.7 -DNO_THREAD_SAFE_QUERYLOCALE -DNO_POSIX_2008_LOCALE -fno-strict-aliasing -pipe -fstack-protector-strong -I/usr/local/include -I/opt/local/include'
    optimize='-O3'
    cppflags='-fno-common -DPERL_DARWIN -mmacosx-version-min=11.7 -DNO_THREAD_SAFE_QUERYLOCALE -DNO_POSIX_2008_LOCALE -fno-strict-aliasing -pipe -fstack-protector-strong -I/usr/local/include -I/opt/local/include'
    ccversion=''
    gccversion='Apple LLVM 13.0.0 (clang-1300.0.29.30)'
    gccosandvers=''
    intsize=4
    longsize=8
    ptrsize=8
    doublesize=8
    byteorder=12345678
    doublekind=3
    d_longlong=define
    longlongsize=8
    d_longdbl=define
    longdblsize=16
    longdblkind=3
    ivtype='long'
    ivsize=8
    nvtype='double'
    nvsize=8
    Off_t='off_t'
    lseeksize=8
    alignbytes=8
    prototype=define
  Linker and Libraries:
    ld='cc'
    ldflags =' -mmacosx-version-min=11.7 -fstack-protector-strong -L/usr/local/lib -L/opt/local/lib'
    libpth=/usr/local/lib /Applications/Xcode.app/Contents/Developer/Toolchains/XcodeDefault.xctoolchain/usr/lib/clang/13.0.0/lib /Applications/Xcode.app/Contents/Developer/Platforms/MacOSX.platform/Developer/SDKs/MacOSX.sdk/usr/lib /Applications/Xcode.app/Contents/Developer/Toolchains/XcodeDefault.xctoolchain/usr/lib /opt/local/lib /usr/lib
    libs=-lgdbm
    perllibs=
    libc=
    so=dylib
    useshrplib=false
    libperl=libperl.a
    gnulibc_version=''
  Dynamic Linking:
    dlsrc=dl_dlopen.xs
    dlext=bundle
    d_dlsymun=undef
    ccdlflags=' '
    cccdlflags=' '
    lddlflags=' -mmacosx-version-min=11.7 -bundle -undefined dynamic_lookup -L/usr/local/lib -L/opt/local/lib -fstack-protector-strong'


Characteristics of this binary (from libperl): 
  Compile-time options:
    HAS_LONG_DOUBLE
    HAS_STRTOLD
    HAS_TIMES
    PERLIO_LAYERS
    PERL_COPY_ON_WRITE
    PERL_DONT_CREATE_GVSV
    PERL_HASH_FUNC_SIPHASH13
    PERL_HASH_USE_SBOX32
    PERL_MALLOC_WRAP
    PERL_OP_PARENT
    PERL_PRESERVE_IVUV
    PERL_USE_SAFE_PUTENV
    USE_64_BIT_ALL
    USE_64_BIT_INT
    USE_LARGE_FILES
    USE_LOCALE
    USE_LOCALE_COLLATE
    USE_LOCALE_CTYPE
    USE_LOCALE_NUMERIC
    USE_LOCALE_TIME
    USE_PERLIO
    USE_PERL_ATOF
  Built under darwin
  Compiled at Sep 18 2025 15:20:26
  %ENV:
    PERL5LIB=""
    PERL5OPT=""
    PERL5_CPANPLUS_IS_RUNNING="34671"
    PERL5_CPAN_IS_RUNNING="34671"
    PERLBREW_HOME="/Users/philip/.perlbrew"
    PERLBREW_MANPATH="/Users/philip/perl5/perlbrew/perls/perl-5.40.0/man"
    PERLBREW_PATH="/Users/philip/perl5/perlbrew/bin:/Users/philip/perl5/perlbrew/perls/perl-5.40.0/bin"
    PERLBREW_PERL="perl-5.40.0"
    PERLBREW_ROOT="/Users/philip/perl5/perlbrew"
    PERLBREW_SHELLRC_VERSION="0.95"
    PERLBREW_VERSION="0.95"
    PERL_MM_USE_DEFAULT="1"
    PERL_USE_UNSAFE_INC="1"
  @INC:
    /Users/philip/perl5/perlbrew/perls/perl-5.40.0/lib/site_perl/5.40.3/darwin-2level
    /Users/philip/perl5/perlbrew/perls/perl-5.40.0/lib/site_perl/5.40.3
    /Users/philip/perl5/perlbrew/perls/perl-5.40.0/lib/5.40.3/darwin-2level
    /Users/philip/perl5/perlbrew/perls/perl-5.40.0/lib/5.40.3
    /Users/philip/perl5/perlbrew/perls/perl-5.40.0/lib/site_perl/5.40.0/darwin-2level
    /Users/philip/perl5/perlbrew/perls/perl-5.40.0/lib/site_perl/5.40.0
    /Users/philip/perl5/perlbrew/perls/perl-5.40.0/lib/site_perl
    .