MaxMind-DB-Reader v1.000014 Perl 5 v5.35.3 x86_64-linux-ld

Status
Pass
From
Andreas J. König (ANDK)
Dist
MaxMind-DB-Reader v1.000014
Platform
Perl 5 v5.35.3 x86_64-linux-ld
Date
2021-08-18 08:16:53
ID
a50f41b6-fffc-11eb-9637-3e744ff1a801
This distribution has been tested as part of the CPAN Testers
project, supporting the Perl programming language.  See
http://wiki.cpantesters.org/ for more information or email
questions to cpan-testers-discuss@perl.org


--
Dear MaxMind, Inc.,

This is a computer-generated report for MaxMind-DB-Reader-1.000014
on perl 5.35.3, created by CPAN-Reporter-1.2018.

Thank you for uploading your work to CPAN.  Congratulations!
All tests were successful.

Sections of this report:

    * Tester comments
    * Program output
    * Prerequisites
    * Environment and other context

------------------------------
TESTER COMMENTS
------------------------------

Additional comments from tester:

this report is from an automated smoke testing program
and was not reviewed by a human for accuracy

------------------------------
PROGRAM OUTPUT
------------------------------

Output from '/usr/bin/make test':

PERL_DL_NONLAZY=1 "/tmp/basesmoker-reloperl-hx5L/bin/perl" "-MExtUtils::Command::MM" "-MTest::Harness" "-e" "undef *Test::Harness::Switches; test_harness(0, 'blib/lib', 'blib/arch')" t/*.t t/MaxMind/DB/*.t t/MaxMind/DB/Reader/*.t t/MaxMind/DB/Reader/Decoder-types/*.t
# 
# Versions for all modules listed in MYMETA.json (including optional ones):
# 
# === Configure Requires ===
# 
#     Module              Want Have
#     ------------------- ---- ----
#     ExtUtils::MakeMaker  any 7.62
# 
# === Build Requires ===
# 
#     Module              Want Have
#     ------------------- ---- ----
#     ExtUtils::MakeMaker  any 7.62
# 
# === Test Requires ===
# 
#     Module                          Want     Have
#     ------------------------------- ---- --------
#     Exporter                         any     5.76
#     ExtUtils::MakeMaker              any     7.62
#     File::Spec                       any     3.81
#     Path::Class                     0.27     0.37
#     Scalar::Util                    1.42     1.56
#     Test::Bits                       any     0.02
#     Test::Fatal                      any    0.016
#     Test::MaxMind::DB::Common::Data  any 0.040001
#     Test::MaxMind::DB::Common::Util  any 0.040001
#     Test::More                      0.96 1.302186
#     Test::Number::Delta              any     1.06
#     Test::Requires                   any     0.11
#     lib                              any     0.65
#     utf8                             any     1.24
# 
# === Test Recommends ===
# 
#     Module         Want     Have
#     ---------- -------- --------
#     CPAN::Meta 2.120900 2.150010
# 
# === Runtime Requires ===
# 
#     Module                        Want     Have
#     ------------------------- -------- --------
#     Carp                           any     1.52
#     Data::IEEE754                  any     0.02
#     Data::Printer                  any 1.000004
#     Data::Validate::IP            0.25     0.30
#     DateTime                       any     1.54
#     Encode                         any     3.12
#     Getopt::Long                   any     2.52
#     List::AllUtils                 any     0.19
#     Math::BigInt                   any 1.999823
#     MaxMind::DB::Common       0.040001 0.040001
#     MaxMind::DB::Metadata          any 0.040001
#     MaxMind::DB::Role::Debugs      any 0.040001
#     MaxMind::DB::Types             any 0.040001
#     Module::Implementation         any     0.09
#     Moo                       1.003000 2.005004
#     Moo::Role                      any 2.005004
#     MooX::StrictConstructor        any    0.011
#     Role::Tiny                1.003002 2.002004
#     Socket                        1.87    2.032
#     autodie                        any     2.34
#     bytes                          any     1.08
#     constant                       any     1.33
#     namespace::autoclean           any     0.29
#     strict                         any     1.12
#     warnings                       any     1.53
# 
# === Runtime Suggests ===
# 
#     Module                      Want    Have
#     ----------------------- -------- -------
#     MaxMind::DB::Reader::XS 1.000003 missing
# 
t/00-report-prereqs.t ............................. ok
t/MaxMind/DB/Reader-broken-databases.t ............ ok
t/MaxMind/DB/Reader-decoder.t ..................... skipped: Test requires module 'Math::Int128' but it's not found
t/MaxMind/DB/Reader-no-ipv4-search-tree.t ......... ok
t/MaxMind/DB/Reader.t ............................. ok
t/MaxMind/DB/Reader/Decoder-maps-with-pointers.t .. ok
t/MaxMind/DB/Reader/Decoder-types/array.t ......... ok
t/MaxMind/DB/Reader/Decoder-types/boolean.t ....... ok
t/MaxMind/DB/Reader/Decoder-types/bytes.t ......... ok
t/MaxMind/DB/Reader/Decoder-types/container.t ..... ok
t/MaxMind/DB/Reader/Decoder-types/double.t ........ ok
t/MaxMind/DB/Reader/Decoder-types/end_marker.t .... ok
t/MaxMind/DB/Reader/Decoder-types/float.t ......... ok
t/MaxMind/DB/Reader/Decoder-types/int32.t ......... ok
t/MaxMind/DB/Reader/Decoder-types/map.t ........... ok
t/MaxMind/DB/Reader/Decoder-types/pointer.t ....... ok
t/MaxMind/DB/Reader/Decoder-types/uint128.t ....... ok
t/MaxMind/DB/Reader/Decoder-types/uint16.t ........ ok
t/MaxMind/DB/Reader/Decoder-types/uint32.t ........ ok
t/MaxMind/DB/Reader/Decoder-types/uint64.t ........ ok
t/MaxMind/DB/Reader/Decoder-types/utf8_string.t ... ok
t/MaxMind/DB/Reader/Decoder.t ..................... ok
t/MaxMind/DB/Reader/NoMoose.t ..................... ok
All tests successful.
Files=23, Tests=459,  3 wallclock secs ( 0.08 usr  0.05 sys +  3.07 cusr  0.64 csys =  3.84 CPU)
Result: PASS

------------------------------
PREREQUISITES
------------------------------

Prerequisite modules loaded:

requires:

    Module                          Need     Have    
    ------------------------------- -------- --------
    autodie                         0        2.34    
    bytes                           0        1.08    
    Carp                            0        1.52    
    constant                        0        1.33    
    Data::IEEE754                   0        0.02    
    Data::Printer                   0        1.000004
    Data::Validate::IP              0.25     0.30    
    DateTime                        0        1.54    
    Encode                          0        3.12    
    Getopt::Long                    0        2.52    
    List::AllUtils                  0        0.19    
    Math::BigInt                    0        1.999823
    MaxMind::DB::Common             0.040001 0.040001
    MaxMind::DB::Metadata           0        0.040001
    MaxMind::DB::Role::Debugs       0        0.040001
    MaxMind::DB::Types              0        0.040001
    Module::Implementation          0        0.09    
    Moo                             1.003000 2.005004
    Moo::Role                       0        2.005004
    MooX::StrictConstructor         0        0.011   
    namespace::autoclean            0        0.29    
    perl                            5.010000 5.035003
    Role::Tiny                      1.003002 2.002004
    Socket                          1.87     2.032   
    strict                          0        1.12    
    warnings                        0        1.53    

build_requires:

    Module                          Need     Have    
    ------------------------------- -------- --------
    Exporter                        0        5.76    
    ExtUtils::MakeMaker             0        7.62    
    File::Spec                      0        3.81    
    lib                             0        0.65    
    Path::Class                     0.27     0.37    
    Scalar::Util                    1.42     1.56    
    Test::Bits                      0        0.02    
    Test::Fatal                     0        0.016   
    Test::MaxMind::DB::Common::Data 0        0.040001
    Test::MaxMind::DB::Common::Util 0        0.040001
    Test::More                      0.96     1.302186
    Test::Number::Delta             0        1.06    
    Test::Requires                  0        0.11    
    utf8                            0        1.24    

configure_requires:

    Module                          Need     Have    
    ------------------------------- -------- --------
    ExtUtils::MakeMaker             0        7.62    


------------------------------
ENVIRONMENT AND OTHER CONTEXT
------------------------------

Environment variables:

    AUTOMATED_TESTING = 1
    LANG = en_US.UTF-8
    PATH = /home/sand/bin:/usr/local/bin:/usr/bin:/bin:/usr/games:/usr/local/perl/bin:/usr/X11/bin:/sbin:/usr/sbin
    PERL5LIB = /tmp/loop_over_bdir-1417853-gtsWik/Devel-Required-0.16-0/blib/arch:/tmp/loop_over_bdir-1417853-gtsWik/Devel-Required-0.16-0/blib/lib:/tmp/loop_over_bdir-1417853-gtsWik/ProjectBuilder-0.14.1-0/blib/arch:/tmp/loop_over_bdir-1417853-gtsWik/ProjectBuilder-0.14.1-0/blib/lib
    PERL5OPT = 
    PERL5_CPANPLUS_IS_RUNNING = 2103180
    PERL5_CPAN_IS_RUNNING = 2103180
    PERL_CANARY_STABILITY_NOPROMPT = 1
    PERL_MM_USE_DEFAULT = 1
    PERL_USE_UNSAFE_INC = 1
    SHELL = /usr/bin/zsh
    TERM = screen

Perl special variables (and OS-specific diagnostics, for MSWin32):

    $^X = /tmp/basesmoker-reloperl-hx5L/bin/perl
    $UID/$EUID = 1005 / 1005
    $GID = 1005 1005
    $EGID = 1005 1005

Perl module toolchain versions installed:

    Module              Have    
    ------------------- --------
    CPAN                2.28    
    CPAN::Meta          2.150010
    Cwd                 3.82    
    ExtUtils::CBuilder  0.280236
    ExtUtils::Command   7.62    
    ExtUtils::Install   2.20    
    ExtUtils::MakeMaker 7.62    
    ExtUtils::Manifest  1.73    
    ExtUtils::ParseXS   3.43    
    File::Spec          3.81    
    JSON                4.03    
    JSON::PP            4.06    
    Module::Build       0.4231  
    Module::Signature   0.87    
    Parse::CPAN::Meta   2.150010
    Test::Harness       3.43    
    Test::More          1.302186
    YAML                1.30    
    YAML::Syck          1.34    
    version             0.9929  


--

Summary of my perl5 (revision 5 version 35 subversion 3) configuration:
  Commit id: 07a5ce65d5a429333b7e2789577a7d978514a193
  Platform:
    osname=linux
    osvers=5.3.0-2-amd64
    archname=x86_64-linux-ld
    uname='linux k93msid 5.3.0-2-amd64 #1 smp debian 5.3.9-3 (2019-11-19) x86_64 gnulinux '
    config_args='-Dprefix=/home/sand/src/perl/repoperls/installed-perls/host/k93msid/v5.35.2-248-g07a5ce65d5/af11 -Dmyhostname=k93msid -Dinstallusrbinperl=n -Uversiononly -Dusedevel -des -Ui_db -Dlibswanted=cl pthread socket inet nsl gdbm dbm malloc dl ld sun m crypt sec util c cposix posix ucb BSD gdbm_compat -Uuseithreads -Duselongdouble -DEBUGGING=-g'
    hint=recommended
    useposix=true
    d_sigaction=define
    useithreads=undef
    usemultiplicity=undef
    use64bitint=define
    use64bitall=define
    uselongdouble=define
    usemymalloc=n
    default_inc_excludes_dot=define
  Compiler:
    cc='cc'
    ccflags ='-fwrapv -fno-strict-aliasing -pipe -fstack-protector-strong -I/usr/local/include -D_LARGEFILE_SOURCE -D_FILE_OFFSET_BITS=64 -D_FORTIFY_SOURCE=2'
    optimize='-O2 -g'
    cppflags='-fwrapv -fno-strict-aliasing -pipe -fstack-protector-strong -I/usr/local/include'
    ccversion=''
    gccversion='9.2.1 20191109'
    gccosandvers=''
    intsize=4
    longsize=8
    ptrsize=8
    doublesize=8
    byteorder=12345678
    doublekind=3
    d_longlong=define
    longlongsize=8
    d_longdbl=define
    longdblsize=16
    longdblkind=3
    ivtype='long'
    ivsize=8
    nvtype='long double'
    nvsize=16
    Off_t='off_t'
    lseeksize=8
    alignbytes=16
    prototype=define
  Linker and Libraries:
    ld='cc'
    ldflags =' -fstack-protector-strong -L/usr/local/lib'
    libpth=/usr/local/lib /usr/lib/x86_64-linux-gnu /usr/lib /lib/x86_64-linux-gnu /lib
    libs=-lpthread -lnsl -ldl -lm -lcrypt -lutil -lc
    perllibs=-lpthread -lnsl -ldl -lm -lcrypt -lutil -lc
    libc=libc-2.29.so
    so=so
    useshrplib=false
    libperl=libperl.a
    gnulibc_version='2.29'
  Dynamic Linking:
    dlsrc=dl_dlopen.xs
    dlext=so
    d_dlsymun=undef
    ccdlflags='-Wl,-E'
    cccdlflags='-fPIC'
    lddlflags='-shared -O2 -g -L/usr/local/lib -fstack-protector-strong'


Characteristics of this binary (from libperl): 
  Compile-time options:
    HAS_TIMES
    PERLIO_LAYERS
    PERL_COPY_ON_WRITE
    PERL_DONT_CREATE_GVSV
    PERL_MALLOC_WRAP
    PERL_OP_PARENT
    PERL_PRESERVE_IVUV
    PERL_USE_DEVEL
    USE_64_BIT_ALL
    USE_64_BIT_INT
    USE_LARGE_FILES
    USE_LOCALE
    USE_LOCALE_COLLATE
    USE_LOCALE_CTYPE
    USE_LOCALE_NUMERIC
    USE_LOCALE_TIME
    USE_LONG_DOUBLE
    USE_PERLIO
    USE_PERL_ATOF
  Built under linux
  Compiled at Aug 17 2021 13:26:07
  %ENV:
    PERL5LIB="/tmp/loop_over_bdir-1417853-gtsWik/Devel-Required-0.16-0/blib/arch:/tmp/loop_over_bdir-1417853-gtsWik/Devel-Required-0.16-0/blib/lib:/tmp/loop_over_bdir-1417853-gtsWik/ProjectBuilder-0.14.1-0/blib/arch:/tmp/loop_over_bdir-1417853-gtsWik/ProjectBuilder-0.14.1-0/blib/lib"
    PERL5OPT=""
    PERL5_CPANPLUS_IS_RUNNING="2103180"
    PERL5_CPAN_IS_RUNNING="2103180"
    PERL_CANARY_STABILITY_NOPROMPT="1"
    PERL_MM_USE_DEFAULT="1"
    PERL_USE_UNSAFE_INC="1"
  @INC:
    /tmp/loop_over_bdir-1417853-gtsWik/Devel-Required-0.16-0/blib/arch
    /tmp/loop_over_bdir-1417853-gtsWik/Devel-Required-0.16-0/blib/lib
    /tmp/loop_over_bdir-1417853-gtsWik/ProjectBuilder-0.14.1-0/blib/arch
    /tmp/loop_over_bdir-1417853-gtsWik/ProjectBuilder-0.14.1-0/blib/lib
    /home/sand/src/perl/repoperls/installed-perls/host/k93msid/v5.35.2-248-g07a5ce65d5/af11/lib/site_perl/5.35.3/x86_64-linux-ld
    /home/sand/src/perl/repoperls/installed-perls/host/k93msid/v5.35.2-248-g07a5ce65d5/af11/lib/site_perl/5.35.3
    /home/sand/src/perl/repoperls/installed-perls/host/k93msid/v5.35.2-248-g07a5ce65d5/af11/lib/5.35.3/x86_64-linux-ld
    /home/sand/src/perl/repoperls/installed-perls/host/k93msid/v5.35.2-248-g07a5ce65d5/af11/lib/5.35.3
    .