Back
From: metabase:user:314402c4-2aae-11df-837a-5e0a49663a4f
Subject: PASS Data-Validator-1.07 v5.21.8 FreeBSD
Date: 2015-01-28T03:06:25Z
This distribution has been tested as part of the CPAN Testers
project, supporting the Perl programming language. See
http://wiki.cpantesters.org/ for more information or email
questions to cpan-testers-discuss@perl.org
--
Dear Goro Fuji,
This is a computer-generated report for Data-Validator-1.07
on perl 5.21.8, created by CPAN-Reporter-1.2011.
Thank you for uploading your work to CPAN. Congratulations!
All tests were successful.
Sections of this report:
* Tester comments
* Program output
* Prerequisites
* Environment and other context
------------------------------
TESTER COMMENTS
------------------------------
Additional comments from tester:
none provided
------------------------------
PROGRAM OUTPUT
------------------------------
Output from './Build test':
Constants from lexical variables potentially modified elsewhere are deprecated at /usr/perl5.21.8p/lib/site_perl/5.21.8/amd64-freebsd/Mouse/Util.pm line 79.
# Testing Data::Validator/1.07
# Moose/2.1403
# Mouse/2.4.1
t/000_load.t .............. ok
Constants from lexical variables potentially modified elsewhere are deprecated at /usr/perl5.21.8p/lib/site_perl/5.21.8/amd64-freebsd/Mouse/Util.pm line 79.
t/001_basic.t ............. ok
Constants from lexical variables potentially modified elsewhere are deprecated at /usr/perl5.21.8p/lib/site_perl/5.21.8/amd64-freebsd/Mouse/Util.pm line 79.
t/002_isa.t ............... ok
Constants from lexical variables potentially modified elsewhere are deprecated at /usr/perl5.21.8p/lib/site_perl/5.21.8/amd64-freebsd/Mouse/Util.pm line 79.
t/003_default.t ........... ok
Constants from lexical variables potentially modified elsewhere are deprecated at /usr/perl5.21.8p/lib/site_perl/5.21.8/amd64-freebsd/Mouse/Util.pm line 79.
t/004_xor.t ............... ok
Constants from lexical variables potentially modified elsewhere are deprecated at /usr/perl5.21.8p/lib/site_perl/5.21.8/amd64-freebsd/Mouse/Util.pm line 79.
t/005_coerce.t ............ ok
Constants from lexical variables potentially modified elsewhere are deprecated at /usr/perl5.21.8p/lib/site_perl/5.21.8/amd64-freebsd/Mouse/Util.pm line 79.
t/006_moose_coerce.t ...... ok
Constants from lexical variables potentially modified elsewhere are deprecated at /usr/perl5.21.8p/lib/site_perl/5.21.8/amd64-freebsd/Mouse/Util.pm line 79.
t/007_immutable.t ......... ok
Constants from lexical variables potentially modified elsewhere are deprecated at /usr/perl5.21.8p/lib/site_perl/5.21.8/amd64-freebsd/Mouse/Util.pm line 79.
t/008_optional.t .......... ok
Constants from lexical variables potentially modified elsewhere are deprecated at /usr/perl5.21.8p/lib/site_perl/5.21.8/amd64-freebsd/Mouse/Util.pm line 79.
t/009_misuse.t ............ ok
Constants from lexical variables potentially modified elsewhere are deprecated at /usr/perl5.21.8p/lib/site_perl/5.21.8/amd64-freebsd/Mouse/Util.pm line 79.
t/010_common_params.t ..... ok
Constants from lexical variables potentially modified elsewhere are deprecated at /usr/perl5.21.8p/lib/site_perl/5.21.8/amd64-freebsd/Mouse/Util.pm line 79.
t/100_with.t .............. ok
Constants from lexical variables potentially modified elsewhere are deprecated at /usr/perl5.21.8p/lib/site_perl/5.21.8/amd64-freebsd/Mouse/Util.pm line 79.
t/101_method.t ............ ok
Constants from lexical variables potentially modified elsewhere are deprecated at /usr/perl5.21.8p/lib/site_perl/5.21.8/amd64-freebsd/Mouse/Util.pm line 79.
t/102_sequenced.t ......... ok
Constants from lexical variables potentially modified elsewhere are deprecated at /usr/perl5.21.8p/lib/site_perl/5.21.8/amd64-freebsd/Mouse/Util.pm line 79.
t/103_method_sequenced.t .. ok
Constants from lexical variables potentially modified elsewhere are deprecated at /usr/perl5.21.8p/lib/site_perl/5.21.8/amd64-freebsd/Mouse/Util.pm line 79.
t/104_extra_args.t ........ ok
Constants from lexical variables potentially modified elsewhere are deprecated at /usr/perl5.21.8p/lib/site_perl/5.21.8/amd64-freebsd/Mouse/Util.pm line 79.
t/105_croak.t ............. ok
Constants from lexical variables potentially modified elsewhere are deprecated at /usr/perl5.21.8p/lib/site_perl/5.21.8/amd64-freebsd/Mouse/Util.pm line 79.
t/106_nothrow.t ........... ok
Constants from lexical variables potentially modified elsewhere are deprecated at /usr/perl5.21.8p/lib/site_perl/5.21.8/amd64-freebsd/Mouse/Util.pm line 79.
t/107_strict_sequenced.t .. ok
Constants from lexical variables potentially modified elsewhere are deprecated at /usr/perl5.21.8p/lib/site_perl/5.21.8/amd64-freebsd/Mouse/Util.pm line 79.
t/108_no_restricted.t ..... ok
Constants from lexical variables potentially modified elsewhere are deprecated at /usr/perl5.21.8p/lib/site_perl/5.21.8/amd64-freebsd/Mouse/Util.pm line 79.
t/109_smart_sequenced.t ... ok
All tests successful.
Files=21, Tests=205, 5 wallclock secs ( 0.12 usr 0.09 sys + 3.35 cusr 0.62 csys = 4.19 CPU)
Result: PASS
------------------------------
PREREQUISITES
------------------------------
Prerequisite modules loaded:
requires:
Module Need Have
------------------- -------- ------------
Mouse 0.93 2.4.1
perl 5.008001 5.021008
build_requires:
Module Need Have
------------------- -------- ------------
ExtUtils::MakeMaker 6.59 7.04
Test::More 0.88 1.301001_097
Test::Requires 0 0.08
configure_requires:
Module Need Have
------------------- -------- ------------
Module::Build 0.38 0.4211
------------------------------
ENVIRONMENT AND OTHER CONTEXT
------------------------------
Environment variables:
DBIC_NO_WARN_BAD_PERL = 1
LC_ALL = de_DE.ISO8859-1
PATH = /usr/local/bin:/usr/bin:/bin:/usr/local/sbin:/usr/sbin:/sbin:/home/cpansand/bin/freebsd10.0:/home/cpansand/bin/sh:/home/cpansand/bin:/usr/games:/home/cpansand/devel:/home/eserte/src/srezic-misc/scripts
PERL5LIB =
PERL5OPT =
PERL5_CPANPLUS_IS_RUNNING = 6894
PERL5_CPAN_IS_RUNNING = 6894
PERL5_CPAN_IS_RUNNING_IN_RECURSION = 897,6894
PERLDOC = -MPod::Perldoc::ToTextOverstrike
PERL_BATCH = yes
PERL_CPAN_REPORTER_CONFIG = /var/tmp/cpansmoker-1023/PSa3rD7Cr8_config.ini
PERL_EXTUTILS_AUTOINSTALL = --defaultdeps
PERL_HTML_DISPLAY_CLASS = HTML::Display::Mozilla
SHELL = /usr/local/bin/zsh
TERM = screen
TMPDIR = /var/tmp/cpansmoker-1023
Perl special variables (and OS-specific diagnostics, for MSWin32):
$^X = /usr/perl5.21.8p/bin/perl5.21.8
$UID/$EUID = 1023 / 1023
$GID = 1023 1023
$EGID = 1023 1023
Perl module toolchain versions installed:
Module Have
------------------- ------------
CPAN 2.05
CPAN::Meta 2.143240
Cwd 3.54
ExtUtils::CBuilder 0.280221
ExtUtils::Command 1.20
ExtUtils::Install 2.04
ExtUtils::MakeMaker 7.04
ExtUtils::Manifest 1.70
ExtUtils::ParseXS 3.27
File::Spec 3.53
JSON 2.90
JSON::PP 2.27300
Module::Build 0.4211
Module::Signature n/a
Parse::CPAN::Meta 1.4414
Test::Harness 3.35
Test::More 1.301001_097
YAML 1.14
YAML::Syck 1.29
version 0.9912
--
Summary of my perl5 (revision 5 version 21 subversion 8) configuration:
Platform:
osname=freebsd, osvers=10.1-release, archname=amd64-freebsd
uname='freebsd cvrsnica-freebsd-101.herceg.de 10.1-release freebsd 10.1-release #0 r274401: tue nov 11 21:02:49 utc 2014 root@releng1.nyi.freebsd.org:usrobjusrsrcsysgeneric amd64 '
config_args='-ds -e -Dprefix=/usr/perl5.21.8p -Dusedevel -Dusemallocwrap=no'
hint=recommended, useposix=true, d_sigaction=define
useithreads=undef, usemultiplicity=undef
use64bitint=define, use64bitall=define, uselongdouble=undef
usemymalloc=n, bincompat5005=undef
Compiler:
cc='cc', ccflags ='-DHAS_FPSETMASK -DHAS_FLOATINGPOINT_H -fno-strict-aliasing -pipe -fstack-protector -I/usr/local/include -D_FORTIFY_SOURCE=2',
optimize='-O',
cppflags='-DHAS_FPSETMASK -DHAS_FLOATINGPOINT_H -fno-strict-aliasing -pipe -fstack-protector -I/usr/local/include'
ccversion='', gccversion='4.2.1 Compatible FreeBSD Clang 3.4.1 (tags/RELEASE_34/dot1-final 208032)', gccosandvers=''
intsize=4, longsize=8, ptrsize=8, doublesize=8, byteorder=12345678, doublekind=3
d_longlong=define, longlongsize=8, d_longdbl=define, longdblsize=16, longdblkind=3
ivtype='long', ivsize=8, nvtype='double', nvsize=8, Off_t='off_t', lseeksize=8
alignbytes=8, prototype=define
Linker and Libraries:
ld='cc', ldflags ='-pthread -Wl,-E -fstack-protector -L/usr/local/lib'
libpth=/usr/lib /usr/local/lib /usr/include/clang/3.4.1 /usr/lib
libs=-lpthread -lm -lcrypt -lutil -lc
perllibs=-lpthread -lm -lcrypt -lutil -lc
libc=, so=so, useshrplib=false, libperl=libperl.a
gnulibc_version=''
Dynamic Linking:
dlsrc=dl_dlopen.xs, dlext=so, d_dlsymun=undef, ccdlflags=' '
cccdlflags='-DPIC -fPIC', lddlflags='-shared -L/usr/local/lib -fstack-protector'
Characteristics of this binary (from libperl):
Compile-time options: HAS_TIMES PERLIO_LAYERS PERL_DONT_CREATE_GVSV
PERL_HASH_FUNC_ONE_AT_A_TIME_HARD
PERL_NEW_COPY_ON_WRITE PERL_PRESERVE_IVUV
PERL_USE_DEVEL USE_64_BIT_ALL USE_64_BIT_INT
USE_LARGE_FILES USE_LOCALE USE_LOCALE_COLLATE
USE_LOCALE_CTYPE USE_LOCALE_NUMERIC USE_LOCALE_TIME
USE_PERLIO USE_PERL_ATOF
Built under freebsd
Compiled at Jan 27 2015 21:22:59
%ENV:
PERL5LIB=""
PERL5OPT=""
PERL5_CPANPLUS_IS_RUNNING="6894"
PERL5_CPAN_IS_RUNNING="6894"
PERL5_CPAN_IS_RUNNING_IN_RECURSION="897,6894"
PERLDOC="-MPod::Perldoc::ToTextOverstrike"
PERL_BATCH="yes"
PERL_CPAN_REPORTER_CONFIG="/var/tmp/cpansmoker-1023/PSa3rD7Cr8_config.ini"
PERL_EXTUTILS_AUTOINSTALL="--defaultdeps"
PERL_HTML_DISPLAY_CLASS="HTML::Display::Mozilla"
@INC:
/usr/perl5.21.8p/lib/site_perl/5.21.8/amd64-freebsd
/usr/perl5.21.8p/lib/site_perl/5.21.8
/usr/perl5.21.8p/lib/5.21.8/amd64-freebsd
/usr/perl5.21.8p/lib/5.21.8
.