Report for WebService-Zoopla-API-0.001

Back
From: metabase:user:3198cbe2-2aae-11df-837a-5e0a49663a4f
Subject: PASS WebService-Zoopla-API-0.001 v5.18.1 GNU/Linux
Date: 2013-11-15T21:41:11Z

This distribution has been tested as part of the CPAN Testers
project, supporting the Perl programming language.  See
http://wiki.cpantesters.org/ for more information or email
questions to cpan-testers-discuss@perl.org


--
Dear Willem Basson,

This is a computer-generated report for WebService-Zoopla-API-0.001
on perl 5.18.1, created by CPAN-Reporter-1.2010.

Thank you for uploading your work to CPAN.  Congratulations!
All tests were successful.

Sections of this report:

    * Tester comments
    * Program output
    * Prerequisites
    * Environment and other context

------------------------------
TESTER COMMENTS
------------------------------

Additional comments from tester:

this report is from an automated smoke testing program
and was not reviewed by a human for accuracy

------------------------------
PROGRAM OUTPUT
------------------------------

Output from '/usr/bin/make test':

PERL_DL_NONLAZY=1 /home/graham/perls/perl-5.18.1-thread/bin/perl "-MExtUtils::Command::MM" "-MTest::Harness" "-e" "undef *Test::Harness::Switches; test_harness(0, 'blib/lib', 'blib/arch')" t/*.t
Passing a list of values to enum is deprecated. Enum values should be wrapped in an arrayref. at /home/graham/perls/perl-5.18.1-thread/lib/site_perl/5.18.1/Net/HTTP/Spore/Meta/Types.pm line 18.
	require Net/HTTP/Spore/Meta/Types.pm called at /home/graham/perls/perl-5.18.1-thread/lib/site_perl/5.18.1/Net/HTTP/Spore/Meta/Method.pm line 16
	Net::HTTP::Spore::Meta::Method::BEGIN() called at /home/graham/perls/perl-5.18.1-thread/lib/site_perl/5.18.1/Net/HTTP/Spore/Meta/Types.pm line 0
	eval {...} called at /home/graham/perls/perl-5.18.1-thread/lib/site_perl/5.18.1/Net/HTTP/Spore/Meta/Types.pm line 0
	require Net/HTTP/Spore/Meta/Method.pm called at /home/graham/perls/perl-5.18.1-thread/lib/site_perl/5.18.1/Net/HTTP/Spore/Meta/Method/Spore.pm line 11
	Net::HTTP::Spore::Meta::Method::Spore::BEGIN() called at /home/graham/perls/perl-5.18.1-thread/lib/site_perl/5.18.1/Net/HTTP/Spore/Meta/Types.pm line 0
	eval {...} called at /home/graham/perls/perl-5.18.1-thread/lib/site_perl/5.18.1/Net/HTTP/Spore/Meta/Types.pm line 0
	require Net/HTTP/Spore/Meta/Method/Spore.pm called at /home/graham/perls/perl-5.18.1-thread/lib/site_perl/5.18.1/Module/Runtime.pm line 317
	Module::Runtime::require_module("Net::HTTP::Spore::Meta::Method::Spore") called at /home/graham/perls/perl-5.18.1-thread/lib/site_perl/5.18.1/Module/Runtime.pm line 348
	Module::Runtime::use_module("Net::HTTP::Spore::Meta::Method::Spore", undef) called at /home/graham/perls/perl-5.18.1-thread/lib/site_perl/5.18.1/x86_64-linux-thread-multi/Moose/Util.pm line 144
	Moose::Util::_apply_all_roles(Moose::Meta::Role=HASH(0x2255620), undef, "Net::HTTP::Spore::Meta::Method::Spore") called at /home/graham/perls/perl-5.18.1-thread/lib/site_perl/5.18.1/x86_64-linux-thread-multi/Moose/Util.pm line 111
	Moose::Util::apply_all_roles(Moose::Meta::Role=HASH(0x2255620), "Net::HTTP::Spore::Meta::Method::Spore") called at /home/graham/perls/perl-5.18.1-thread/lib/site_perl/5.18.1/x86_64-linux-thread-multi/Moose/Role.pm line 30
	Moose::Role::with(Moose::Meta::Role=HASH(0x2255620), "Net::HTTP::Spore::Meta::Method::Spore") called at /home/graham/perls/perl-5.18.1-thread/lib/site_perl/5.18.1/x86_64-linux-thread-multi/Moose/Exporter.pm line 408
	Moose::Role::with("Net::HTTP::Spore::Meta::Method::Spore") called at /home/graham/perls/perl-5.18.1-thread/lib/site_perl/5.18.1/Net/HTTP/Spore/Meta/Class.pm line 10
	require Net/HTTP/Spore/Meta/Class.pm called at /home/graham/perls/perl-5.18.1-thread/lib/site_perl/5.18.1/Module/Runtime.pm line 317
	Module::Runtime::require_module("Net::HTTP::Spore::Meta::Class") called at /home/graham/perls/perl-5.18.1-thread/lib/site_perl/5.18.1/Module/Runtime.pm line 348
	Module::Runtime::use_module("Net::HTTP::Spore::Meta::Class", undef) called at /home/graham/perls/perl-5.18.1-thread/lib/site_perl/5.18.1/x86_64-linux-thread-multi/Moose/Util.pm line 144
	Moose::Util::_apply_all_roles(Moose::Meta::Class=HASH(0x21e27b8), undef, "Net::HTTP::Spore::Meta::Class") called at /home/graham/perls/perl-5.18.1-thread/lib/site_perl/5.18.1/x86_64-linux-thread-multi/Moose/Util.pm line 111
	Moose::Util::apply_all_roles(Moose::Meta::Class=HASH(0x21e27b8), "Net::HTTP::Spore::Meta::Class") called at /home/graham/perls/perl-5.18.1-thread/lib/site_perl/5.18.1/x86_64-linux-thread-multi/Moose/Meta/Class.pm line 96
	Moose::Meta::Class::create("Moose::Meta::Class", "Moose::Meta::Class::__ANON__::SERIAL::1", "weaken", "", "roles", ARRAY(0x21ca458), "superclasses", ARRAY(0x21dc208)) called at /home/graham/perls/perl-5.18.1-thread/lib/site_perl/5.18.1/x86_64-linux-thread-multi/Class/MOP/Package.pm line 129
	Class::MOP::Package::create_anon("Moose::Meta::Class", "superclasses", ARRAY(0x21dc208), "roles", ARRAY(0x21ca458), "cache", 1) called at /home/graham/perls/perl-5.18.1-thread/lib/site_perl/5.18.1/x86_64-linux-thread-multi/Class/MOP/Class.pm line 478
	Class::MOP::Class::create_anon_class("Moose::Meta::Class", "superclasses", ARRAY(0x21dc208), "roles", ARRAY(0x21ca458), "cache", 1) called at /home/graham/perls/perl-5.18.1-thread/lib/site_perl/5.18.1/x86_64-linux-thread-multi/Moose/Util/MetaRole.pm line 116
	Moose::Util::MetaRole::_make_new_class("Moose::Meta::Class", ARRAY(0x21ca458)) called at /home/graham/perls/perl-5.18.1-thread/lib/site_perl/5.18.1/x86_64-linux-thread-multi/Moose/Util/MetaRole.pm line 59
	Moose::Util::MetaRole::_make_new_metaclass(Moose::Meta::Class=HASH(0x21dc220), HASH(0x21c2660), "class") called at /home/graham/perls/perl-5.18.1-thread/lib/site_perl/5.18.1/x86_64-linux-thread-multi/Moose/Util/MetaRole.pm line 29
	Moose::Util::MetaRole::apply_metaroles("for", "Net::HTTP::Spore::Core", "class_metaroles", HASH(0x21c2660)) called at /home/graham/perls/perl-5.18.1-thread/lib/site_perl/5.18.1/Net/HTTP/Spore/Meta.pm line 28
	Net::HTTP::Spore::Meta::init_meta("Net::HTTP::Spore::Meta", "for_class", "Net::HTTP::Spore::Meta::Types", "metaclass", undef, "meta_name", "meta") called at /home/graham/perls/perl-5.18.1-thread/lib/site_perl/5.18.1/x86_64-linux-thread-multi/Moose/Exporter.pm line 473
	Moose::Exporter::__ANON__("Net::HTTP::Spore::Meta") called at /home/graham/perls/perl-5.18.1-thread/lib/site_perl/5.18.1/Net/HTTP/Spore/Core.pm line 6
	Net::HTTP::Spore::Core::BEGIN() called at /home/graham/perls/perl-5.18.1-thread/lib/site_perl/5.18.1/Net/HTTP/Spore/Meta/Types.pm line 0
	eval {...} called at /home/graham/perls/perl-5.18.1-thread/lib/site_perl/5.18.1/Net/HTTP/Spore/Meta/Types.pm line 0
	require Net/HTTP/Spore/Core.pm called at /home/graham/perls/perl-5.18.1-thread/lib/site_perl/5.18.1/Net/HTTP/Spore.pm line 16
	Net::HTTP::Spore::BEGIN() called at /home/graham/perls/perl-5.18.1-thread/lib/site_perl/5.18.1/Net/HTTP/Spore/Meta/Types.pm line 0
	eval {...} called at /home/graham/perls/perl-5.18.1-thread/lib/site_perl/5.18.1/Net/HTTP/Spore/Meta/Types.pm line 0
	require Net/HTTP/Spore.pm called at lib/WebService/Zoopla/API.pm line 3
	WebService::Zoopla::API::BEGIN() called at /home/graham/perls/perl-5.18.1-thread/lib/site_perl/5.18.1/Net/HTTP/Spore/Meta/Types.pm line 0
	eval {...} called at /home/graham/perls/perl-5.18.1-thread/lib/site_perl/5.18.1/Net/HTTP/Spore/Meta/Types.pm line 0
	require WebService/Zoopla/API.pm called at -e line 1
t/00-compile.t ............... ok
t/01_basic_test.t ............ skipped: Set the following environment variables or these tests are skipped: $ENV{'ZOOPLA_API_KEY'}
t/author-critic.t ............ skipped: these tests are for testing by the author
t/release-dist-manifest.t .... skipped: these tests are for release candidate testing
t/release-distmeta.t ......... skipped: these tests are for release candidate testing
t/release-eol.t .............. skipped: these tests are for release candidate testing
t/release-has-version.t ...... skipped: these tests are for release candidate testing
t/release-kwalitee.t ......... skipped: these tests are for release candidate testing
t/release-minimum-version.t .. skipped: these tests are for release candidate testing
t/release-no-tabs.t .......... skipped: these tests are for release candidate testing
t/release-pod-coverage.t ..... skipped: these tests are for release candidate testing
t/release-pod-syntax.t ....... skipped: these tests are for release candidate testing
t/release-portability.t ...... skipped: these tests are for release candidate testing
t/release-synopsis.t ......... skipped: these tests are for release candidate testing
t/release-unused-vars.t ...... skipped: these tests are for release candidate testing
All tests successful.
Files=15, Tests=1,  3 wallclock secs ( 0.08 usr  0.02 sys +  1.45 cusr  0.14 csys =  1.69 CPU)
Result: PASS

------------------------------
PREREQUISITES
------------------------------

Prerequisite modules loaded:

requires:

    Module              Need Have    
    ------------------- ---- --------
    List::Util          0    1.35    
    Moose               0    2.1106  
    Net::HTTP::Spore    0    0.06    

build_requires:

    Module              Need Have    
    ------------------- ---- --------
    Data::Dumper        0    2.145   
    English             0    1.06    
    File::Find          0    1.23    
    File::Temp          0    0.2304  
    Test::More          0    1.001002
    Test::Most          0    0.31    

configure_requires:

    Module              Need Have    
    ------------------- ---- --------
    ExtUtils::MakeMaker 6.31 6.83_03 


------------------------------
ENVIRONMENT AND OTHER CONTEXT
------------------------------

Environment variables:

    AUTOMATED_TESTING = 1
    LANG = en_GB.UTF-8
    PATH = /home/graham/perls/perl-5.18.1-thread/bin:/usr/local/sbin:/usr/local/bin:/usr/bin:/usr/bin/vendor_perl:/usr/bin/core_perl
    PERL5LIB = 
    PERL5OPT = 
    PERL5_CPANPLUS_IS_RUNNING = 23900
    PERL5_CPAN_IS_RUNNING = 23900
    PERL5_CPAN_IS_RUNNING_IN_RECURSION = 359,23900
    PERL_CR_SMOKER_CURRENT = WebService-Zoopla-API-0.001
    PERL_EXTUTILS_AUTOINSTALL = --defaultdeps
    PERL_MM_USE_DEFAULT = 1
    SHELL = /bin/bash
    TERM = xterm

Perl special variables (and OS-specific diagnostics, for MSWin32):

    $^X = /home/graham/perls/perl-5.18.1-thread/bin/perl
    $UID/$EUID = 1000 / 1000
    $GID = 100 10 95 98 100
    $EGID = 100 10 95 98 100

Perl module toolchain versions installed:

    Module              Have    
    ------------------- --------
    CPAN                2.00    
    CPAN::Meta          2.132830
    Cwd                 3.40    
    ExtUtils::CBuilder  0.280212
    ExtUtils::Command   1.18    
    ExtUtils::Install   1.59    
    ExtUtils::MakeMaker 6.83_03 
    ExtUtils::Manifest  1.63    
    ExtUtils::ParseXS   3.22    
    File::Spec          3.40    
    JSON                2.90    
    JSON::PP            2.27203 
    Module::Build       0.4003  
    Module::Signature   0.73    
    Parse::CPAN::Meta   1.4409  
    Test::Harness       3.30    
    Test::More          1.001002
    YAML                0.84    
    YAML::Syck          1.27    
    version             0.9904  


--

Summary of my perl5 (revision 5 version 18 subversion 1) configuration:
   
  Platform:
    osname=linux, osvers=3.11.4-1-arch, archname=x86_64-linux-thread-multi
    uname='linux grosics 3.11.4-1-arch #1 smp preempt sat oct 5 21:22:51 cest 2013 x86_64 gnulinux '
    config_args=''
    hint=recommended, useposix=true, d_sigaction=define
    useithreads=define, usemultiplicity=define
    useperlio=define, d_sfio=undef, uselargefiles=define, usesocks=undef
    use64bitint=define, use64bitall=define, uselongdouble=undef
    usemymalloc=n, bincompat5005=undef
  Compiler:
    cc='cc', ccflags ='-D_REENTRANT -D_GNU_SOURCE -fno-strict-aliasing -pipe -fstack-protector -I/usr/local/include -D_LARGEFILE_SOURCE -D_FILE_OFFSET_BITS=64',
    optimize='-O2',
    cppflags='-D_REENTRANT -D_GNU_SOURCE -fno-strict-aliasing -pipe -fstack-protector -I/usr/local/include'
    ccversion='', gccversion='4.8.1 20130725 (prerelease)', gccosandvers=''
    intsize=4, longsize=8, ptrsize=8, doublesize=8, byteorder=12345678
    d_longlong=define, longlongsize=8, d_longdbl=define, longdblsize=16
    ivtype='long', ivsize=8, nvtype='double', nvsize=8, Off_t='off_t', lseeksize=8
    alignbytes=8, prototype=define
  Linker and Libraries:
    ld='cc', ldflags =' -fstack-protector -L/usr/local/lib'
    libpth=/usr/local/lib /lib/../lib /usr/lib/../lib /lib /usr/lib /lib64 /usr/lib64
    libs=-lnsl -lgdbm -ldb -ldl -lm -lcrypt -lutil -lpthread -lc -lgdbm_compat
    perllibs=-lnsl -ldl -lm -lcrypt -lutil -lpthread -lc
    libc=/lib/libc-2.18.so, so=so, useshrplib=false, libperl=libperl.a
    gnulibc_version='2.18'
  Dynamic Linking:
    dlsrc=dl_dlopen.xs, dlext=so, d_dlsymun=undef, ccdlflags='-Wl,-E'
    cccdlflags='-fPIC', lddlflags='-shared -O2 -L/usr/local/lib -fstack-protector'


Characteristics of this binary (from libperl): 
  Compile-time options: HAS_TIMES MULTIPLICITY PERLIO_LAYERS
                        PERL_DONT_CREATE_GVSV
                        PERL_HASH_FUNC_ONE_AT_A_TIME_HARD
                        PERL_IMPLICIT_CONTEXT PERL_MALLOC_WRAP
                        PERL_PRESERVE_IVUV PERL_SAWAMPERSAND USE_64_BIT_ALL
                        USE_64_BIT_INT USE_ITHREADS USE_LARGE_FILES
                        USE_LOCALE USE_LOCALE_COLLATE USE_LOCALE_CTYPE
                        USE_LOCALE_NUMERIC USE_PERLIO USE_PERL_ATOF
                        USE_REENTRANT_API
  Built under linux
  Compiled at Oct 29 2013 14:01:45
  %ENV:
    PERL5LIB=""
    PERL5OPT=""
    PERL5_CPANPLUS_IS_RUNNING="23900"
    PERL5_CPAN_IS_RUNNING="23900"
    PERL5_CPAN_IS_RUNNING_IN_RECURSION="359,23900"
    PERL_CR_SMOKER_CURRENT="WebService-Zoopla-API-0.001"
    PERL_EXTUTILS_AUTOINSTALL="--defaultdeps"
    PERL_MM_USE_DEFAULT="1"
  @INC:
    /home/graham/perls/perl-5.18.1-thread/lib/site_perl/5.18.1/x86_64-linux-thread-multi
    /home/graham/perls/perl-5.18.1-thread/lib/site_perl/5.18.1
    /home/graham/perls/perl-5.18.1-thread/lib/5.18.1/x86_64-linux-thread-multi
    /home/graham/perls/perl-5.18.1-thread/lib/5.18.1
    .