Report for Catalyst-Plugin-Devel-ModuleVersions-0.100330

Back
From: metabase:user:b53c7f44-4c0e-11e4-9ced-a04ade49192c
Subject: PASS Catalyst-Plugin-Devel-ModuleVersions-0.100330 v5.8.9 GNU/Linux
Date: 2014-10-25T17:52:10Z

This distribution has been tested as part of the CPAN Testers
project, supporting the Perl programming language.  See
http://wiki.cpantesters.org/ for more information or email
questions to cpan-testers-discuss@perl.org


--
Dear Andreas Marienborg,

This is a computer-generated report for Catalyst-Plugin-Devel-ModuleVersions-0.100330
on perl 5.8.9, created by CPAN-Reporter-1.2011.

Thank you for uploading your work to CPAN.  Congratulations!
All tests were successful.

Sections of this report:

    * Tester comments
    * Program output
    * Prerequisites
    * Environment and other context

------------------------------
TESTER COMMENTS
------------------------------

Additional comments from tester:

this report is from an automated smoke testing program
and was not reviewed by a human for accuracy

------------------------------
PROGRAM OUTPUT
------------------------------

Output from '/usr/bin/make test':

PERL_DL_NONLAZY=1 /opt/perl430-27-O0-5.8.9/bin/perl "-MExtUtils::Command::MM" "-MTest::Harness" "-e" "undef *Test::Harness::Switches; test_harness(0, 'blib/lib', 'blib/arch')" t/*.t t/author/*.t
t/00-load.t ............... ok
t/author/pod-coverage.t ... ok
t/author/pod.t ............ ok
[debug] Debug messages enabled
[debug] Statistics enabled
Term::Size::Any is not installed, can't autodetect terminal column width
Trouble trying to detect your terminal size, looking at $ENV{COLUMNS}
Cannot determine desired terminal width, using default of 80 columns
[debug] Loaded plugins:
.----------------------------------------------------------------------------.
| Catalyst::Plugin::Devel::ModuleVersions  0.100330                          |
'----------------------------------------------------------------------------'

[debug] Loaded PSGI Middleware:
.----------------------------------------------------------------------------.
| Catalyst::Middleware::Stash                                                |
| Plack::Middleware::HTTPExceptions                                          |
| Plack::Middleware::RemoveRedundantBody  0.04                               |
| Plack::Middleware::FixMissingBodyInRedirect  0.10                          |
| Plack::Middleware::ContentLength                                           |
| Plack::Middleware::MethodOverride  0.10                                    |
| Plack::Middleware::Head                                                    |
'----------------------------------------------------------------------------'

[debug] Loaded Request Data Handlers:
.----------------------------------------------------------------------------.
| application/json                                                           |
| application/x-www-form-urlencoded                                          |
'----------------------------------------------------------------------------'

[debug] Loaded dispatcher "Catalyst::Dispatcher"
[debug] Loaded engine "Catalyst::Engine"
[debug] Found home "/root/.cpan/build/Catalyst-Plugin-Devel-ModuleVersions-0.100330-O7y3_j/t/lib/TestApp"
[debug] Loaded components:
.-----------------------------------------------------------------+----------.
| Class                                                           | Type     |
+-----------------------------------------------------------------+----------+
| TestApp::Controller::Root                                       | instance |
'-----------------------------------------------------------------+----------'

[debug] Loaded Private actions:
.----------------------+--------------------------------------+--------------.
| Private              | Class                                | Method       |
+----------------------+--------------------------------------+--------------+
| /main                | TestApp::Controller::Root            | main         |
'----------------------+--------------------------------------+--------------'

[debug] Loaded Path actions:
.-------------------------------------+--------------------------------------.
| Path                                | Private                              |
+-------------------------------------+--------------------------------------+
| /...                                | /main                                |
'-------------------------------------+--------------------------------------'

[info] Application powered by Catalyst 5.90075
[info] *** Request 1 (0.500/s) [2620] [Sat Oct 25 10:51:58 2014] ***
[debug] Path is "/"
[debug] "GET" request for "/" from "127.0.0.1"
[error] Caught exception in TestApp::Controller::Root->main "forced debug at /root/.cpan/build/Catalyst-Plugin-Devel-ModuleVersions-0.100330-O7y3_j/t/lib/TestApp/Controller/Root.pm line 11."
[debug] Response Code: 500; Content-Type: text/html; charset=utf-8; Content-Length: unknown
[info] Request took 0.385571s (2.594/s)
.------------------------------------------------------------+-----------.
| Action                                                     | Time      |
+------------------------------------------------------------+-----------+
| /main                                                      | 0.000712s |
'------------------------------------------------------------+-----------'

t/live-test.t ............. ok
t/release-pod-coverage.t .. skipped: these tests are for release candidate testing
t/release-pod-syntax.t .... skipped: these tests are for release candidate testing
All tests successful.
Files=6, Tests=6, 13 wallclock secs ( 0.16 usr  0.02 sys +  8.37 cusr  0.47 csys =  9.02 CPU)
Result: PASS

------------------------------
PREREQUISITES
------------------------------

Prerequisite modules loaded:

requires:

    Module                         Need Have      
    ------------------------------ ---- ----------
    base                           0    2.18      
    Catalyst                       0    5.90075   
    Catalyst::Test                 0    0         
    FindBin                        0    1.49      
    Getopt::Long                   0    2.42      
  ! mro                            0    n/a       
    MRO::Compat                    0    0.12      
    ok                             0    0.11      
    Pod::Usage                     0    1.64      
    Test::MockObject               0    1.20140408
    Test::More                     0    1.001008  
    Test::WWW::Mechanize::Catalyst 0    0.59      
  ! TestApp                        0    n/a       

build_requires:

    Module                         Need Have      
    ------------------------------ ---- ----------
    ExtUtils::MakeMaker            0    6.98      


------------------------------
ENVIRONMENT AND OTHER CONTEXT
------------------------------

Environment variables:

    AUTOMATED_TESTING = 1
    LANG = en_US.utf8
    NONINTERACTIVE_TESTING = 1
    PATH = /usr/lib/qt-3.3/bin:/usr/kerberos/sbin:/usr/kerberos/bin:/usr/lib/ccache:/usr/local/sbin:/usr/sbin:/sbin:/usr/local/bin:/usr/bin:/bin:/opt/real/RealPlayer:/root/bin:/opt/real/RealPlayer
    PERL5LIB = 
    PERL5OPT = 
    PERL5_CPANPLUS_IS_RUNNING = 1779
    PERL5_CPAN_IS_RUNNING = 1779
    PERL_MM_USE_DEFAULT = 1
    SHELL = /bin/bash
    TERM = xterm

Perl special variables (and OS-specific diagnostics, for MSWin32):

    $^X = /opt/perl430-27-O0-5.8.9/bin/perl
    $UID/$EUID = 0 / 0
    $GID = 0 0 1 2 3 4 6 10
    $EGID = 0 0 1 2 3 4 6 10

Perl module toolchain versions installed:

    Module              Have    
    ------------------- --------
    CPAN                2.05    
    CPAN::Meta          2.142690
    Cwd                 3.47    
    ExtUtils::CBuilder  0.280220
    ExtUtils::Command   1.18    
    ExtUtils::Install   2.04    
    ExtUtils::MakeMaker 6.98    
    ExtUtils::Manifest  1.60    
    ExtUtils::ParseXS   3.24    
    File::Spec          3.47    
    JSON                2.90    
    JSON::PP            2.27300 
    Module::Build       0.4210  
    Module::Signature   n/a     
    Parse::CPAN::Meta   1.4414  
    Test::Harness       3.33    
    Test::More          1.001008
    YAML                1.13    
    YAML::Syck          1.27    
    version             0.9909  


--

Summary of my perl5 (revision 5 version 8 subversion 9) configuration:
  Platform:
    osname=linux, osvers=2.6.27.25-78.2.56.fc9.i686, archname=i686-linux-thread-multi-64int-ld
    uname='linux localhost.localdomain 2.6.27.25-78.2.56.fc9.i686 #1 smp thu jun 18 12:47:50 edt 2009 i686 i686 i386 gnulinux '
    config_args='-Dcc=gcc -Dprefix=/opt/perl430-27-O0-5.8.9 -DDEBUGGING'
    hint=recommended, useposix=true, d_sigaction=define
    usethreads=define use5005threads=undef useithreads=define usemultiplicity=define
    useperlio=define d_sfio=undef uselargefiles=define usesocks=undef
    use64bitint=define use64bitall=undef uselongdouble=define
    usemymalloc=y, bincompat5005=undef
  Compiler:
    cc='gcc', ccflags ='-D_REENTRANT -D_GNU_SOURCE -DTHREADS_HAVE_PIDS -DDEBUGGING -fno-strict-aliasing -pipe -I/usr/local/include -D_LARGEFILE_SOURCE -D_FILE_OFFSET_BITS=64 -I/usr/include/gdbm',
    optimize='-O0 -g',
    cppflags='-D_REENTRANT -D_GNU_SOURCE -DTHREADS_HAVE_PIDS -DDEBUGGING -fno-strict-aliasing -pipe -I/usr/local/include -I/usr/include/gdbm'
    ccversion='', gccversion='4.3.0 20080428 (Red Hat 4.3.0-8)', gccosandvers=''
    intsize=4, longsize=4, ptrsize=4, doublesize=8, byteorder=12345678
    d_longlong=define, longlongsize=8, d_longdbl=define, longdblsize=12
    ivtype='long long', ivsize=8, nvtype='long double', nvsize=12, Off_t='off_t', lseeksize=8
    alignbytes=4, prototype=define
  Linker and Libraries:
    ld='gcc', ldflags =' -L/usr/local/lib'
    libpth=/usr/local/lib /lib /usr/lib
    libs=-lnsl -lgdbm -ldb -ldl -lm -lcrypt -lutil -lpthread -lc
    perllibs=-lnsl -ldl -lm -lcrypt -lutil -lpthread -lc
    libc=/lib/libc-2.8.so, so=so, useshrplib=true, libperl=libperl.so
    gnulibc_version='2.8'
  Dynamic Linking:
    dlsrc=dl_dlopen.xs, dlext=so, d_dlsymun=undef, ccdlflags='-Wl,-E -Wl,-rpath,/opt/perl430-27-O0-5.8.9/lib/5.8.9/i686-linux-thread-multi-64int-ld/CORE'
    cccdlflags='-fPIC', lddlflags='-shared -O0 -g -L/usr/local/lib'


Characteristics of this binary (from libperl): 
  Compile-time options: DEBUGGING MULTIPLICITY MYMALLOC PERL_IMPLICIT_CONTEXT
                        PERL_MALLOC_WRAP THREADS_HAVE_PIDS USE_64_BIT_INT
                        USE_FAST_STDIO USE_ITHREADS USE_LARGE_FILES
                        USE_LONG_DOUBLE USE_PERLIO USE_REENTRANT_API
  Built under linux
  Compiled at Oct 10 2014 07:21:21
  %ENV:
    PERL5LIB=""
    PERL5OPT=""
    PERL5_CPANPLUS_IS_RUNNING="1779"
    PERL5_CPAN_IS_RUNNING="1779"
    PERL_MM_USE_DEFAULT="1"
  @INC:
    /opt/perl430-27-O0-5.8.9/lib/5.8.9/i686-linux-thread-multi-64int-ld
    /opt/perl430-27-O0-5.8.9/lib/5.8.9
    /opt/perl430-27-O0-5.8.9/lib/site_perl/5.8.9/i686-linux-thread-multi-64int-ld
    /opt/perl430-27-O0-5.8.9/lib/site_perl/5.8.9
    .