Report for Catalyst-Controller-ActionRole-0.17

Back
From: metabase:user:5f77f54e-6c0d-1014-966e-55cac1b3e646
Subject: PASS Catalyst-Controller-ActionRole-0.17 v5.16.3 
Date: 2015-08-27T04:11:27Z

This distribution has been tested as part of the CPAN Testers
project, supporting the Perl programming language.  See
http://wiki.cpantesters.org/ for more information or email
questions to cpan-testers-discuss@perl.org


--
Dear Karen Etheridge,

This is a computer-generated report for Catalyst-Controller-ActionRole-0.17
on perl 5.16.3, created by CPAN-Reporter-1.2015.

Thank you for uploading your work to CPAN.  Congratulations!
All tests were successful.

Sections of this report:

    * Tester comments
    * Program output
    * Prerequisites
    * Environment and other context

------------------------------
TESTER COMMENTS
------------------------------

Additional comments from tester:

none provided

------------------------------
PROGRAM OUTPUT
------------------------------

Output from 'C:\Perl\bin\perl.EXE ./Build test':

# 
# Versions for all modules listed in MYMETA.json (including optional ones):
# 
# === Configure Requires ===
# 
#     Module               Want  Have
#     ------------------- ----- -----
#     Module::Build::Tiny 0.039 0.039
# 
# === Test Requires ===
# 
#     Module                 Want     Have
#     ---------------------- ---- --------
#     Catalyst                any  5.90100
#     Catalyst::Action        any    undef
#     Catalyst::Action::REST 0.74     1.19
#     Catalyst::Test          any    undef
#     ExtUtils::MakeMaker     any     7.04
#     File::Spec              any     3.47
#     FindBin                 any     1.51
#     Moose::Role             any   2.1600
#     Test::More              any 1.001014
#     lib                     any     0.63
#     namespace::clean        any     0.25
#     parent                  any    0.234
#     strict                  any     1.07
#     warnings                any     1.13
# 
# === Test Recommends ===
# 
#     Module         Want     Have
#     ---------- -------- --------
#     CPAN::Meta 2.120900 2.150005
# 
# === Runtime Requires ===
# 
#     Module                   Want    Have
#     --------------------- ------- -------
#     Catalyst::Controller      any   undef
#     Catalyst::Runtime     5.80025 5.90100
#     Catalyst::Utils           any   undef
#     Class::Load               any    0.23
#     List::Util                any    1.42
#     Moose                     any  2.1600
#     Moose::Meta::Class        any  2.1600
#     MooseX::Types::Moose      any    0.46
#     String::RewritePrefix   0.004   0.007
#     namespace::autoclean      any    0.26
# 
t/00-report-prereqs.t ..... ok
t/action-class.t .......... ok
t/basic.t ................. ok
t/basic_rest.t ............ ok
t/execution-via-config.t .. ok
t/execution-via-does.t .... ok
All tests successful.
Files=6, Tests=44,  6 wallclock secs ( 0.05 usr +  0.01 sys =  0.06 CPU)
Result: PASS

------------------------------
PREREQUISITES
------------------------------

Prerequisite modules loaded:

requires:

    Module                 Need     Have    
    ---------------------- -------- --------
    Catalyst::Controller   0        0       
    Catalyst::Runtime      5.80025  5.90100 
    Catalyst::Utils        0        0       
    Class::Load            0        0.23    
    List::Util             0        1.42    
    Moose                  0        2.1600  
    Moose::Meta::Class     0        2.1600  
    MooseX::Types::Moose   0        0.46    
    namespace::autoclean   0        0.26    
    perl                   5.006    5.016003
    String::RewritePrefix  0.004    0.007   

build_requires:

    Module                 Need     Have    
    ---------------------- -------- --------
    Catalyst               0        5.90100 
    Catalyst::Action       0        0       
    Catalyst::Action::REST 0.74     1.19    
    Catalyst::Test         0        0       
    ExtUtils::MakeMaker    0        7.04    
    File::Spec             0        3.47    
    FindBin                0        1.51    
    lib                    0        0.63    
    Moose::Role            0        2.1600  
    namespace::clean       0        0.25    
    parent                 0        0.234   
    perl                   5.006    5.016003
    strict                 0        1.07    
    Test::More             0        1.001014
    warnings               0        1.13    

configure_requires:

    Module                 Need     Have    
    ---------------------- -------- --------
    Module::Build::Tiny    0.039    0.039   
    perl                   5.006    5.016003

opt_build_requires:

    Module                 Need     Have    
    ---------------------- -------- --------
    CPAN::Meta             2.120900 2.150005


------------------------------
ENVIRONMENT AND OTHER CONTEXT
------------------------------

Environment variables:

    COMSPEC = C:\TCMD\TCC.EXE
    INCLUDE = C:\VS12\VC\INCLUDE;C:\VS12\VC\ATLMFC\INCLUDE;C:\Program Files (x86)\Windows Kits\8.1\include\shared;C:\Program Files (x86)\Windows Kits\8.1\include\um;C:\Program Files (x86)\Windows Kits\8.1\include\winrt;c:\openssl\include;C:\Program Files (x86)\Microsoft SDKs\Windows\v7.1A\Include
    LIB = C:\VS12\VC\LIB;C:\VS12\VC\ATLMFC\LIB;C:\Program Files (x86)\Windows Kits\8.1\lib\winv6.3\um\x86;c:\openssl\lib;C:\VS12\VC\atlmfc\lib;C:\Program Files (x86)\Microsoft SDKs\Windows\v7.1A\Lib;c:\tcl\lib
    NUMBER_OF_PROCESSORS = 4
    PATH = C:\WINDOWS;C:\WINDOWS\System32;C:\WINDOWS\System32\WBEM;C:\usr\bin;C:\TCMD;C:\Utils;C:\Program Files (x86)\Graphviz2.38\bin;C:\Perl\bin;C:\Perl\pdk\bin;C:\Perl\site\bin;C:\Tcl\bin;C:\Python;C:\Python\Scripts;C:\Program Files\RSA SecurID Token Common;C:\ProgramData\Oracle\Java\javapath;C:\Program Files (x86)\MSBuild\12.0\Bin;C:\VS12\Common7\IDE;C:\VS12\VC\bin;C:\VS12\Common7\Tools;C:\Windows\Microsoft.NET\Framework\v4.0.30319;C:\VS12\VC\vcpackages;C:\VS12\Team Tools\Performance Tools;C:\Program Files (x86)\Windows Kits\8.1\bin\x86;C:\Program Files (x86)\Microsoft SDKs\Windows\v8.1A\bin\NETFX 4.5.1 Tools;C:\Program Files (x86)\ImageMagick-6.9.0-Q16;C:\Program Files (x86)\Nmap;C:\Windows\idmu\common;C:\Windows\Microsoft.NET\Framework\v3.5;C:\Program Files (x86)\Microsoft SDKs\Windows\v7.0A\Bin;C:\Windows\System32\WindowsPowerShell\v1.0;C:\Apache24\bin;C:\Program Files\VanDyke Software\Clients;C:\GnuPG\pub;C:\WINDOWS\SYSTEM32\WINDOWSPOWERSHELL\V1.0\;C:\Users\a00772a\AppData\Roaming\Python\Scripts;C:\Program Files (x86)\Nmap
    PERL5LIB = 
    PERL5OPT = 
    PERL5_CPANPLUS_IS_RUNNING = 6196
    PERL5_CPAN_IS_RUNNING = 6196
    PROCESSOR_IDENTIFIER = Intel64 Family 6 Model 60 Stepping 3, GenuineIntel
    TEMP = C:\Users\a00772a\AppData\Local\Temp
    TERM = dumb

Perl special variables (and OS-specific diagnostics, for MSWin32):

    $^X = C:\Perl\bin\perl.EXE
    $UID/$EUID = 0 / 0
    $GID = 0
    $EGID = 0
    Win32::GetOSName = Win7
    Win32::GetOSVersion = Service Pack 1, 6, 1, 7601, 2, 1, 0, 256, 1
    Win32::FsType = NTFS
    Win32::IsAdminUser = 1

Perl module toolchain versions installed:

    Module              Have    
    ------------------- --------
    CPAN                2.10    
    CPAN::Meta          2.150005
    Cwd                 3.47    
    ExtUtils::CBuilder  0.280223
    ExtUtils::Command   1.20    
    ExtUtils::Install   2.04    
    ExtUtils::MakeMaker 7.04    
    ExtUtils::Manifest  1.70    
    ExtUtils::ParseXS   3.24    
    File::Spec          3.47    
    JSON                2.90    
    JSON::PP            2.27300 
    Module::Build       0.4214  
    Module::Signature   0.79    
    Parse::CPAN::Meta   1.4417  
    Test::Harness       3.35    
    Test::More          1.001014
    YAML                1.15    
    YAML::Syck          1.29    
    version             0.9909  


--

Summary of my perl5 (revision 5 version 16 subversion 3) configuration:
   
  Platform:
    osname=MSWin32, osvers=5.2, archname=MSWin32-x86-multi-thread
    uname=''
    config_args='undef'
    hint=recommended, useposix=true, d_sigaction=undef
    useithreads=define, usemultiplicity=define
    useperlio=define, d_sfio=undef, uselargefiles=define, usesocks=undef
    use64bitint=undef, use64bitall=undef, uselongdouble=undef
    usemymalloc=n, bincompat5005=undef
  Compiler:
    cc='cl', ccflags ='-nologo -GF -W3 -MD -Zi -DNDEBUG -O1 -DWIN32 -D_CONSOLE -DNO_STRICT -DPERL_TEXTMODE_SCRIPTS -DUSE_SITECUSTOMIZE -DPERL_IMPLICIT_CONTEXT -DPERL_IMPLICIT_SYS -DUSE_PERLIO -D_USE_32BIT_TIME_T',
    optimize='-MD -Zi -DNDEBUG -O1',
    cppflags='-DWIN32'
    ccversion='18.0.31101', gccversion='', gccosandvers=''
    intsize=4, longsize=4, ptrsize=4, doublesize=8, byteorder=1234
    d_longlong=undef, longlongsize=8, d_longdbl=define, longdblsize=8
    ivtype='long', ivsize=4, nvtype='double', nvsize=8, Off_t='__int64', lseeksize=8
    alignbytes=8, prototype=define
  Linker and Libraries:
    ld='link', ldflags ='-nologo -nodefaultlib -debug -opt:ref,icf  -libpath:"C:\Perl\lib\CORE"  -machine:x86'
    libpth=\lib
    libs=oldnames.lib kernel32.lib user32.lib gdi32.lib winspool.lib  comdlg32.lib advapi32.lib shell32.lib ole32.lib oleaut32.lib  netapi32.lib uuid.lib ws2_32.lib mpr.lib winmm.lib  version.lib odbc32.lib odbccp32.lib comctl32.lib msvcrt.lib
    perllibs=oldnames.lib kernel32.lib user32.lib gdi32.lib winspool.lib  comdlg32.lib advapi32.lib shell32.lib ole32.lib oleaut32.lib  netapi32.lib uuid.lib ws2_32.lib mpr.lib winmm.lib  version.lib odbc32.lib odbccp32.lib comctl32.lib msvcrt.lib
    libc=msvcrt.lib, so=dll, useshrplib=true, libperl=perl516.lib
    gnulibc_version=''
  Dynamic Linking:
    dlsrc=dl_win32.xs, dlext=dll, d_dlsymun=undef, ccdlflags=' '
    cccdlflags=' ', lddlflags='-dll -nologo -nodefaultlib -debug -opt:ref,icf  -libpath:"C:\Perl\lib\CORE"  -machine:x86'


Characteristics of this binary (from libperl): 
  Compile-time options: HAS_TIMES HAVE_INTERP_INTERN MULTIPLICITY
                        PERLIO_LAYERS PERL_DONT_CREATE_GVSV
                        PERL_IMPLICIT_CONTEXT PERL_IMPLICIT_SYS
                        PERL_MALLOC_WRAP PERL_PRESERVE_IVUV PL_OP_SLAB_ALLOC
                        USE_ITHREADS USE_LARGE_FILES USE_LOCALE
                        USE_LOCALE_COLLATE USE_LOCALE_CTYPE
                        USE_LOCALE_NUMERIC USE_PERLIO USE_PERL_ATOF
                        USE_SITECUSTOMIZE
  Locally applied patches:
	ActivePerl Build 1604 [298023]
  Built under MSWin32
  Compiled at Apr 14 2014 14:32:20
  %ENV:
    PERL5_CPANPLUS_IS_RUNNING="6196"
    PERL5_CPAN_IS_RUNNING="6196"
  @INC:
    C:/Perl/site/lib
    C:/Perl/lib
    .