XML-RSS v1.61 Perl 5 v5.32.0 RC0 amd64-freebsd

Status
Pass
From
Carlos Guevara
Dist
XML-RSS v1.61
Platform
Perl 5 v5.32.0 RC0 amd64-freebsd
Date
2020-03-24 07:39:50
ID
a4b24f6c-6da2-11ea-9e8c-1e6877036d83
This distribution has been tested as part of the CPAN Testers
project, supporting the Perl programming language.  See
http://wiki.cpantesters.org/ for more information or email
questions to cpan-testers-discuss@perl.org


--
Dear Shlomi Fish,

This is a computer-generated report for XML-RSS-1.61
on perl 5.32.0, created by CPAN-Reporter-1.2018.

Thank you for uploading your work to CPAN.  Congratulations!
All tests were successful.

Sections of this report:

    * Tester comments
    * Program output
    * Prerequisites
    * Environment and other context

------------------------------
TESTER COMMENTS
------------------------------

Additional comments from tester:

none provided

------------------------------
PROGRAM OUTPUT
------------------------------

Output from './Build test':

t/0.9-generate.t ...................... ok
t/0.9-parse.t ......................... ok
t/0.9-strict.t ........................ ok
t/0.91-parse.t ........................ ok
t/00-compile.t ........................ ok
t/1.0-gen-errors-on-missing-fields.t .. ok
t/1.0-generate.t ...................... ok
t/1.0-parse-2.t ....................... ok
t/1.0-parse-exotic.t .................. ok
t/1.0-parse.t ......................... ok
t/1.0-to-2.0.t ........................ ok
t/2.0-generate.t ...................... ok
t/2.0-modules.t ....................... ok
t/2.0-parse-2.t ....................... ok
t/2.0-parse-cloud.t ................... ok
t/2.0-parse-self.t .................... ok
t/2.0-parse.t ......................... ok
t/2.0-permalink.t ..................... ok
t/2.0-wo-title.t ...................... ok
t/add-item-insert-vs-append.t ......... ok
t/auto_add_modules.t .................. ok
t/charset1.t .......................... ok
t/cpan-changes.t ...................... ok
t/enclosures-multi.t .................. ok
t/enclosures.t ........................ ok
t/enclosures2.t ....................... ok
t/encode-output.t ..................... ok
t/encoding.t .......................... ok
t/guid.t .............................. ok
t/load.t .............................. ok
t/pod-coverage.t ...................... ok
t/pod.t ............................... ok
t/render-upon-init.t .................. ok
t/rss2-gt-encoding.t .................. ok
t/save-while-in-taint-mode.t .......... ok
t/style-trailing-space.t .............. skipped: Test::TrailingSpace required for trailing space test.
t/subcategory.t ....................... ok
t/test-generated-items.t .............. ok
t/version.t ........................... ok
t/xml-base.t .......................... ok
t/xml-header.t ........................ ok
All tests successful.
Files=41, Tests=468, 18 wallclock secs ( 0.16 usr  0.12 sys + 13.38 cusr  4.12 csys = 17.77 CPU)
Result: PASS

------------------------------
PREREQUISITES
------------------------------

Prerequisite modules loaded:

requires:

    Module                   Need  Have    
    ------------------------ ----- --------
    Carp                     0     1.50    
    DateTime::Format::Mail   0     0.403   
    DateTime::Format::W3CDTF 0     0.07    
    HTML::Entities           0     3.69    
    perl                     5.008 5.032000
    strict                   0     1.11    
    vars                     0     1.05    
    warnings                 0     1.46    
    XML::Parser              0     2.46    

build_requires:

    Module                   Need  Have    
    ------------------------ ----- --------
    constant                 0     1.33    
    File::Find               0     1.37    
    File::Spec               0     3.78    
    IO::Handle               0     1.42    
    IPC::Open3               0     1.21    
    Module::Build            0.28  0.4231  
    POSIX                    0     1.93    
    Test::More               0.88  1.302172

configure_requires:

    Module                   Need  Have    
    ------------------------ ----- --------
    ExtUtils::MakeMaker      0     7.44    
    Module::Build            0.28  0.4231  


------------------------------
ENVIRONMENT AND OTHER CONTEXT
------------------------------

Environment variables:

    LC_ALL = C
    NONINTERACTIVE_TESTING = 1
    PATH = /home/cpan/bin/perl-blead/bin:/home/cpan/bin:/sbin:/bin:/usr/sbin:/usr/bin:/usr/local/sbin:/usr/local/bin:/home/cpan/bin
    PERL5LIB = 
    PERL5OPT = 
    PERL5_CPANPLUS_IS_RUNNING = 53967
    PERL5_CPAN_IS_RUNNING = 53967
    PERL_MM_USE_DEFAULT = 1
    PERL_USE_UNSAFE_INC = 1
    PERL_VERSION = blead
    SHELL = /usr/local/bin/bash
    TERM = screen.xterm-256color
    TMPDIR = /home/cpan/tmp

Perl special variables (and OS-specific diagnostics, for MSWin32):

    $^X = /usr/home/cpan/bin/perl-blead/bin/perl5.32.0
    $UID/$EUID = 1002 / 1002
    $GID = 1002 1002
    $EGID = 1002 1002

Perl module toolchain versions installed:

    Module              Have    
    ------------------- --------
    CPAN                2.27    
    CPAN::Meta          2.150010
    Cwd                 3.78    
    ExtUtils::CBuilder  0.280234
    ExtUtils::Command   7.44    
    ExtUtils::Install   2.14    
    ExtUtils::MakeMaker 7.44    
    ExtUtils::Manifest  1.72    
    ExtUtils::ParseXS   3.40    
    File::Spec          3.78    
    JSON                4.02    
    JSON::PP            4.04    
    Module::Build       0.4231  
    Module::Signature   n/a     
    Parse::CPAN::Meta   2.150010
    Test::Harness       3.42    
    Test::More          1.302172
    YAML                1.30    
    YAML::Syck          1.32    
    version             0.9924  


--

Summary of my perl5 (revision 5 version 32 subversion 0) configuration:
  Commit id: afd41ae4e769eb6f4f106977edabdca9ab36b497
  Platform:
    osname=freebsd
    osvers=12.1-release-p3
    archname=amd64-freebsd
    uname='freebsd cjg-freebsd12 12.1-release-p3 freebsd 12.1-release-p3 generic amd64 '
    config_args='-des -Dprefix=~/bin/perl-blead -Dscriptdir=~/bin/perl-blead/bin -Dusedevel -Duse64bitall'
    hint=recommended
    useposix=true
    d_sigaction=define
    useithreads=undef
    usemultiplicity=undef
    use64bitint=define
    use64bitall=define
    uselongdouble=undef
    usemymalloc=n
    default_inc_excludes_dot=define
    bincompat5005=undef
  Compiler:
    cc='cc'
    ccflags ='-DHAS_FPSETMASK -DHAS_FLOATINGPOINT_H -fno-strict-aliasing -pipe -fstack-protector-strong -I/usr/local/include -D_FORTIFY_SOURCE=2'
    optimize='-O2'
    cppflags='-DHAS_FPSETMASK -DHAS_FLOATINGPOINT_H -fno-strict-aliasing -pipe -fstack-protector-strong -I/usr/local/include'
    ccversion=''
    gccversion='4.2.1 Compatible FreeBSD Clang 8.0.1 (tags/RELEASE_801/final 366581)'
    gccosandvers=''
    intsize=4
    longsize=8
    ptrsize=8
    doublesize=8
    byteorder=12345678
    doublekind=3
    d_longlong=define
    longlongsize=8
    d_longdbl=define
    longdblsize=16
    longdblkind=3
    ivtype='long'
    ivsize=8
    nvtype='double'
    nvsize=8
    Off_t='off_t'
    lseeksize=8
    alignbytes=8
    prototype=define
  Linker and Libraries:
    ld='cc'
    ldflags ='-Wl,-E  -fstack-protector-strong -L/usr/local/lib'
    libpth=/usr/lib /usr/local/lib /usr/lib/clang/8.0.1/lib /usr/lib
    libs=-lpthread -lgdbm -ldl -lm -lcrypt -lutil -lc
    perllibs=-lpthread -ldl -lm -lcrypt -lutil -lc
    libc=
    so=so
    useshrplib=false
    libperl=libperl.a
    gnulibc_version=''
  Dynamic Linking:
    dlsrc=dl_dlopen.xs
    dlext=so
    d_dlsymun=undef
    ccdlflags=' '
    cccdlflags='-DPIC -fPIC'
    lddlflags='-shared  -L/usr/local/lib -fstack-protector-strong'


Characteristics of this binary (from libperl): 
  Compile-time options:
    HAS_TIMES
    PERLIO_LAYERS
    PERL_COPY_ON_WRITE
    PERL_DONT_CREATE_GVSV
    PERL_MALLOC_WRAP
    PERL_OP_PARENT
    PERL_PRESERVE_IVUV
    PERL_USE_DEVEL
    USE_64_BIT_ALL
    USE_64_BIT_INT
    USE_LARGE_FILES
    USE_LOCALE
    USE_LOCALE_COLLATE
    USE_LOCALE_CTYPE
    USE_LOCALE_NUMERIC
    USE_LOCALE_TIME
    USE_PERLIO
    USE_PERL_ATOF
  Locally applied patches:
    RC0
  Built under freebsd
  Compiled at Mar 23 2020 21:38:46
  %ENV:
    PERL5LIB=""
    PERL5OPT=""
    PERL5_CPANPLUS_IS_RUNNING="53967"
    PERL5_CPAN_IS_RUNNING="53967"
    PERL_MM_USE_DEFAULT="1"
    PERL_USE_UNSAFE_INC="1"
    PERL_VERSION="blead"
  @INC:
    /home/cpan/bin/perl-blead/lib/site_perl/5.32.0/amd64-freebsd
    /home/cpan/bin/perl-blead/lib/site_perl/5.32.0
    /home/cpan/bin/perl-blead/lib/5.32.0/amd64-freebsd
    /home/cpan/bin/perl-blead/lib/5.32.0
    .