Back
From: metabase:user:9820532a-708b-1014-9a05-b18a96298da1
Subject: PASS POE-Component-Client-SMTP-0.22 v5.14.2 GNU/Linux
Date: 2011-12-12T09:42:44Z
This distribution has been tested as part of the CPAN Testers
project, supporting the Perl programming language. See
http://wiki.cpantesters.org/ for more information or email
questions to cpan-testers-discuss@perl.org
--
Dear George Nistorica,
This is a computer-generated report for POE-Component-Client-SMTP-0.22
on perl 5.14.2, created by CPAN-Reporter-1.2003.
Thank you for uploading your work to CPAN. Congratulations!
All tests were successful.
Sections of this report:
* Tester comments
* Program output
* Prerequisites
* Environment and other context
------------------------------
TESTER COMMENTS
------------------------------
Additional comments from tester:
this report is from an automated smoke testing program
and was not reviewed by a human for accuracy
------------------------------
PROGRAM OUTPUT
------------------------------
Output from './Build test':
# Testing POE::Component::Client::SMTP 0.22, Perl 5.014002, /home/test/perl5/perlbrew/perls/perl-5.14.2-ld/bin/perl
t/00-load.t ......................... ok
ClientFilter ignored with ClientInputFilter and ClientOutputFilter at t/010-send-simple.t line 58
t/010-send-simple.t ................. ok
ClientFilter ignored with ClientInputFilter and ClientOutputFilter at t/015-receive-5XY-code.t line 59
t/015-receive-5XY-code.t ............ ok
ClientFilter ignored with ClientInputFilter and ClientOutputFilter at t/015-receive-DATA-5XY-code.t line 59
t/015-receive-DATA-5XY-code.t ....... ok
ClientFilter ignored with ClientInputFilter and ClientOutputFilter at t/017-unknown-code.t line 60
t/017-unknown-code.t ................ ok
t/018-consolidated_error_message.t .. ok
ClientFilter ignored with ClientInputFilter and ClientOutputFilter at t/020-send-using-all-params.t line 59
# All Params
t/020-send-using-all-params.t ....... ok
ClientFilter ignored with ClientInputFilter and ClientOutputFilter at t/025-timeout.t line 29
t/025-timeout.t ..................... ok
ClientFilter ignored with ClientInputFilter and ClientOutputFilter at t/030-auth-plain1.t line 77
# Test PLAIN AUTH
t/030-auth-plain1.t ................. ok
Possible attempt to separate words with commas at t/040-transaction-log.t line 47.
ClientFilter ignored with ClientInputFilter and ClientOutputFilter at t/040-transaction-log.t line 71
t/040-transaction-log.t ............. ok
ClientFilter ignored with ClientInputFilter and ClientOutputFilter at t/045-messagefile-filehandle.t line 68
t/045-messagefile-filehandle.t ...... ok
ClientFilter ignored with ClientInputFilter and ClientOutputFilter at t/050-send-with-bcc-cc.t line 58
# Send, To, CC, BCC
t/050-send-with-bcc-cc.t ............ ok
ClientFilter ignored with ClientInputFilter and ClientOutputFilter at t/060-send-defaults.t line 75
Use of uninitialized value $state in exists at /home/test/perl5/perlbrew/perls/perl-5.14.2-ld/lib/site_perl/5.14.2/POE/Session.pm line 420.
# Defaults
t/060-send-defaults.t ............... ok
ClientFilter ignored with ClientInputFilter and ClientOutputFilter at t/070-test-error-return.t line 59
t/070-test-error-return.t ........... ok
# Testing SMTP Transparency
# using POE::Component::Client::SMTP VERSION: 0.22
Use of uninitialized value $_ in concatenation (.) or string at /home/test/perl5/perlbrew/perls/perl-5.14.2-ld/lib/site_perl/5.14.2/POE/Filter/Line.pm line 225.
t/080-transparent.t ................. ok
# Using POE::Component::Client::SMTP version: 0.22
t/085-transparent_file.t ............ ok
# Using POE::Component::Client::SMTP version: 0.22
t/090-server_drops_data.t ........... ok
t/pod-coverage.t .................... ok
t/pod.t ............................. ok
All tests successful.
Files=19, Tests=67, 6 wallclock secs ( 0.09 usr 0.03 sys + 2.20 cusr 0.47 csys = 2.79 CPU)
Result: PASS
------------------------------
PREREQUISITES
------------------------------
Prerequisite modules loaded:
requires:
Module Need Have
------------------------------ ---- --------
Carp 0 1.23
Data::Dumper 0 2.131
perl 0 5.014002
POE 0.26 1.312
POE::Filter::Line 0 1.312
POE::Filter::Stream 0 1.312
POE::Filter::Transparent::SMTP 0.2 0.2
POE::Wheel::ReadWrite 0 1.312
POE::Wheel::SocketFactory 0 1.312
Socket 0 1.96
Symbol 0 1.07
Test::More 0 0.98
configure_requires:
Module Need Have
------------------------------ ---- --------
ExtUtils::MakeMaker 0 6.63_02
------------------------------
ENVIRONMENT AND OTHER CONTEXT
------------------------------
Environment variables:
AUTOMATED_TESTING = 1
LANG = C
LC_ALL = C
PATH = /home/test/perl5/perlbrew/bin:/home/test/perl5/perlbrew/perls/perl-5.14.2-ld/bin:/home/test/bin:~/bin:/usr/bin:/bin
PATH_WITHOUT_PERLBREW = /home/test/bin:~/bin:/usr/bin:/bin
PERL5LIB =
PERL5OPT =
PERL5_CPANPLUS_IS_RUNNING = 1826
PERL5_CPAN_IS_RUNNING = 1826
PERL5_CPAN_IS_RUNNING_IN_RECURSION = 22690,1826
PERLBREW_BASHRC_VERSION = 0.33
PERLBREW_HOME = /home/test/.perlbrew
PERLBREW_PATH = /home/test/perl5/perlbrew/bin:/home/test/perl5/perlbrew/perls/perl-5.14.2-ld/bin
PERLBREW_PERL = perl-5.14.2-ld
PERLBREW_ROOT = /home/test/perl5/perlbrew
PERLBREW_VERSION = 0.33
PERL_CPANM_OPT = --prompt --mirror file:///mirrors/cpan/
PERL_CR_SMOKER_CURRENT = POE-Component-Server-SimpleSMTP-1.50
PERL_EXTUTILS_AUTOINSTALL = --defaultdeps
PERL_MM_USE_DEFAULT = 1
SHELL = /bin/bash
TERM = linux
Perl special variables (and OS-specific diagnostics, for MSWin32):
$^X = /home/test/perl5/perlbrew/perls/perl-5.14.2-ld/bin/perl
$UID/$EUID = 1001 / 1001
$GID = 1001 1001
$EGID = 1001 1001
Perl module toolchain versions installed:
Module Have
------------------- --------
CPAN 1.9800
CPAN::Meta 2.112621
Cwd 3.36
ExtUtils::CBuilder 0.280202
ExtUtils::Command 1.17
ExtUtils::Install 1.56
ExtUtils::MakeMaker 6.63_02
ExtUtils::Manifest 1.60
ExtUtils::ParseXS 3.07
File::Spec 3.33
JSON 2.53
JSON::PP 2.27200
Module::Build 0.3800
Module::Signature n/a
Parse::CPAN::Meta 1.4401
Test::Harness 3.23
Test::More 0.98
YAML 0.73
YAML::Syck 1.19
version 0.95
--
Summary of my perl5 (revision 5 version 14 subversion 2) configuration:
Platform:
osname=linux, osvers=2.6.35-28-generic, archname=x86_64-linux-ld
uname='linux zippy 2.6.35-28-generic #50-ubuntu smp fri mar 18 18:42:20 utc 2011 x86_64 gnulinux '
config_args='-de -Dprefix=/home/test/perl5/perlbrew/perls/perl-5.14.2-ld -Duselongdouble'
hint=recommended, useposix=true, d_sigaction=define
useithreads=undef, usemultiplicity=undef
useperlio=define, d_sfio=undef, uselargefiles=define, usesocks=undef
use64bitint=define, use64bitall=define, uselongdouble=define
usemymalloc=n, bincompat5005=undef
Compiler:
cc='cc', ccflags ='-fno-strict-aliasing -pipe -fstack-protector -I/usr/local/include -D_LARGEFILE_SOURCE -D_FILE_OFFSET_BITS=64',
optimize='-O2',
cppflags='-fno-strict-aliasing -pipe -fstack-protector -I/usr/local/include'
ccversion='', gccversion='4.4.5', gccosandvers=''
intsize=4, longsize=8, ptrsize=8, doublesize=8, byteorder=12345678
d_longlong=define, longlongsize=8, d_longdbl=define, longdblsize=16
ivtype='long', ivsize=8, nvtype='long double', nvsize=16, Off_t='off_t', lseeksize=8
alignbytes=16, prototype=define
Linker and Libraries:
ld='cc', ldflags =' -fstack-protector -L/usr/local/lib'
libpth=/usr/local/lib /lib/../lib /usr/lib/../lib /lib /usr/lib /usr/lib/x86_64-linux-gnu /lib64 /usr/lib64
libs=-lnsl -ldl -lm -lcrypt -lutil -lc
perllibs=-lnsl -ldl -lm -lcrypt -lutil -lc
libc=/lib/libc-2.12.1.so, so=so, useshrplib=false, libperl=libperl.a
gnulibc_version='2.12.1'
Dynamic Linking:
dlsrc=dl_dlopen.xs, dlext=so, d_dlsymun=undef, ccdlflags='-Wl,-E'
cccdlflags='-fPIC', lddlflags='-shared -O2 -L/usr/local/lib -fstack-protector'
Characteristics of this binary (from libperl):
Compile-time options: PERL_DONT_CREATE_GVSV PERL_MALLOC_WRAP
PERL_PRESERVE_IVUV USE_64_BIT_ALL USE_64_BIT_INT
USE_LARGE_FILES USE_LONG_DOUBLE USE_PERLIO
USE_PERL_ATOF
Built under linux
Compiled at Dec 8 2011 17:51:23
%ENV:
PERL5LIB=""
PERL5OPT=""
PERL5_CPANPLUS_IS_RUNNING="1826"
PERL5_CPAN_IS_RUNNING="1826"
PERL5_CPAN_IS_RUNNING_IN_RECURSION="22690,1826"
PERLBREW_BASHRC_VERSION="0.33"
PERLBREW_HOME="/home/test/.perlbrew"
PERLBREW_PATH="/home/test/perl5/perlbrew/bin:/home/test/perl5/perlbrew/perls/perl-5.14.2-ld/bin"
PERLBREW_PERL="perl-5.14.2-ld"
PERLBREW_ROOT="/home/test/perl5/perlbrew"
PERLBREW_VERSION="0.33"
PERL_CPANM_OPT="--prompt --mirror file:///mirrors/cpan/"
PERL_CR_SMOKER_CURRENT="POE-Component-Server-SimpleSMTP-1.50"
PERL_EXTUTILS_AUTOINSTALL="--defaultdeps"
PERL_MM_USE_DEFAULT="1"
@INC:
/home/test/perl5/perlbrew/perls/perl-5.14.2-ld/lib/site_perl/5.14.2/x86_64-linux-ld
/home/test/perl5/perlbrew/perls/perl-5.14.2-ld/lib/site_perl/5.14.2
/home/test/perl5/perlbrew/perls/perl-5.14.2-ld/lib/5.14.2/x86_64-linux-ld
/home/test/perl5/perlbrew/perls/perl-5.14.2-ld/lib/5.14.2
.