Back
From: metabase:user:314402c4-2aae-11df-837a-5e0a49663a4f
Subject: PASS CGI-Application-Framework-0.26 v5.25.12 GNU/Linux
Date: 2017-04-25T23:05:15Z
This distribution has been tested as part of the CPAN Testers
project, supporting the Perl programming language. See
http://wiki.cpantesters.org/ for more information or email
questions to cpan-testers-discuss@perl.org
--
Dear Richard Dice,
This is a computer-generated report for CGI-Application-Framework-0.26
on perl 5.25.12, created by CPAN-Reporter-1.2018.
Thank you for uploading your work to CPAN. Congratulations!
All tests were successful.
Sections of this report:
* Tester comments
* Program output
* Prerequisites
* Environment and other context
------------------------------
TESTER COMMENTS
------------------------------
Additional comments from tester:
none provided
------------------------------
PROGRAM OUTPUT
------------------------------
Output from './Build test':
# Testing CGI::Application::Framework 0.26
t/00-load.t ................ ok
t/01-initial_login_page.t .. ok
t/02-login_attempts.t ...... ok
t/04-session.t ............. ok
CGI::param called in list context from /home/cpansand/.cpan/build/2017042521/CGI-Application-Framework-0.26-0/blib/lib/CGI/Application/Framework.pm line 2977, this can lead to vulnerabilities. See the warning in "Fetching the value or values of a single named parameter" at /opt/perl-5.25.12/lib/site_perl/5.25.12/CGI.pm line 412, <GEN17> line 12.
t/05-relogin.t ............. ok
t/06-make_link.t ........... ok
t/08-template.t ............ ok
t/09-log.t ................. ok
t/10-run_app.t ............. ok
t/pod-coverage.t ........... ok
t/pod.t .................... ok
All tests successful.
Files=11, Tests=165, 7 wallclock secs ( 0.08 usr 0.01 sys + 5.21 cusr 0.52 csys = 5.82 CPU)
Result: PASS
------------------------------
PREREQUISITES
------------------------------
Prerequisite modules loaded:
requires:
Module Need Have
----------------------------------------- ------ ----------
Apache::Session 0 1.93
Apache::SessionX 0 2.01
CGI 0 4.36
CGI::Application 4 4.50
CGI::Application::Plugin::AnyTemplate 0.11 0.18
CGI::Application::Plugin::Config::Context 0 0.18
CGI::Application::Plugin::LogDispatch 0 1.02
CGI::Application::Plugin::ValidateRM 0 2.5
CGI::Carp 0 4.36
CGI::Enurl 0 1.07
Class::DBI 0 3.0.17
Class::DBI::AbstractSearch 0 0.07
Class::DBI::Loader 0.22 0.34
Class::DBI::SQLite 0 0.11
Config::General 2.28 2.63
Data::Dumper 0 2.161
Date::Manip 0 6.58
DB_File 0 1.840
DBD::SQLite 1.09 1.54
DBI 0 1.636
Digest::MD5 0 2.55
HTML::Template 0 2.95
IPC::Shareable 0 0.61
Log::Dispatch 0 2.63
Log::Dispatch::Config 0 1.04
Module::Build 0.2602 0.4222
Module::Load 0 0.32
Regexp::Common 0 2017040401
Test::More 0 1.302083
Text::CSV_XS 0 1.29
Time::Format 0 1.12
Time::HiRes 0 1.9742
URI 0 1.71
------------------------------
ENVIRONMENT AND OTHER CONTEXT
------------------------------
Environment variables:
LANG = en_US.UTF-8
PATH = /usr/local/bin:/usr/bin:/bin:/usr/local/sbin:/usr/sbin:/sbin:/home/cpansand/bin/linux-gnu:/home/cpansand/bin/sh:/home/cpansand/bin:/usr/games:/home/cpansand/devel:/home/eserte/src/srezic-misc/scripts
PERL5LIB =
PERL5OPT =
PERL5_CPANPLUS_IS_RUNNING = 870
PERL5_CPAN_IS_RUNNING = 870
PERL5_CPAN_IS_RUNNING_IN_RECURSION = 21889,870
PERLDOC = -MPod::Perldoc::ToTextOverstrike
PERL_BATCH = yes
PERL_CANARY_STABILITY_NOPROMPT = 1
PERL_CPAN_REPORTER_CONFIG = /var/tmp/cpansmoker-1002/2017042509/cpanreporter_000_config.ini
PERL_EXTUTILS_AUTOINSTALL = --defaultdeps
PERL_USE_UNSAFE_INC = 1
SHELL = /bin/zsh
TERM = screen
TMPDIR = /var/tmp/cpansmoker-1002/2017042509
Perl special variables (and OS-specific diagnostics, for MSWin32):
$^X = /opt/perl-5.25.12/bin/perl5.25.12
$UID/$EUID = 1002 / 1002
$GID = 1002 1002
$EGID = 1002 1002
Perl module toolchain versions installed:
Module Have
------------------- --------
CPAN 2.18
CPAN::Meta 2.150010
Cwd 3.62
ExtUtils::CBuilder 0.280224
ExtUtils::Command 7.24
ExtUtils::Install 2.04
ExtUtils::MakeMaker 7.24
ExtUtils::Manifest 1.70
ExtUtils::ParseXS 3.30
File::Spec 3.62
JSON 2.90
JSON::PP 2.27400
Module::Build 0.4222
Module::Signature 0.81
Parse::CPAN::Meta 2.150010
Test::Harness 3.39
Test::More 1.302083
YAML 1.23
YAML::Syck 1.30
version 0.9917
--
Summary of my perl5 (revision 5 version 25 subversion 12) configuration:
Platform:
osname=linux
osvers=4.4.0-72-generic
archname=x86_64-linux
uname='linux prod3 4.4.0-72-generic #93-ubuntu smp fri mar 31 14:07:41 utc 2017 x86_64 x86_64 x86_64 gnulinux '
config_args='-ds -e -Dprefix=/opt/perl-5.25.12 -Dusedevel -Dusemallocwrap=no -Dcf_email=srezic@cpan.org'
hint=recommended
useposix=true
d_sigaction=define
useithreads=undef
usemultiplicity=undef
use64bitint=define
use64bitall=define
uselongdouble=undef
usemymalloc=n
default_inc_excludes_dot=define
bincompat5005=undef
Compiler:
cc='cc'
ccflags ='-fwrapv -fno-strict-aliasing -pipe -fstack-protector-strong -I/usr/local/include -D_LARGEFILE_SOURCE -D_FILE_OFFSET_BITS=64'
optimize='-O2'
cppflags='-fwrapv -fno-strict-aliasing -pipe -fstack-protector-strong -I/usr/local/include'
ccversion=''
gccversion='5.4.0 20160609'
gccosandvers=''
intsize=4
longsize=8
ptrsize=8
doublesize=8
byteorder=12345678
doublekind=3
d_longlong=define
longlongsize=8
d_longdbl=define
longdblsize=16
longdblkind=3
ivtype='long'
ivsize=8
nvtype='double'
nvsize=8
Off_t='off_t'
lseeksize=8
alignbytes=8
prototype=define
Linker and Libraries:
ld='cc'
ldflags =' -fstack-protector-strong -L/usr/local/lib'
libpth=/usr/local/lib /usr/lib/gcc/x86_64-linux-gnu/5/include-fixed /usr/include/x86_64-linux-gnu /usr/lib /lib/x86_64-linux-gnu /lib/../lib /usr/lib/x86_64-linux-gnu /usr/lib/../lib /lib
libs=-lpthread -lnsl -lgdbm -ldb -ldl -lm -lcrypt -lutil -lc -lgdbm_compat
perllibs=-lpthread -lnsl -ldl -lm -lcrypt -lutil -lc
libc=libc-2.23.so
so=so
useshrplib=false
libperl=libperl.a
gnulibc_version='2.23'
Dynamic Linking:
dlsrc=dl_dlopen.xs
dlext=so
d_dlsymun=undef
ccdlflags='-Wl,-E'
cccdlflags='-fPIC'
lddlflags='-shared -O2 -L/usr/local/lib -fstack-protector-strong'
Characteristics of this binary (from libperl):
Compile-time options:
HAS_TIMES
PERLIO_LAYERS
PERL_COPY_ON_WRITE
PERL_DONT_CREATE_GVSV
PERL_OP_PARENT
PERL_PRESERVE_IVUV
PERL_USE_DEVEL
USE_64_BIT_ALL
USE_64_BIT_INT
USE_LARGE_FILES
USE_LOCALE
USE_LOCALE_COLLATE
USE_LOCALE_CTYPE
USE_LOCALE_NUMERIC
USE_LOCALE_TIME
USE_PERLIO
USE_PERL_ATOF
Built under linux
Compiled at Apr 20 2017 19:58:01
%ENV:
PERL5LIB=""
PERL5OPT=""
PERL5_CPANPLUS_IS_RUNNING="870"
PERL5_CPAN_IS_RUNNING="870"
PERL5_CPAN_IS_RUNNING_IN_RECURSION="21889,870"
PERLDOC="-MPod::Perldoc::ToTextOverstrike"
PERL_BATCH="yes"
PERL_CANARY_STABILITY_NOPROMPT="1"
PERL_CPAN_REPORTER_CONFIG="/var/tmp/cpansmoker-1002/2017042509/cpanreporter_000_config.ini"
PERL_EXTUTILS_AUTOINSTALL="--defaultdeps"
PERL_USE_UNSAFE_INC="1"
@INC:
/opt/perl-5.25.12/lib/site_perl/5.25.12/x86_64-linux
/opt/perl-5.25.12/lib/site_perl/5.25.12
/opt/perl-5.25.12/lib/5.25.12/x86_64-linux
/opt/perl-5.25.12/lib/5.25.12
.