Catalyst-View-RRDGraph v0.10 Perl 5 v5.37.5 x86_64-linux
- Status
- Pass
- From
- Andreas J. König (ANDK)
- Dist
-
Catalyst-View-RRDGraph v0.10
- Platform
- Perl 5 v5.37.5 x86_64-linux
- Date
- 2022-11-18 07:14:28
- ID
- a41a18d6-6710-11ed-812f-c1379cf5f90f
This distribution has been tested as part of the CPAN Testers
project, supporting the Perl programming language. See
http://wiki.cpantesters.org/ for more information or email
questions to cpan-testers-discuss@perl.org
--
Dear Miquel Ruiz Martin,
This is a computer-generated report for Catalyst-View-RRDGraph-0.10
on perl 5.37.5, created by CPAN-Reporter-1.2018.
Thank you for uploading your work to CPAN. Congratulations!
All tests were successful.
Sections of this report:
* Tester comments
* Program output
* Prerequisites
* Environment and other context
------------------------------
TESTER COMMENTS
------------------------------
Additional comments from tester:
this report is from an automated smoke testing program
and was not reviewed by a human for accuracy
------------------------------
PROGRAM OUTPUT
------------------------------
Output from '/usr/bin/make test':
PERL_DL_NONLAZY=1 "/tmp/basesmoker-reloperl-BaSC/bin/perl" "-MExtUtils::Command::MM" "-MTest::Harness" "-e" "undef *Test::Harness::Switches; test_harness(0, 'blib/lib', 'blib/arch')" t/*.t
t/001_load.t ............ ok
t/002_process.t ......... ok
[debug] Debug messages enabled
[debug] Statistics enabled
[debug] Loaded PSGI Middleware:
.----------------------------------------------------------------------------.
| Catalyst::Middleware::Stash |
| Plack::Middleware::HTTPExceptions |
| Plack::Middleware::RemoveRedundantBody 0.09 |
| Plack::Middleware::FixMissingBodyInRedirect 0.12 |
| Plack::Middleware::ContentLength |
| Plack::Middleware::MethodOverride 0.20 |
| Plack::Middleware::Head |
'----------------------------------------------------------------------------'
[debug] Loaded Request Data Handlers:
.----------------------------------------------------------------------------.
| application/x-www-form-urlencoded |
| application/json |
'----------------------------------------------------------------------------'
[debug] Loaded dispatcher "Catalyst::Dispatcher"
[debug] Loaded engine "Catalyst::Engine"
[debug] Found home "/tmp/loop_over_bdir-9853-VMv97Q/Catalyst-View-RRDGraph-0.10-0/t/lib/RRDGraphTest003"
[debug] Loaded components:
.-----------------------------------------------------------------+----------.
| Class | Type |
+-----------------------------------------------------------------+----------+
| RRDGraphTest003::Controller::Root | instance |
| RRDGraphTest003::View::RRDNormal | instance |
| RRDGraphTest003::View::RRDOnServe | instance |
| RRDGraphTest003::View::RRDOnServeFunction | instance |
'-----------------------------------------------------------------+----------'
[debug] Loaded Private actions:
.----------------------+--------------------------------------+--------------.
| Private | Class | Method |
+----------------------+--------------------------------------+--------------+
| /zero_byte_error_no- | RRDGraphTest003::Controller::Root | zero_byte_e- |
| rmal | | rror_normal |
| /image_error | RRDGraphTest003::Controller::Root | image_error |
| /zero_byte_error_fu- | RRDGraphTest003::Controller::Root | zero_byte_e- |
| nction | | rror_functi- |
| | | on |
| /image_error_normal | RRDGraphTest003::Controller::Root | image_error- |
| | | _normal |
| /zero_byte_error | RRDGraphTest003::Controller::Root | zero_byte_e- |
| | | rror |
| /image_error_functi- | RRDGraphTest003::Controller::Root | image_error- |
| on | | _function |
'----------------------+--------------------------------------+--------------'
[debug] Loaded Path actions:
.-------------------------------------+--------------------------------------.
| Path | Private |
+-------------------------------------+--------------------------------------+
| /image_error/... | /image_error |
| /image_error_function/... | /image_error_function |
| /image_error_normal/... | /image_error_normal |
| /zero_byte_error/... | /zero_byte_error |
| /zero_byte_error_function/... | /zero_byte_error_function |
| /zero_byte_error_normal/... | /zero_byte_error_normal |
'-------------------------------------+--------------------------------------'
[info] RRDGraphTest003 powered by Catalyst 5.90130
[info] *** Request 1 (1.000/s) [3214995] [Fri Nov 18 07:10:37 2022] ***
[debug] Path is "zero_byte_error"
[debug] "GET" request for "zero_byte_error" from "127.0.0.1"
[error] RRDgraph is 0 bytes
[debug] Static::Simple: Serving static file: error_image.png as image/png
[debug] Response Code: 200; Content-Type: image/png; Content-Length: 14
[info] Request took 0.007162s (139.626/s)
.------------------------------------------------------------+-----------.
| Action | Time |
+------------------------------------------------------------+-----------+
| /zero_byte_error | 0.004143s |
| -> RRDGraphTest003::View::RRDOnServe->process | 0.003867s |
'------------------------------------------------------------+-----------'
[info] *** Request 2 (2.000/s) [3214995] [Fri Nov 18 07:10:37 2022] ***
[debug] Path is "image_error"
[debug] "GET" request for "image_error" from "127.0.0.1"
[error] Unknown option
[debug] Static::Simple: Serving static file: error_image.png as image/png
[debug] Response Code: 200; Content-Type: image/png; Content-Length: 14
[info] Request took 0.002917s (342.818/s)
.------------------------------------------------------------+-----------.
| Action | Time |
+------------------------------------------------------------+-----------+
| /image_error | 0.001132s |
| -> RRDGraphTest003::View::RRDOnServe->process | 0.000907s |
'------------------------------------------------------------+-----------'
[info] *** Request 3 (3.000/s) [3214995] [Fri Nov 18 07:10:37 2022] ***
[debug] Path is "zero_byte_error_normal"
[debug] "GET" request for "zero_byte_error_normal" from "127.0.0.1"
[error] RRDgraph is 0 bytes
[debug] Response Code: 500; Content-Type: text/html; charset=utf-8; Content-Length: unknown
[info] Request took 0.005217s (191.681/s)
.------------------------------------------------------------+-----------.
| Action | Time |
+------------------------------------------------------------+-----------+
| /zero_byte_error_normal | 0.001032s |
| -> RRDGraphTest003::View::RRDNormal->process | 0.000676s |
'------------------------------------------------------------+-----------'
[info] *** Request 4 (4.000/s) [3214995] [Fri Nov 18 07:10:37 2022] ***
[debug] Path is "image_error_normal"
[debug] "GET" request for "image_error_normal" from "127.0.0.1"
[error] Unknown option
[debug] Response Code: 500; Content-Type: text/html; charset=utf-8; Content-Length: unknown
[info] Request took 0.004883s (204.792/s)
.------------------------------------------------------------+-----------.
| Action | Time |
+------------------------------------------------------------+-----------+
| /image_error_normal | 0.000936s |
| -> RRDGraphTest003::View::RRDNormal->process | 0.000649s |
'------------------------------------------------------------+-----------'
[info] *** Request 5 (5.000/s) [3214995] [Fri Nov 18 07:10:37 2022] ***
[debug] Path is "zero_byte_error_function"
[debug] "GET" request for "zero_byte_error_function" from "127.0.0.1"
[debug] Response Code: 200; Content-Type: unknown; Content-Length: unknown
[info] Request took 0.002626s (380.807/s)
.------------------------------------------------------------+-----------.
| Action | Time |
+------------------------------------------------------------+-----------+
| /zero_byte_error_function | 0.000914s |
| -> RRDGraphTest003::View::RRDOnServeFunction->process | 0.000673s |
'------------------------------------------------------------+-----------'
[info] *** Request 6 (6.000/s) [3214995] [Fri Nov 18 07:10:37 2022] ***
[debug] Path is "image_error_function"
[debug] "GET" request for "image_error_function" from "127.0.0.1"
[debug] Response Code: 200; Content-Type: unknown; Content-Length: unknown
[info] Request took 0.002627s (380.662/s)
.------------------------------------------------------------+-----------.
| Action | Time |
+------------------------------------------------------------+-----------+
| /image_error_function | 0.000894s |
| -> RRDGraphTest003::View::RRDOnServeFunction->process | 0.000627s |
'------------------------------------------------------------+-----------'
t/003_on_error_serve.t .. ok
All tests successful.
Files=3, Tests=17, 2 wallclock secs ( 0.03 usr 0.01 sys + 0.96 cusr 0.12 csys = 1.12 CPU)
Result: PASS
------------------------------
PREREQUISITES
------------------------------
Prerequisite modules loaded:
requires:
Module Need Have
-------------------------------- ---- ----------
Catalyst::Plugin::Static::Simple 0 0.37
Catalyst::Runtime 5.7 5.90130
MRO::Compat 0 0.15
build_requires:
Module Need Have
-------------------------------- ---- ----------
Catalyst::Test 0 0
Test::MockObject 0 1.20200122
Test::More 0 1.302191
configure_requires:
Module Need Have
-------------------------------- ---- ----------
ExtUtils::MakeMaker 6.30 7.64
------------------------------
ENVIRONMENT AND OTHER CONTEXT
------------------------------
Environment variables:
AUTOMATED_TESTING = 1
LANG = en_US.UTF-8
LC_ADDRESS = de_DE.UTF-8
LC_IDENTIFICATION = de_DE.UTF-8
LC_MEASUREMENT = de_DE.UTF-8
LC_MONETARY = de_DE.UTF-8
LC_NAME = de_DE.UTF-8
LC_NUMERIC = de_DE.UTF-8
LC_PAPER = de_DE.UTF-8
LC_TELEPHONE = de_DE.UTF-8
LC_TIME = de_DE.UTF-8
PATH = /home/sand/bin:/usr/local/bin:/usr/local/sbin:/usr/sbin:/usr/bin:/sbin:/bin:/usr/games:/usr/local/games:/snap/bin:/usr/local/perl/bin:/usr/X11/bin
PERL = /tmp/basesmoker-reloperl-BaSC/bin/perl
PERL5LIB = /tmp/loop_over_bdir-9853-VMv97Q/perl-Hardware-UPS-Perl-0.43-0/blib/arch:/tmp/loop_over_bdir-9853-VMv97Q/perl-Hardware-UPS-Perl-0.43-0/blib/lib:/tmp/loop_over_bdir-9853-VMv97Q/AllKnowingDNS-1.7-0/blib/arch:/tmp/loop_over_bdir-9853-VMv97Q/AllKnowingDNS-1.7-0/blib/lib:/tmp/loop_over_bdir-9853-VMv97Q/CGI-Application-NetNewsIface-0.0204-0/blib/arch:/tmp/loop_over_bdir-9853-VMv97Q/CGI-Application-NetNewsIface-0.0204-0/blib/lib:/tmp/loop_over_bdir-9853-VMv97Q/Net-ISP-Balance-1.31-0/blib/arch:/tmp/loop_over_bdir-9853-VMv97Q/Net-ISP-Balance-1.31-0/blib/lib:/tmp/loop_over_bdir-9853-VMv97Q/CORBA-Python-2.66-0/blib/arch:/tmp/loop_over_bdir-9853-VMv97Q/CORBA-Python-2.66-0/blib/lib:/tmp/loop_over_bdir-9853-VMv97Q/shishi-0.0.1-0/blib/arch:/tmp/loop_over_bdir-9853-VMv97Q/shishi-0.0.1-0/blib/lib:/tmp/loop_over_bdir-9853-VMv97Q/Lemonldap-NG-Cli-0.2-0/blib/arch:/tmp/loop_over_bdir-9853-VMv97Q/Lemonldap-NG-Cli-0.2-0/blib/lib:/tmp/loop_over_bdir-9853-VMv97Q/DBIx-Migration-Directories-0.12-0/blib/arch:/tmp/loop_over_bdir-9853-VMv97Q/DBIx-Migration-Directories-0.12-0/blib/lib:/tmp/loop_over_bdir-9853-VMv97Q/downsexta-0/blib/arch:/tmp/loop_over_bdir-9853-VMv97Q/downsexta-0/blib/lib:/tmp/loop_over_bdir-9853-VMv97Q/Net-OpenVPN-DDNS-0.1-0/blib/arch:/tmp/loop_over_bdir-9853-VMv97Q/Net-OpenVPN-DDNS-0.1-0/blib/lib:/tmp/loop_over_bdir-9853-VMv97Q/Devel-Required-0.16-0/blib/arch:/tmp/loop_over_bdir-9853-VMv97Q/Devel-Required-0.16-0/blib/lib:/tmp/loop_over_bdir-9853-VMv97Q/Business-Shipping-DataFiles-1.02-0/blib/arch:/tmp/loop_over_bdir-9853-VMv97Q/Business-Shipping-DataFiles-1.02-0/blib/lib
PERL5OPT =
PERL5_CPANPLUS_IS_RUNNING = 9871
PERL5_CPAN_IS_RUNNING = 9871
PERL_CANARY_STABILITY_NOPROMPT = 1
PERL_MM_USE_DEFAULT = 1
PERL_USE_UNSAFE_INC = 1
SHELL = /usr/bin/zsh
TERM = screen
Perl special variables (and OS-specific diagnostics, for MSWin32):
$^X = /tmp/basesmoker-reloperl-BaSC/bin/perl
$UID/$EUID = 1005 / 1005
$GID = 1005 1005
$EGID = 1005 1005
Perl module toolchain versions installed:
Module Have
------------------- --------
CPAN 2.34
CPAN::Meta 2.150010
Cwd 3.86
ExtUtils::CBuilder 0.280237
ExtUtils::Command 7.64
ExtUtils::Install 2.20
ExtUtils::MakeMaker 7.64
ExtUtils::Manifest 1.73
ExtUtils::ParseXS 3.46
File::Spec 3.87
JSON 4.10
JSON::PP 4.12
Module::Build 0.4231
Module::Signature 0.88
Parse::CPAN::Meta 2.150010
Test::Harness 3.44
Test::More 1.302191
YAML 1.30
YAML::Syck 1.34
version 0.9929
--
Summary of my perl5 (revision 5 version 37 subversion 5) configuration:
Commit id: 064941484781d9099db0bbe7d6ea22a826df1e15
Platform:
osname=linux
osvers=5.15.0-52-generic
archname=x86_64-linux
uname='linux k93jammy 5.15.0-52-generic #58-ubuntu smp thu oct 13 08:03:55 utc 2022 x86_64 x86_64 x86_64 gnulinux '
config_args='-Dprefix=/home/sand/src/perl/repoperls/installed-perls/host/k93jammy/v5.37.4-160-g0649414847/6567 -Dmyhostname=k93jammy -Dinstallusrbinperl=n -Uversiononly -Dusedevel -des -Ui_db -Dlibswanted=cl pthread socket inet nsl gdbm dbm malloc dl ld sun m crypt sec util c cposix posix ucb BSD gdbm_compat -Uuseithreads -Uuselongdouble -DEBUGGING=-g'
hint=recommended
useposix=true
d_sigaction=define
useithreads=undef
usemultiplicity=undef
use64bitint=define
use64bitall=define
uselongdouble=undef
usemymalloc=n
default_inc_excludes_dot=define
Compiler:
cc='cc'
ccflags ='-fwrapv -fno-strict-aliasing -pipe -fstack-protector-strong -I/usr/local/include -D_LARGEFILE_SOURCE -D_FILE_OFFSET_BITS=64'
optimize='-O2 -g'
cppflags='-fwrapv -fno-strict-aliasing -pipe -fstack-protector-strong -I/usr/local/include'
ccversion=''
gccversion='11.3.0'
gccosandvers=''
intsize=4
longsize=8
ptrsize=8
doublesize=8
byteorder=12345678
doublekind=3
d_longlong=define
longlongsize=8
d_longdbl=define
longdblsize=16
longdblkind=3
ivtype='long'
ivsize=8
nvtype='double'
nvsize=8
Off_t='off_t'
lseeksize=8
alignbytes=8
prototype=define
Linker and Libraries:
ld='cc'
ldflags =' -fstack-protector-strong -L/usr/local/lib'
libpth=/usr/local/lib /usr/lib/x86_64-linux-gnu /usr/lib /usr/lib64
libs=-lpthread -lnsl -ldl -lm -lcrypt -lutil -lc
perllibs=-lpthread -lnsl -ldl -lm -lcrypt -lutil -lc
libc=/lib/x86_64-linux-gnu/libc.so.6
so=so
useshrplib=false
libperl=libperl.a
gnulibc_version='2.35'
Dynamic Linking:
dlsrc=dl_dlopen.xs
dlext=so
d_dlsymun=undef
ccdlflags='-Wl,-E'
cccdlflags='-fPIC'
lddlflags='-shared -O2 -g -L/usr/local/lib -fstack-protector-strong'
Characteristics of this binary (from libperl):
Compile-time options:
HAS_TIMES
PERLIO_LAYERS
PERL_COPY_ON_WRITE
PERL_DONT_CREATE_GVSV
PERL_HASH_FUNC_SIPHASH13
PERL_HASH_USE_SBOX32
PERL_MALLOC_WRAP
PERL_OP_PARENT
PERL_PRESERVE_IVUV
PERL_USE_DEVEL
PERL_USE_SAFE_PUTENV
USE_64_BIT_ALL
USE_64_BIT_INT
USE_LARGE_FILES
USE_LOCALE
USE_LOCALE_COLLATE
USE_LOCALE_CTYPE
USE_LOCALE_NUMERIC
USE_LOCALE_TIME
USE_PERLIO
USE_PERL_ATOF
Built under linux
Compiled at Nov 13 2022 11:55:34
%ENV:
PERL="/tmp/basesmoker-reloperl-BaSC/bin/perl"
PERL5LIB="/tmp/loop_over_bdir-9853-VMv97Q/perl-Hardware-UPS-Perl-0.43-0/blib/arch:/tmp/loop_over_bdir-9853-VMv97Q/perl-Hardware-UPS-Perl-0.43-0/blib/lib:/tmp/loop_over_bdir-9853-VMv97Q/AllKnowingDNS-1.7-0/blib/arch:/tmp/loop_over_bdir-9853-VMv97Q/AllKnowingDNS-1.7-0/blib/lib:/tmp/loop_over_bdir-9853-VMv97Q/CGI-Application-NetNewsIface-0.0204-0/blib/arch:/tmp/loop_over_bdir-9853-VMv97Q/CGI-Application-NetNewsIface-0.0204-0/blib/lib:/tmp/loop_over_bdir-9853-VMv97Q/Net-ISP-Balance-1.31-0/blib/arch:/tmp/loop_over_bdir-9853-VMv97Q/Net-ISP-Balance-1.31-0/blib/lib:/tmp/loop_over_bdir-9853-VMv97Q/CORBA-Python-2.66-0/blib/arch:/tmp/loop_over_bdir-9853-VMv97Q/CORBA-Python-2.66-0/blib/lib:/tmp/loop_over_bdir-9853-VMv97Q/shishi-0.0.1-0/blib/arch:/tmp/loop_over_bdir-9853-VMv97Q/shishi-0.0.1-0/blib/lib:/tmp/loop_over_bdir-9853-VMv97Q/Lemonldap-NG-Cli-0.2-0/blib/arch:/tmp/loop_over_bdir-9853-VMv97Q/Lemonldap-NG-Cli-0.2-0/blib/lib:/tmp/loop_over_bdir-9853-VMv97Q/DBIx-Migration-Directories-0.12-0/blib/arch:/tmp/loop_over_bdir-9853-VMv97Q/DBIx-Migration-Directories-0.12-0/blib/lib:/tmp/loop_over_bdir-9853-VMv97Q/downsexta-0/blib/arch:/tmp/loop_over_bdir-9853-VMv97Q/downsexta-0/blib/lib:/tmp/loop_over_bdir-9853-VMv97Q/Net-OpenVPN-DDNS-0.1-0/blib/arch:/tmp/loop_over_bdir-9853-VMv97Q/Net-OpenVPN-DDNS-0.1-0/blib/lib:/tmp/loop_over_bdir-9853-VMv97Q/Devel-Required-0.16-0/blib/arch:/tmp/loop_over_bdir-9853-VMv97Q/Devel-Required-0.16-0/blib/lib:/tmp/loop_over_bdir-9853-VMv97Q/Business-Shipping-DataFiles-1.02-0/blib/arch:/tmp/loop_over_bdir-9853-VMv97Q/Business-Shipping-DataFiles-1.02-0/blib/lib"
PERL5OPT=""
PERL5_CPANPLUS_IS_RUNNING="9871"
PERL5_CPAN_IS_RUNNING="9871"
PERL_CANARY_STABILITY_NOPROMPT="1"
PERL_MM_USE_DEFAULT="1"
PERL_USE_UNSAFE_INC="1"
@INC:
/tmp/loop_over_bdir-9853-VMv97Q/perl-Hardware-UPS-Perl-0.43-0/blib/arch
/tmp/loop_over_bdir-9853-VMv97Q/perl-Hardware-UPS-Perl-0.43-0/blib/lib
/tmp/loop_over_bdir-9853-VMv97Q/AllKnowingDNS-1.7-0/blib/arch
/tmp/loop_over_bdir-9853-VMv97Q/AllKnowingDNS-1.7-0/blib/lib
/tmp/loop_over_bdir-9853-VMv97Q/CGI-Application-NetNewsIface-0.0204-0/blib/arch
/tmp/loop_over_bdir-9853-VMv97Q/CGI-Application-NetNewsIface-0.0204-0/blib/lib
/tmp/loop_over_bdir-9853-VMv97Q/Net-ISP-Balance-1.31-0/blib/arch
/tmp/loop_over_bdir-9853-VMv97Q/Net-ISP-Balance-1.31-0/blib/lib
/tmp/loop_over_bdir-9853-VMv97Q/CORBA-Python-2.66-0/blib/arch
/tmp/loop_over_bdir-9853-VMv97Q/CORBA-Python-2.66-0/blib/lib
/tmp/loop_over_bdir-9853-VMv97Q/shishi-0.0.1-0/blib/arch
/tmp/loop_over_bdir-9853-VMv97Q/shishi-0.0.1-0/blib/lib
/tmp/loop_over_bdir-9853-VMv97Q/Lemonldap-NG-Cli-0.2-0/blib/arch
/tmp/loop_over_bdir-9853-VMv97Q/Lemonldap-NG-Cli-0.2-0/blib/lib
/tmp/loop_over_bdir-9853-VMv97Q/DBIx-Migration-Directories-0.12-0/blib/arch
/tmp/loop_over_bdir-9853-VMv97Q/DBIx-Migration-Directories-0.12-0/blib/lib
/tmp/loop_over_bdir-9853-VMv97Q/downsexta-0/blib/arch
/tmp/loop_over_bdir-9853-VMv97Q/downsexta-0/blib/lib
/tmp/loop_over_bdir-9853-VMv97Q/Net-OpenVPN-DDNS-0.1-0/blib/arch
/tmp/loop_over_bdir-9853-VMv97Q/Net-OpenVPN-DDNS-0.1-0/blib/lib
/tmp/loop_over_bdir-9853-VMv97Q/Devel-Required-0.16-0/blib/arch
/tmp/loop_over_bdir-9853-VMv97Q/Devel-Required-0.16-0/blib/lib
/tmp/loop_over_bdir-9853-VMv97Q/Business-Shipping-DataFiles-1.02-0/blib/arch
/tmp/loop_over_bdir-9853-VMv97Q/Business-Shipping-DataFiles-1.02-0/blib/lib
/home/sand/src/perl/repoperls/installed-perls/host/k93jammy/v5.37.4-160-g0649414847/6567/lib/site_perl/5.37.5/x86_64-linux
/home/sand/src/perl/repoperls/installed-perls/host/k93jammy/v5.37.4-160-g0649414847/6567/lib/site_perl/5.37.5
/home/sand/src/perl/repoperls/installed-perls/host/k93jammy/v5.37.4-160-g0649414847/6567/lib/5.37.5/x86_64-linux
/home/sand/src/perl/repoperls/installed-perls/host/k93jammy/v5.37.4-160-g0649414847/6567/lib/5.37.5
.