Net-Azure-StorageClient v0.6 Perl 5 v5.34.1 x86_64-linux-thread-multi-ld

Status
Pass
From
Andreas J. König (ANDK)
Dist
Net-Azure-StorageClient v0.6
Platform
Perl 5 v5.34.1 x86_64-linux-thread-multi-ld
Date
2022-03-13 21:36:28
ID
a4156b5c-a315-11ec-a5c3-0e9b9306f81f
This distribution has been tested as part of the CPAN Testers
project, supporting the Perl programming language.  See
http://wiki.cpantesters.org/ for more information or email
questions to cpan-testers-discuss@perl.org


--
Dear Dean Hamstead,

This is a computer-generated report for Net-Azure-StorageClient-0.6
on perl 5.34.1, created by CPAN-Reporter-1.2018.

Thank you for uploading your work to CPAN.  Congratulations!
All tests were successful.

Sections of this report:

    * Tester comments
    * Program output
    * Prerequisites
    * Environment and other context

------------------------------
TESTER COMMENTS
------------------------------

Additional comments from tester:

this report is from an automated smoke testing program
and was not reviewed by a human for accuracy

------------------------------
PROGRAM OUTPUT
------------------------------

Output from './Build test':

t/00-Blob.t .................... skipped: Testing this module required account and primary access key of Windows Azure Blob Storage.
t/00-compile.t ................. ok
# 
# Versions for all modules listed in MYMETA.json (including optional ones):
# 
# === Configure Requires ===
# 
#     Module              Want   Have
#     ------------------- ---- ------
#     ExtUtils::MakeMaker  any   7.64
#     Module::Build       0.28 0.4231
# 
# === Build Requires ===
# 
#     Module        Want     Have
#     ------------- ---- --------
#     Module::Build 0.28   0.4231
#     Test::More     any 1.302190
# 
# === Test Requires ===
# 
#     Module              Want     Have
#     ------------------- ---- --------
#     ExtUtils::MakeMaker  any     7.64
#     File::Spec           any     3.80
#     IO::Handle           any     1.46
#     IPC::Open3           any     1.21
#     Test::More           any 1.302190
# 
# === Test Recommends ===
# 
#     Module         Want     Have
#     ---------- -------- --------
#     CPAN::Meta 2.120900 2.150010
# 
# === Runtime Requires ===
# 
#     Module            Want  Have
#     ----------------- ---- -----
#     Digest::MD5        any  2.58
#     Digest::SHA        any  6.02
#     Encode             any  3.16
#     File::Basename     any  2.85
#     File::Find         any  1.39
#     File::Path         any  2.18
#     File::Spec         any  3.80
#     HTTP::Date         any  6.05
#     LWP::UserAgent     any  6.61
#     MIME::Base64       any  3.16
#     Thread::Semaphore  any  2.13
#     URI::QueryParam    any  5.10
#     XML::Simple        any  2.25
#     namespace::clean   any  0.27
#     parent             any 0.238
#     strict             any  1.12
#     threads            any  2.26
#     warnings           any  1.51
# 
t/00-report-prereqs.t .......... ok
t/author-clean-namespaces.t .... skipped: these tests are for testing by the author
t/author-critic.t .............. skipped: these tests are for testing by the author
t/author-eof.t ................. skipped: these tests are for testing by the author
t/author-eol.t ................. skipped: these tests are for testing by the author
t/author-no-breakpoints.t ...... skipped: these tests are for testing by the author
t/author-no-tabs.t ............. skipped: these tests are for testing by the author
t/author-pod-linkcheck.t ....... skipped: these tests are for testing by the author
t/author-pod-spell.t ........... skipped: these tests are for testing by the author
t/author-pod-syntax.t .......... skipped: these tests are for testing by the author
t/author-portability.t ......... skipped: these tests are for testing by the author
t/release-distmeta.t ........... skipped: these tests are for release candidate testing
t/release-kwalitee.t ........... skipped: these tests are for release candidate testing
t/release-pause-permissions.t .. skipped: these tests are for release candidate testing
t/release-test-legal.t ......... skipped: these tests are for release candidate testing
t/release-unused-vars.t ........ skipped: these tests are for release candidate testing
All tests successful.
Files=18, Tests=5,  1 wallclock secs ( 0.06 usr  0.04 sys +  0.45 cusr  0.17 csys =  0.72 CPU)
Result: PASS

------------------------------
PREREQUISITES
------------------------------

Prerequisite modules loaded:

requires:

    Module              Need    Have    
    ------------------- ------- --------
    Digest::MD5         0       2.58    
    Digest::SHA         0       6.02    
    Encode              0       3.16    
    File::Basename      0       2.85    
    File::Find          0       1.39    
    File::Path          0       2.18    
    File::Spec          0       3.80    
    HTTP::Date          0       6.05    
    LWP::UserAgent      0       6.61    
    MIME::Base64        0       3.16    
    namespace::clean    0       0.27    
    parent              0       0.238   
    perl                v5.10.0 5.034001
    strict              0       1.12    
    Thread::Semaphore   0       2.13    
    threads             0       2.26    
    URI::QueryParam     0       5.10    
    warnings            0       1.51    
    XML::Simple         0       2.25    

build_requires:

    Module              Need    Have    
    ------------------- ------- --------
    ExtUtils::MakeMaker 0       7.64    
    File::Spec          0       3.80    
    IO::Handle          0       1.46    
    IPC::Open3          0       1.21    
    Module::Build       0.28    0.4231  
    perl                v5.10.0 5.034001
    Test::More          0       1.302190

configure_requires:

    Module              Need    Have    
    ------------------- ------- --------
    ExtUtils::MakeMaker 0       7.64    
    Module::Build       0.28    0.4231  
    perl                v5.10.0 5.034001


------------------------------
ENVIRONMENT AND OTHER CONTEXT
------------------------------

Environment variables:

    AUTOMATED_TESTING = 1
    LANG = en_US.utf8
    PATH = /home/sand/bin:/usr/local/bin:/usr/local/sbin:/usr/sbin:/usr/bin:/sbin:/bin:/usr/games:/usr/local/games:/snap/bin:/usr/local/perl/bin:/usr/X11/bin
    PERL5LIB = 
    PERL5OPT = 
    PERL5_CPANPLUS_IS_RUNNING = 2387937
    PERL5_CPAN_IS_RUNNING = 2387937
    PERL_CANARY_STABILITY_NOPROMPT = 1
    PERL_MM_USE_DEFAULT = 1
    PERL_USE_UNSAFE_INC = 1
    SHELL = /usr/bin/zsh
    TERM = screen

Perl special variables (and OS-specific diagnostics, for MSWin32):

    $^X = /tmp/basesmoker-reloperl-lMew/bin/perl
    $UID/$EUID = 1005 / 1005
    $GID = 1005 1005
    $EGID = 1005 1005

Perl module toolchain versions installed:

    Module              Have    
    ------------------- --------
    CPAN                2.33    
    CPAN::Meta          2.150010
    Cwd                 3.80    
    ExtUtils::CBuilder  0.280236
    ExtUtils::Command   7.64    
    ExtUtils::Install   2.20    
    ExtUtils::MakeMaker 7.64    
    ExtUtils::Manifest  1.73    
    ExtUtils::ParseXS   3.43    
    File::Spec          3.80    
    JSON                4.05    
    JSON::PP            4.06    
    Module::Build       0.4231  
    Module::Signature   0.88    
    Parse::CPAN::Meta   2.150010
    Test::Harness       3.43    
    Test::More          1.302190
    YAML                1.30    
    YAML::Syck          1.34    
    version             0.9929  


--

Summary of my perl5 (revision 5 version 34 subversion 1) configuration:
  Commit id: 1181cf72936404b890ef41362f533fe2c2626f9b
  Platform:
    osname=linux
    osvers=5.4.0-100-generic
    archname=x86_64-linux-thread-multi-ld
    uname='linux k93focal 5.4.0-100-generic #113-ubuntu smp thu feb 3 18:43:29 utc 2022 x86_64 x86_64 x86_64 gnulinux '
    config_args='-Dprefix=/home/sand/src/perl/repoperls/installed-perls/host/k93focal/v5.34.1/5189 -Dmyhostname=k93focal -Dinstallusrbinperl=n -Uversiononly -Dusedevel -des -Ui_db -Dlibswanted=cl pthread socket inet nsl gdbm dbm malloc dl ld sun m crypt sec util c cposix posix ucb BSD gdbm_compat -Duseithreads -Duselongdouble -DEBUGGING=-g'
    hint=recommended
    useposix=true
    d_sigaction=define
    useithreads=define
    usemultiplicity=define
    use64bitint=define
    use64bitall=define
    uselongdouble=define
    usemymalloc=n
    default_inc_excludes_dot=define
  Compiler:
    cc='cc'
    ccflags ='-D_REENTRANT -D_GNU_SOURCE -fwrapv -fno-strict-aliasing -pipe -fstack-protector-strong -I/usr/local/include -D_LARGEFILE_SOURCE -D_FILE_OFFSET_BITS=64'
    optimize='-O2 -g'
    cppflags='-D_REENTRANT -D_GNU_SOURCE -fwrapv -fno-strict-aliasing -pipe -fstack-protector-strong -I/usr/local/include'
    ccversion=''
    gccversion='9.3.0'
    gccosandvers=''
    intsize=4
    longsize=8
    ptrsize=8
    doublesize=8
    byteorder=12345678
    doublekind=3
    d_longlong=define
    longlongsize=8
    d_longdbl=define
    longdblsize=16
    longdblkind=3
    ivtype='long'
    ivsize=8
    nvtype='long double'
    nvsize=16
    Off_t='off_t'
    lseeksize=8
    alignbytes=16
    prototype=define
  Linker and Libraries:
    ld='cc'
    ldflags =' -fstack-protector-strong -L/usr/local/lib'
    libpth=/usr/local/lib /usr/lib/x86_64-linux-gnu /usr/lib /usr/lib64
    libs=-lpthread -lnsl -ldl -lm -lcrypt -lutil -lc
    perllibs=-lpthread -lnsl -ldl -lm -lcrypt -lutil -lc
    libc=libc-2.31.so
    so=so
    useshrplib=false
    libperl=libperl.a
    gnulibc_version='2.31'
  Dynamic Linking:
    dlsrc=dl_dlopen.xs
    dlext=so
    d_dlsymun=undef
    ccdlflags='-Wl,-E'
    cccdlflags='-fPIC'
    lddlflags='-shared -O2 -g -L/usr/local/lib -fstack-protector-strong'


Characteristics of this binary (from libperl): 
  Compile-time options:
    HAS_TIMES
    MULTIPLICITY
    PERLIO_LAYERS
    PERL_COPY_ON_WRITE
    PERL_DONT_CREATE_GVSV
    PERL_IMPLICIT_CONTEXT
    PERL_MALLOC_WRAP
    PERL_OP_PARENT
    PERL_PRESERVE_IVUV
    PERL_USE_DEVEL
    USE_64_BIT_ALL
    USE_64_BIT_INT
    USE_ITHREADS
    USE_LARGE_FILES
    USE_LOCALE
    USE_LOCALE_COLLATE
    USE_LOCALE_CTYPE
    USE_LOCALE_NUMERIC
    USE_LOCALE_TIME
    USE_LONG_DOUBLE
    USE_PERLIO
    USE_PERL_ATOF
    USE_REENTRANT_API
    USE_THREAD_SAFE_LOCALE
  Built under linux
  Compiled at Mar 13 2022 09:46:00
  %ENV:
    PERL5LIB=""
    PERL5OPT=""
    PERL5_CPANPLUS_IS_RUNNING="2387937"
    PERL5_CPAN_IS_RUNNING="2387937"
    PERL_CANARY_STABILITY_NOPROMPT="1"
    PERL_MM_USE_DEFAULT="1"
    PERL_USE_UNSAFE_INC="1"
  @INC:
    /home/sand/src/perl/repoperls/installed-perls/host/k93focal/v5.34.1/5189/lib/site_perl/5.34.1/x86_64-linux-thread-multi-ld
    /home/sand/src/perl/repoperls/installed-perls/host/k93focal/v5.34.1/5189/lib/site_perl/5.34.1
    /home/sand/src/perl/repoperls/installed-perls/host/k93focal/v5.34.1/5189/lib/5.34.1/x86_64-linux-thread-multi-ld
    /home/sand/src/perl/repoperls/installed-perls/host/k93focal/v5.34.1/5189/lib/5.34.1
    .