Report for JSON-DWIW-0.47

Back
From: metabase:user:322078bc-2aae-11df-837a-5e0a49663a4f
Subject: PASS JSON-DWIW-0.47 v5.12.1 Dragonfly BSD
Date: 2010-09-30T17:53:32Z

This distribution has been tested as part of the CPAN Testers
project, supporting the Perl programming language.  See
http://wiki.cpantesters.org/ for more information or email
questions to cpan-testers-discuss@perl.org


--

Dear DOWENS,
    
This is a computer-generated error report created automatically by
CPANPLUS, version 0.9007. Testers personal comments may appear 
at the end of this report.

MAKE TEST passed: PERL_DL_NONLAZY=1 /usr/home/cpan/pit/bare/perl-5.12.1/bin/perl "-MExtUtils::Command::MM" "-e" "test_harness(0, 'blib/lib', 'blib/arch')" t/*.t
t/00use.t ................ ok
t/01encode.t ............. ok
t/02decode.t ............. ok
t/03parse_constants.t .... ok
t/04extras.t ............. ok
t/05exceptions.t ......... ok
t/06big_numbers.t ........ ok
t/07magic.t .............. ok
t/08pvxv.t ............... ok
t/09bool.t ............... ok
t/10unicode.t ............ ok
Argument "0e+" isn't numeric in subroutine entry at /usr/home/cpan/pit/bare/conf/perl-5.12.1/.cpanplus/5.12.1/build/JSON-DWIW-0.47/blib/lib/JSON/DWIW.pm line 676.
t/11parse_file.t ......... ok
t/12error.t .............. ok
t/13stats.t .............. ok
t/14nonoo.t .............. ok
t/15bom.t ................ ok
t/16to_xml.t ............. ok
t/17callbacks.t .......... ok
t/compat01.t ............. ok
t/deser01.t .............. ok
t/deser02_constants.t .... ok
t/deser03_extras.t ....... ok
t/deser04_exceptions.t ... ok
t/deser05_big_numbers.t .. ok
t/deser06_bool.t ......... ok
t/deser07_error.t ........ ok
t/deser08_stats.t ........ ok
t/deser09_edge.t ......... ok
t/deser10_bom.t .......... ok
Argument "0e+" isn't numeric in subroutine entry at t/deser11_file.t line 108.
t/deser11_file.t ......... ok
t/deser12_unicode.t ...... ok
t/deser13_escapes.t ...... ok
t/deser14_depth.t ........ ok
t/encode01.t ............. ok
t/from_json01_escapes.t .. ok
t/tickets.t .............. ok
All tests successful.
Files=36, Tests=391,  4 wallclock secs ( 0.15 usr  0.09 sys +  2.62 cusr  0.38 csys =  3.23 CPU)
Result: PASS

[MSG] [Thu Sep 30 18:53:32 2010] Sending test report for 'JSON-DWIW-0.47'

This report was machine-generated by CPANPLUS::Dist::YACSmoke 0.58.
Powered by minismokebox version 0.32

------------------------------
ENVIRONMENT AND OTHER CONTEXT
------------------------------

Environment variables:

    AUTOMATED_TESTING = 1
    PATH = /sbin:/bin:/usr/sbin:/usr/bin:/usr/games:/usr/pkg/sbin:/usr/pkg/bin:/usr/pkg/xorg/bin:/usr/local/sbin:/usr/local/bin:/home/cpan/bin
    PERL5LIB = :/usr/home/cpan/pit/bare/conf/perl-5.12.1/.cpanplus/5.12.1/build/JSON-DWIW-0.47/blib/lib:/usr/home/cpan/pit/bare/conf/perl-5.12.1/.cpanplus/5.12.1/build/JSON-DWIW-0.47/blib/arch
    PERL5_CPANPLUS_IS_RUNNING = 29400
    PERL5_CPANPLUS_IS_VERSION = 0.9007
    PERL5_MINISMOKEBOX = 0.32
    PERL5_YACSMOKE_BASE = /usr/home/cpan/pit/bare/conf/perl-5.12.1
    PERL_EXTUTILS_AUTOINSTALL = --defaultdeps
    PERL_MM_USE_DEFAULT = 1
    SHELL = /usr/pkg/bin/bash
    TERM = screen

Perl special variables (and OS-specific diagnostics, for MSWin32):

    Perl: $^X = /usr/home/cpan/pit/bare/perl-5.12.1/bin/perl
    UID:  $<  = 1002
    EUID: $>  = 1002
    GID:  $(  = 1002 1002
    EGID: $)  = 1002 1002


-------------------------------


--

Summary of my perl5 (revision 5 version 12 subversion 1) configuration:
   
  Platform:
    osname=dragonfly, osvers=2.6-release, archname=x86_64-dragonfly
    uname='dragonfly ddraig64.bingosnet.co.uk 2.6-release dragonfly v2.6.3-release #10: mon may 3 09:57:53 pdt 2010 root@pkgbox64.dragonflybsd.org:usrobjusrsrc-miscsysx86_64_generic x86_64 '
    config_args='-des -Dprefix=/usr/home/cpan/pit/bare/perl-5.12.1'
    hint=recommended, useposix=true, d_sigaction=define
    useithreads=undef, usemultiplicity=undef
    useperlio=define, d_sfio=undef, uselargefiles=define, usesocks=undef
    use64bitint=define, use64bitall=define, uselongdouble=undef
    usemymalloc=n, bincompat5005=undef
  Compiler:
    cc='cc', ccflags ='-DHAS_FPSETMASK -DHAS_FLOATINGPOINT_H -fno-strict-aliasing -pipe -fstack-protector -I/usr/local/include',
    optimize='-O',
    cppflags='-DHAS_FPSETMASK -DHAS_FLOATINGPOINT_H -fno-strict-aliasing -pipe -fstack-protector -I/usr/local/include'
    ccversion='', gccversion='4.1.2 (DragonFly)', gccosandvers=''
    intsize=4, longsize=8, ptrsize=8, doublesize=8, byteorder=12345678
    d_longlong=define, longlongsize=8, d_longdbl=define, longdblsize=16
    ivtype='long', ivsize=8, nvtype='double', nvsize=8, Off_t='off_t', lseeksize=8
    alignbytes=8, prototype=define
  Linker and Libraries:
    ld='cc', ldflags ='-Wl,-E  -fstack-protector -L/usr/local/lib'
    libpth=/usr/lib /usr/local/lib
    libs=-lm -lcrypt -lutil -lc
    perllibs=-lm -lcrypt -lutil -lc
    libc=, so=so, useshrplib=false, libperl=libperl.a
    gnulibc_version=''
  Dynamic Linking:
    dlsrc=dl_dlopen.xs, dlext=so, d_dlsymun=undef, ccdlflags=' '
    cccdlflags='-DPIC -fPIC', lddlflags='-shared  -L/usr/local/lib -fstack-protector'


Characteristics of this binary (from libperl): 
  Compile-time options: PERL_DONT_CREATE_GVSV PERL_MALLOC_WRAP USE_64_BIT_ALL
                        USE_64_BIT_INT USE_LARGE_FILES USE_PERLIO
                        USE_PERL_ATOF
  Built under dragonfly
  Compiled at Sep 24 2010 03:07:17
  %ENV:
    PERL5LIB=":/usr/home/cpan/pit/bare/conf/perl-5.12.1/.cpanplus/5.12.1/build/JSON-DWIW-0.47/blib/lib:/usr/home/cpan/pit/bare/conf/perl-5.12.1/.cpanplus/5.12.1/build/JSON-DWIW-0.47/blib/arch"
    PERL5_CPANPLUS_IS_RUNNING="29400"
    PERL5_CPANPLUS_IS_VERSION="0.9007"
    PERL5_MINISMOKEBOX="0.32"
    PERL5_YACSMOKE_BASE="/usr/home/cpan/pit/bare/conf/perl-5.12.1"
    PERL_EXTUTILS_AUTOINSTALL="--defaultdeps"
    PERL_MM_USE_DEFAULT="1"
  @INC:
    /usr/home/cpan/pit/bare/conf/perl-5.12.1/.cpanplus/5.12.1/build/JSON-DWIW-0.47/blib/lib
    /usr/home/cpan/pit/bare/conf/perl-5.12.1/.cpanplus/5.12.1/build/JSON-DWIW-0.47/blib/arch
    /usr/home/cpan/pit/bare/perl-5.12.1/lib/site_perl/5.12.1/x86_64-dragonfly
    /usr/home/cpan/pit/bare/perl-5.12.1/lib/site_perl/5.12.1
    /usr/home/cpan/pit/bare/perl-5.12.1/lib/5.12.1/x86_64-dragonfly
    /usr/home/cpan/pit/bare/perl-5.12.1/lib/5.12.1
    .