Report for Data-Predicate-2.1.1

Back
From: metabase:user:322078bc-2aae-11df-837a-5e0a49663a4f
Subject: PASS Data-Predicate-2.1.1 v5.8.9 Mac OS X
Date: 2010-10-13T05:49:26Z

This distribution has been tested as part of the CPAN Testers
project, supporting the Perl programming language.  See
http://wiki.cpantesters.org/ for more information or email
questions to cpan-testers-discuss@perl.org


--

Dear AYATES,
    
This is a computer-generated error report created automatically by
CPANPLUS, version 0.9007. Testers personal comments may appear 
at the end of this report.

MAKE TEST passed: PERL_DL_NONLAZY=1 /Volumes/Media/smoke/thr/perl-5.8.9/bin/perl "-MExtUtils::Command::MM" "-e" "test_harness(0, 'blib/lib', 'blib/arch')" t/*.t
# Testing Data::Predicates 2.1.1, Perl 5.008009, /Volumes/Media/smoke/thr/perl-5.8.9/bin/perl
t/00-load.t ..................... ok
t/basic-predicate.t ............. ok
t/can-predicate.t ............... ok
t/isa-predicate.t ............... ok
t/pod-coverage.t ................ skipped: Test::Pod::Coverage 1.08 required for testing POD coverage
t/pod.t ......................... skipped: Test::Pod 1.22 required for testing POD
t/predicate-advanced-filters.t .. ok
t/ref-predicate.t ............... ok
# p_string_equals()
# p_numeric_equals()
# p_regex() with (?-xism:hel)
# Switch to (?-xism:^\d$)
# p_substring() with he
t/value-predicates.t ............ ok
All tests successful.
Files=9, Tests=87,  4 wallclock secs ( 0.42 usr  0.20 sys +  2.05 cusr  0.59 csys =  3.26 CPU)
Result: PASS

[MSG] [Wed Oct 13 06:55:32 2010] Sending test report for 'Data-Predicate-2.1.1'

This report was machine-generated by CPANPLUS::Dist::YACSmoke 0.58.
Powered by minismokebox version 0.30

------------------------------
ENVIRONMENT AND OTHER CONTEXT
------------------------------

Environment variables:

    AUTOMATED_TESTING = 1
    PATH = /bin:/sbin:/usr/bin:/usr/sbin:/usr/local/bin:/usr/local/sbin
    PERL5LIB = :/Volumes/Media/smoke/thr/conf/perl-5.8.9/.cpanplus/5.8.9/build/Readonly-1.03/blib/lib:/Volumes/Media/smoke/thr/conf/perl-5.8.9/.cpanplus/5.8.9/build/Readonly-1.03/blib/arch:/Volumes/Media/smoke/thr/conf/perl-5.8.9/.cpanplus/5.8.9/build/Sub-Uplevel-0.22/blib/lib:/Volumes/Media/smoke/thr/conf/perl-5.8.9/.cpanplus/5.8.9/build/Sub-Uplevel-0.22/blib/arch:/Volumes/Media/smoke/thr/conf/perl-5.8.9/.cpanplus/5.8.9/build/Test-Exception-0.31/blib/lib:/Volumes/Media/smoke/thr/conf/perl-5.8.9/.cpanplus/5.8.9/build/Test-Exception-0.31/blib/arch:/Volumes/Media/smoke/thr/conf/perl-5.8.9/.cpanplus/5.8.9/build/Data-Predicate-2.1.1/blib/lib:/Volumes/Media/smoke/thr/conf/perl-5.8.9/.cpanplus/5.8.9/build/Data-Predicate-2.1.1/blib/arch
    PERL5_CPANPLUS_IS_RUNNING = 7163
    PERL5_CPANPLUS_IS_VERSION = 0.9007
    PERL5_MINISMOKEBOX = 0.30
    PERL5_YACSMOKE_BASE = /Volumes/Media/smoke/thr/conf/perl-5.8.9
    PERL_EXTUTILS_AUTOINSTALL = --defaultdeps
    PERL_MM_USE_DEFAULT = 1
    SHELL = /bin/bash
    TERM = screen

Perl special variables (and OS-specific diagnostics, for MSWin32):

    Perl: $^X = /Volumes/Media/smoke/thr/perl-5.8.9/bin/perl
    UID:  $<  = 502
    EUID: $>  = 502
    GID:  $(  = 502 502
    EGID: $)  = 502 502


-------------------------------


--

Summary of my perl5 (revision 5 version 8 subversion 9) configuration:
  Platform:
    osname=darwin, osvers=8.11.0, archname=darwin-thread-multi-2level
    uname='darwin afalglas.bingosnet.co.uk 8.11.0 darwin kernel version 8.11.0: wed oct 10 18:26:00 pdt 2007; root:xnu-792.24.17~1release_ppc power macintosh powerpc '
    config_args='-de -Dprefix=/Volumes/Media/smoke/thr/perl-5.8.9 -Dusethreads'
    hint=recommended, useposix=true, d_sigaction=define
    usethreads=define use5005threads=undef useithreads=define usemultiplicity=define
    useperlio=define d_sfio=undef uselargefiles=define usesocks=undef
    use64bitint=undef use64bitall=undef uselongdouble=undef
    usemymalloc=n, bincompat5005=undef
  Compiler:
    cc='cc', ccflags ='-fno-common -DPERL_DARWIN -no-cpp-precomp -fno-strict-aliasing -pipe -I/usr/local/include',
    optimize='-O3',
    cppflags='-no-cpp-precomp -fno-common -DPERL_DARWIN -no-cpp-precomp -fno-strict-aliasing -pipe -I/usr/local/include'
    ccversion='', gccversion='4.0.1 (Apple Computer, Inc. build 5367)', gccosandvers=''
    intsize=4, longsize=4, ptrsize=4, doublesize=8, byteorder=4321
    d_longlong=define, longlongsize=8, d_longdbl=define, longdblsize=16
    ivtype='long', ivsize=4, nvtype='double', nvsize=8, Off_t='off_t', lseeksize=8
    alignbytes=8, prototype=define
  Linker and Libraries:
    ld='env MACOSX_DEPLOYMENT_TARGET=10.3 cc', ldflags =' -L/usr/local/lib'
    libpth=/usr/local/lib /usr/lib
    libs=-ldbm -ldl -lm -lc
    perllibs=-ldl -lm -lc
    libc=/usr/lib/libc.dylib, so=dylib, useshrplib=false, libperl=libperl.a
    gnulibc_version=''
  Dynamic Linking:
    dlsrc=dl_dlopen.xs, dlext=bundle, d_dlsymun=undef, ccdlflags=' '
    cccdlflags=' ', lddlflags=' -bundle -undefined dynamic_lookup -L/usr/local/lib'


Characteristics of this binary (from libperl): 
  Compile-time options: MULTIPLICITY PERL_IMPLICIT_CONTEXT PERL_MALLOC_WRAP
                        USE_FAST_STDIO USE_ITHREADS USE_LARGE_FILES
                        USE_PERLIO USE_REENTRANT_API
  Built under darwin
  Compiled at May 28 2009 14:14:55
  %ENV:
    PERL5LIB=":/Volumes/Media/smoke/thr/conf/perl-5.8.9/.cpanplus/5.8.9/build/Readonly-1.03/blib/lib:/Volumes/Media/smoke/thr/conf/perl-5.8.9/.cpanplus/5.8.9/build/Readonly-1.03/blib/arch:/Volumes/Media/smoke/thr/conf/perl-5.8.9/.cpanplus/5.8.9/build/Sub-Uplevel-0.22/blib/lib:/Volumes/Media/smoke/thr/conf/perl-5.8.9/.cpanplus/5.8.9/build/Sub-Uplevel-0.22/blib/arch:/Volumes/Media/smoke/thr/conf/perl-5.8.9/.cpanplus/5.8.9/build/Test-Exception-0.31/blib/lib:/Volumes/Media/smoke/thr/conf/perl-5.8.9/.cpanplus/5.8.9/build/Test-Exception-0.31/blib/arch:/Volumes/Media/smoke/thr/conf/perl-5.8.9/.cpanplus/5.8.9/build/Data-Predicate-2.1.1/blib/lib:/Volumes/Media/smoke/thr/conf/perl-5.8.9/.cpanplus/5.8.9/build/Data-Predicate-2.1.1/blib/arch"
    PERL5_CPANPLUS_IS_RUNNING="7163"
    PERL5_CPANPLUS_IS_VERSION="0.9007"
    PERL5_MINISMOKEBOX="0.30"
    PERL5_YACSMOKE_BASE="/Volumes/Media/smoke/thr/conf/perl-5.8.9"
    PERL_EXTUTILS_AUTOINSTALL="--defaultdeps"
    PERL_MM_USE_DEFAULT="1"
  @INC:
    /Volumes/Media/smoke/thr/conf/perl-5.8.9/.cpanplus/5.8.9/build/Readonly-1.03/blib/lib
    /Volumes/Media/smoke/thr/conf/perl-5.8.9/.cpanplus/5.8.9/build/Readonly-1.03/blib/arch
    /Volumes/Media/smoke/thr/conf/perl-5.8.9/.cpanplus/5.8.9/build/Sub-Uplevel-0.22/blib/lib
    /Volumes/Media/smoke/thr/conf/perl-5.8.9/.cpanplus/5.8.9/build/Sub-Uplevel-0.22/blib/arch
    /Volumes/Media/smoke/thr/conf/perl-5.8.9/.cpanplus/5.8.9/build/Test-Exception-0.31/blib/lib
    /Volumes/Media/smoke/thr/conf/perl-5.8.9/.cpanplus/5.8.9/build/Test-Exception-0.31/blib/arch
    /Volumes/Media/smoke/thr/conf/perl-5.8.9/.cpanplus/5.8.9/build/Data-Predicate-2.1.1/blib/lib
    /Volumes/Media/smoke/thr/conf/perl-5.8.9/.cpanplus/5.8.9/build/Data-Predicate-2.1.1/blib/arch
    /Volumes/Media/smoke/thr/perl-5.8.9/lib/5.8.9/darwin-thread-multi-2level
    /Volumes/Media/smoke/thr/perl-5.8.9/lib/5.8.9
    /Volumes/Media/smoke/thr/perl-5.8.9/lib/site_perl/5.8.9/darwin-thread-multi-2level
    /Volumes/Media/smoke/thr/perl-5.8.9/lib/site_perl/5.8.9
    .