DBIx-Table-TestDataGenerator v0.005 Perl 5 v5.28.0 OpenBSD.amd64-openbsd-thread-multi

Status
Pass
From
Alceu Rodrigues de Freitas Junior
Dist
DBIx-Table-TestDataGenerator v0.005
Platform
Perl 5 v5.28.0 OpenBSD.amd64-openbsd-thread-multi
Date
2018-07-12 19:06:10
ID
a3810fe6-8606-11e8-8109-a5dd66d3aebd
This distribution has been tested as part of the CPAN Testers
project, supporting the Perl programming language.  See
http://wiki.cpantesters.org/ for more information or email
questions to cpan-testers-discuss@perl.org


--
Dear Jose Diaz Seng,

This is a computer-generated report for DBIx-Table-TestDataGenerator-0.005
on perl 5.28.0, created by CPAN-Reporter-1.2018.

Thank you for uploading your work to CPAN.  Congratulations!
All tests were successful.

Sections of this report:

    * Tester comments
    * Program output
    * Prerequisites
    * Environment and other context

------------------------------
TESTER COMMENTS
------------------------------

Additional comments from tester:

this report is from an automated smoke testing program
and was not reviewed by a human for accuracy

------------------------------
PROGRAM OUTPUT
------------------------------

Output from './Build test':

# Testing DBIx::Table::TestDataGenerator 0.005, Perl 5.028000, /home/vegeta/perl5/perlbrew/perls/perl-blead/bin/perl5.28.0
t/00-load.t ............................. ok
t/01DBIC.t .............................. ok
t/02DataGeneration.t .................... ok
t/03DataGeneration_null_root_parents.t .. ok
t/04DataGeneration_csv.t ................ ok
t/boilerplate.t ......................... ok
All tests successful.

Test Summary Report
-------------------
t/boilerplate.t                       (Wstat: 0 Tests: 5 Failed: 0)
  TODO passed:   1-5
Files=6, Tests=28,  9 wallclock secs ( 0.02 usr  0.11 sys +  6.97 cusr  1.66 csys =  8.76 CPU)
Result: PASS

------------------------------
PREREQUISITES
------------------------------

Prerequisite modules loaded:

requires:

    Module                                 Need     Have    
    -------------------------------------- -------- --------
    aliased                                0        0.34    
    Carp                                   0        1.38    
    Cwd                                    0        3.74    
    Data::GUID                             0        0.049   
    DBD::CSV                               0        0.53    
    DBD::SQLite                            0        1.58    
    DBI                                    0        1.634   
    DBI::Const::GetInfoType                0        2.008697
    DBIx::Class::Helper::ResultSet::Random 2.016004 2.033004
    DBIx::Class::Optional::Dependencies    0        0       
    DBIx::Class::Relationship              0        0       
    DBIx::Class::Schema::Loader            0        0.07049 
    DBIx::RunSQL                           0        0.19    
    File::Basename                         0        2.85    
    File::Spec                             0        3.74    
    List::Util                             0        1.50    
    Moo                                    0        2.003004
    perl                                   5.006    5.028000
    Readonly                               0        2.05    
    SQL::Abstract                          0        1.85    
    SQL::Translator                        0.11018  0.11024 
    Test::Exception                        0        0.43    

build_requires:

    Module                                 Need     Have    
    -------------------------------------- -------- --------
    Pod::Coverage                          0        0.23    
    Pod::Coverage::Moose                   0        0.07    
    Test::CheckManifest                    0        1.33    
    Test::More                             0        1.302136
    Test::Pod                              0        1.52    
    Test::Pod::Coverage                    0        1.10    

configure_requires:

    Module                                 Need     Have    
    -------------------------------------- -------- --------
    DBIx::Class                            0.08203  0.082841
    Module::Build                          0.4      0.4224  


------------------------------
ENVIRONMENT AND OTHER CONTEXT
------------------------------

Environment variables:

    AUTOMATED_TESTING = 1
    DBD_MYSQL_TESTDB = test
    DBD_MYSQL_TESTHOST = localhost
    DBD_MYSQL_TESTPASSWORD = 
    DBD_MYSQL_TESTPORT = 3306
    DBD_MYSQL_TESTUSER = vegeta
    EXTENDED_TESTING = 1
    PATH = /home/vegeta/perl5/perlbrew/bin:/home/vegeta/perl5/perlbrew/perls/perl-blead/bin:/home/vegeta/bin:/usr/bin:/bin:/usr/sbin:/sbin:/usr/X11R6/bin:/usr/local/bin:/usr/local/sbin
    PERL5LIB = 
    PERL5OPT = 
    PERL5_CPANPLUS_IS_RUNNING = 96782
    PERL5_CPAN_IS_RUNNING = 96782
    PERL5_CPAN_IS_RUNNING_IN_RECURSION = 68988,96782
    PERLBREW_HOME = /home/vegeta/.perlbrew
    PERLBREW_MANPATH = /home/vegeta/perl5/perlbrew/perls/perl-blead/man
    PERLBREW_PATH = /home/vegeta/perl5/perlbrew/bin:/home/vegeta/perl5/perlbrew/perls/perl-blead/bin
    PERLBREW_PERL = perl-blead
    PERLBREW_ROOT = /home/vegeta/perl5/perlbrew
    PERLBREW_SHELLRC_VERSION = 0.83
    PERLBREW_VERSION = 0.83
    PERL_CR_SMOKER_CURRENT = DBIx-Table-TestDataGenerator-0.005
    PERL_EXTUTILS_AUTOINSTALL = --defaultdeps
    PERL_MM_USE_DEFAULT = 1
    SHELL = /usr/local/bin/bash
    TERM = xterm

Perl special variables (and OS-specific diagnostics, for MSWin32):

    $^X = /home/vegeta/perl5/perlbrew/perls/perl-blead/bin/perl5.28.0
    $UID/$EUID = 1001 / 1001
    $GID = 999 999 1001
    $EGID = 999 999 1001

Perl module toolchain versions installed:

    Module              Have    
    ------------------- --------
    CPAN                2.16    
    CPAN::Meta          2.150010
    Cwd                 3.74    
    ExtUtils::CBuilder  0.280230
    ExtUtils::Command   7.34    
    ExtUtils::Install   2.14    
    ExtUtils::MakeMaker 7.34    
    ExtUtils::Manifest  1.71    
    ExtUtils::ParseXS   3.35    
    File::Spec          3.74    
    JSON                2.90    
    JSON::PP            2.97001 
    Module::Build       0.4224  
    Module::Signature   0.81    
    Parse::CPAN::Meta   2.150010
    Test::Harness       3.42    
    Test::More          1.302136
    YAML                1.26    
    YAML::Syck          n/a     
    version             0.9924  


--

Summary of my perl5 (revision 5 version 28 subversion 0) configuration:
  Snapshot of: 197e7984e9f640254af80f8553707bad217f3814
  Platform:
    osname=openbsd
    osvers=6.3
    archname=OpenBSD.amd64-openbsd-thread-multi
    uname='openbsd cpan-smoker-openbsd 6.3 generic.mp#107 amd64 '
    config_args='-de -Dprefix=/home/vegeta/perl5/perlbrew/perls/perl-blead -Dman1dir=none -Dman3dir=none -Duse64bitall -Dusemultiplicity -Duse64bitint -Dusethreads -Dusedevel -Aeval:scriptdir=/home/vegeta/perl5/perlbrew/perls/perl-blead/bin'
    hint=recommended
    useposix=true
    d_sigaction=define
    useithreads=define
    usemultiplicity=define
    use64bitint=define
    use64bitall=define
    uselongdouble=undef
    usemymalloc=n
    default_inc_excludes_dot=define
    bincompat5005=undef
  Compiler:
    cc='cc'
    ccflags ='-pthread -fno-strict-aliasing -pipe -fstack-protector-strong -I/usr/local/include -D_FORTIFY_SOURCE=2'
    optimize='-O2'
    cppflags='-pthread -fno-strict-aliasing -pipe -fstack-protector-strong -I/usr/local/include'
    ccversion=''
    gccversion='4.2.1 Compatible OpenBSD Clang 5.0.1 (tags/RELEASE_501/final)'
    gccosandvers=''
    intsize=4
    longsize=8
    ptrsize=8
    doublesize=8
    byteorder=12345678
    doublekind=3
    d_longlong=define
    longlongsize=8
    d_longdbl=define
    longdblsize=16
    longdblkind=3
    ivtype='long'
    ivsize=8
    nvtype='double'
    nvsize=8
    Off_t='off_t'
    lseeksize=8
    alignbytes=8
    prototype=define
  Linker and Libraries:
    ld='cc'
    ldflags ='-pthread -Wl,-E  -fstack-protector-strong -L/usr/local/lib'
    libpth=/usr/lib /usr/local/lib
    libs=-lpthread -lm -lutil -lc
    perllibs=-lpthread -lm -lutil -lc
    libc=/usr/lib/libc.so.92.3
    so=so
    useshrplib=false
    libperl=libperl.a
    gnulibc_version=''
  Dynamic Linking:
    dlsrc=dl_dlopen.xs
    dlext=so
    d_dlsymun=undef
    ccdlflags=' '
    cccdlflags='-DPIC -fPIC '
    lddlflags='-shared -fPIC  -L/usr/local/lib -fstack-protector-strong'


Characteristics of this binary (from libperl): 
  Compile-time options:
    HAS_TIMES
    MULTIPLICITY
    PERLIO_LAYERS
    PERL_COPY_ON_WRITE
    PERL_DONT_CREATE_GVSV
    PERL_IMPLICIT_CONTEXT
    PERL_MALLOC_WRAP
    PERL_OP_PARENT
    PERL_PRESERVE_IVUV
    PERL_USE_DEVEL
    USE_64_BIT_ALL
    USE_64_BIT_INT
    USE_ITHREADS
    USE_LARGE_FILES
    USE_LOCALE
    USE_LOCALE_COLLATE
    USE_LOCALE_CTYPE
    USE_LOCALE_NUMERIC
    USE_LOCALE_TIME
    USE_PERLIO
    USE_PERL_ATOF
    USE_REENTRANT_API
  Locally applied patches:
    Devel::PatchPerl 1.48
  Built under openbsd
  Compiled at Jun 10 2018 14:27:57
  %ENV:
    PERL5LIB=""
    PERL5OPT=""
    PERL5_CPANPLUS_IS_RUNNING="96782"
    PERL5_CPAN_IS_RUNNING="96782"
    PERL5_CPAN_IS_RUNNING_IN_RECURSION="68988,96782"
    PERLBREW_HOME="/home/vegeta/.perlbrew"
    PERLBREW_MANPATH="/home/vegeta/perl5/perlbrew/perls/perl-blead/man"
    PERLBREW_PATH="/home/vegeta/perl5/perlbrew/bin:/home/vegeta/perl5/perlbrew/perls/perl-blead/bin"
    PERLBREW_PERL="perl-blead"
    PERLBREW_ROOT="/home/vegeta/perl5/perlbrew"
    PERLBREW_SHELLRC_VERSION="0.83"
    PERLBREW_VERSION="0.83"
    PERL_CR_SMOKER_CURRENT="DBIx-Table-TestDataGenerator-0.005"
    PERL_EXTUTILS_AUTOINSTALL="--defaultdeps"
    PERL_MM_USE_DEFAULT="1"
  @INC:
    /home/vegeta/perl5/perlbrew/perls/perl-blead/lib/site_perl/5.28.0/OpenBSD.amd64-openbsd-thread-multi
    /home/vegeta/perl5/perlbrew/perls/perl-blead/lib/site_perl/5.28.0
    /home/vegeta/perl5/perlbrew/perls/perl-blead/lib/5.28.0/OpenBSD.amd64-openbsd-thread-multi
    /home/vegeta/perl5/perlbrew/perls/perl-blead/lib/5.28.0