Report for Web-Simple-0.027

Back
From: metabase:user:320bfe00-2aae-11df-837a-5e0a49663a4f
Subject: PASS Web-Simple-0.027 v5.21.1 GNU/Linux
Date: 2014-07-15T07:50:06Z

This distribution has been tested as part of the CPAN Testers
project, supporting the Perl programming language.  See
http://wiki.cpantesters.org/ for more information or email
questions to cpan-testers-discuss@perl.org


--
Dear Karen Etheridge,

This is a computer-generated report for Web-Simple-0.027
on perl 5.21.1, created by CPAN-Reporter-1.2011.

Thank you for uploading your work to CPAN.  Congratulations!
All tests were successful.

Sections of this report:

    * Tester comments
    * Program output
    * Prerequisites
    * Environment and other context

------------------------------
TESTER COMMENTS
------------------------------

Additional comments from tester:

this report is from an automated smoke testing program
and was not reviewed by a human for accuracy

------------------------------
PROGRAM OUTPUT
------------------------------

Output from '/usr/bin/make test':

PERL_DL_NONLAZY=1 /home/sand/src/perl/repoperls/installed-perls/perl/v5.21.1/9980/bin/perl "-MExtUtils::Command::MM" "-MTest::Harness" "-e" "undef *Test::Harness::Switches; test_harness(0, 'blib/lib', 'blib/arch')" t/*.t
t/bloggery.t ................. ok
t/css_declare.t .............. ok
t/dispatch_misc.t ............ ok
t/dispatch_parser.t .......... ok
t/env.t ...................... ok
t/leak.t ..................... skipped: No Devel::Cycle
t/match-home.t ............... ok
t/param_parser.t ............. ok
t/post.t ..................... ok
t/predicate_objects.t ........ ok
t/request_mode_heuristics.t .. ok
t/response-filter.t .......... ok
t/role.t ..................... ok
t/stream_test.t .............. ok
t/sub-dispatch-args.t ........ ok
t/sub-dispatch-env.t ......... ok
t/tags.t ..................... ok
t/test-request-basic-auth.t .. ok
t/underscore.t ............... ok
t/wd-http-methods.t .......... ok
All tests successful.
Files=20, Tests=336,  5 wallclock secs ( 0.11 usr  0.01 sys +  2.84 cusr  0.28 csys =  3.24 CPU)
Result: PASS

------------------------------
PREREQUISITES
------------------------------

Prerequisite modules loaded:

requires:

    Module                  Need     Have        
    ----------------------- -------- ------------
    base                    0        2.22        
    Carp                    0        1.34        
    Encode                  0        2.62        
    Exporter                0        5.71        
    File::Glob              0        1.23        
    HTTP::Body              0        1.19        
    HTTP::Headers           0        6.05        
    HTTP::Request           0        6.00        
    IO::Handle              0        1.35        
    MIME::Base64            0        3.14        
    Moo                     0.009014 1.005000    
    overload                0        1.22        
    perl                    5.006    5.021001    
    Plack                   0.9968   1.0030      
    Scalar::Util            0        1.39        
    strictures              1        1.005004    
    Sub::Quote              0        1.005000    
    Syntax::Keyword::Gather 1.001    1.003000    
    URI                     0        1.60        
    warnings::illegalproto  0        0.001001    

build_requires:

    Module                  Need     Have        
    ----------------------- -------- ------------
    Data::Dumper::Concise   2.020    2.022       
    ExtUtils::MakeMaker     0        6.99_03     
    HTTP::Request::Common   0        6.04        
    HTTP::Response          0        6.04        
    Socket                  0        2.014       
    Test::More              0.88     1.301001_008

configure_requires:

    Module                  Need     Have        
    ----------------------- -------- ------------
    ExtUtils::MakeMaker     0        6.99_03     


------------------------------
ENVIRONMENT AND OTHER CONTEXT
------------------------------

Environment variables:

    AUTOMATED_TESTING = 1
    LANG = en_US.UTF-8
    LANGUAGE = en_US:en
    PATH = /usr/lib/ccache:/home/sand/bin:/usr/local/bin:/usr/bin:/bin:/usr/games:/usr/local/perl/bin:/usr/X11/bin:/sbin:/usr/sbin
    PERL5LIB = 
    PERL5OPT = 
    PERL5_CPANPLUS_IS_RUNNING = 26185
    PERL5_CPAN_IS_RUNNING = 26185
    PERL_MM_USE_DEFAULT = 1
    SHELL = /usr/bin/zsh
    TERM = screen

Perl special variables (and OS-specific diagnostics, for MSWin32):

    $^X = /home/sand/src/perl/repoperls/installed-perls/perl/v5.21.1/9980/bin/perl
    $UID/$EUID = 1005 / 1005
    $GID = 1005 1005
    $EGID = 1005 1005

Perl module toolchain versions installed:

    Module              Have        
    ------------------- ------------
    CPAN                2.05        
    CPAN::Meta          2.141520    
    Cwd                 3.48        
    ExtUtils::CBuilder  0.280216    
    ExtUtils::Command   1.18        
    ExtUtils::Install   1.68        
    ExtUtils::MakeMaker 6.99_03     
    ExtUtils::Manifest  1.63        
    ExtUtils::ParseXS   3.25        
    File::Spec          3.48        
    JSON                2.90        
    JSON::PP            2.27203     
    Module::Build       0.4205      
    Module::Signature   0.73        
    Parse::CPAN::Meta   1.4414      
    Test::Harness       3.32        
    Test::More          1.301001_008
    YAML                0.94        
    YAML::Syck          1.27        
    version             0.9908      


--

Summary of my perl5 (revision 5 version 21 subversion 1) configuration:
  Commit id: 62406c838c92e5d5cbf29c4f06850350380f4ef5
  Platform:
    osname=linux, osvers=3.14-1-amd64, archname=x86_64-linux-thread-multi
    uname='linux k83 3.14-1-amd64 #1 smp debian 3.14.5-1 (2014-06-05) x86_64 gnulinux '
    config_args='-Dprefix=/home/sand/src/perl/repoperls/installed-perls/perl/v5.21.1/9980 -Dmyhostname=k83 -Dinstallusrbinperl=n -Uversiononly -Dusedevel -des -Ui_db -Duseithreads -Uuselongdouble -DDEBUGGING=-g'
    hint=recommended, useposix=true, d_sigaction=define
    useithreads=define, usemultiplicity=define
    use64bitint=define, use64bitall=define, uselongdouble=undef
    usemymalloc=n, bincompat5005=undef
  Compiler:
    cc='cc', ccflags ='-D_REENTRANT -D_GNU_SOURCE -fwrapv -fno-strict-aliasing -pipe -fstack-protector -I/usr/local/include -D_LARGEFILE_SOURCE -D_FILE_OFFSET_BITS=64',
    optimize='-O2 -g',
    cppflags='-D_REENTRANT -D_GNU_SOURCE -fwrapv -fno-strict-aliasing -pipe -fstack-protector -I/usr/local/include'
    ccversion='', gccversion='4.8.3', gccosandvers=''
    intsize=4, longsize=8, ptrsize=8, doublesize=8, byteorder=12345678
    d_longlong=define, longlongsize=8, d_longdbl=define, longdblsize=16
    ivtype='long', ivsize=8, nvtype='double', nvsize=8, Off_t='off_t', lseeksize=8
    alignbytes=8, prototype=define
  Linker and Libraries:
    ld='cc', ldflags =' -fstack-protector -L/usr/local/lib'
    libpth=/usr/local/lib /usr/lib/gcc/x86_64-linux-gnu/4.8/include-fixed /usr/include/x86_64-linux-gnu /usr/lib /lib/x86_64-linux-gnu /lib/../lib /usr/lib/x86_64-linux-gnu /usr/lib/../lib /lib
    libs=-lnsl -lgdbm -ldb -ldl -lm -lcrypt -lutil -lpthread -lc -lgdbm_compat
    perllibs=-lnsl -ldl -lm -lcrypt -lutil -lpthread -lc
    libc=libc-2.19.so, so=so, useshrplib=false, libperl=libperl.a
    gnulibc_version='2.19'
  Dynamic Linking:
    dlsrc=dl_dlopen.xs, dlext=so, d_dlsymun=undef, ccdlflags='-Wl,-E'
    cccdlflags='-fPIC', lddlflags='-shared -O2 -g -L/usr/local/lib -fstack-protector'


Characteristics of this binary (from libperl): 
  Compile-time options: HAS_TIMES MULTIPLICITY PERLIO_LAYERS
                        PERL_DONT_CREATE_GVSV
                        PERL_HASH_FUNC_ONE_AT_A_TIME_HARD
                        PERL_IMPLICIT_CONTEXT PERL_MALLOC_WRAP
                        PERL_NEW_COPY_ON_WRITE PERL_PRESERVE_IVUV
                        PERL_USE_DEVEL USE_64_BIT_ALL USE_64_BIT_INT
                        USE_ITHREADS USE_LARGE_FILES USE_LOCALE
                        USE_LOCALE_COLLATE USE_LOCALE_CTYPE
                        USE_LOCALE_NUMERIC USE_PERLIO USE_PERL_ATOF
                        USE_REENTRANT_API
  Built under linux
  Compiled at Jun 20 2014 21:27:33
  %ENV:
    PERL5LIB=""
    PERL5OPT=""
    PERL5_CPANPLUS_IS_RUNNING="26185"
    PERL5_CPAN_IS_RUNNING="26185"
    PERL_MM_USE_DEFAULT="1"
  @INC:
    /home/sand/src/perl/repoperls/installed-perls/perl/v5.21.1/9980/lib/site_perl/5.21.1/x86_64-linux-thread-multi
    /home/sand/src/perl/repoperls/installed-perls/perl/v5.21.1/9980/lib/site_perl/5.21.1
    /home/sand/src/perl/repoperls/installed-perls/perl/v5.21.1/9980/lib/5.21.1/x86_64-linux-thread-multi
    /home/sand/src/perl/repoperls/installed-perls/perl/v5.21.1/9980/lib/5.21.1
    .