Report for Sub-Called-0.03

Back
From: metabase:user:8286d1fc-3d52-11e2-9ec4-cb9cdd236785
Subject: PASS Sub-Called-0.03 v5.14.3 GNU/Linux
Date: 2014-06-04T12:27:47Z

This distribution has been tested as part of the CPAN Testers
project, supporting the Perl programming language.  See
http://wiki.cpantesters.org/ for more information or email
questions to cpan-testers-discuss@perl.org


--
Dear Renee Baecker,

This is a computer-generated report for Sub-Called-0.03
on perl 5.14.3, created by CPAN-Reporter-1.2010.

Thank you for uploading your work to CPAN.  Congratulations!
All tests were successful.

Sections of this report:

    * Tester comments
    * Program output
    * Prerequisites
    * Environment and other context

------------------------------
TESTER COMMENTS
------------------------------

Additional comments from tester:

this report is from an automated smoke testing program
and was not reviewed by a human for accuracy

------------------------------
PROGRAM OUTPUT
------------------------------

Output from '/usr/local/bin/make test':

PERL_DL_NONLAZY=1 /opt/perl444-27-no-5.14.3/bin/perl "-MExtUtils::Command::MM" "-MTest::Harness" "-e" "undef *Test::Harness::Switches; test_harness(0, 'blib/lib', 'blib/arch')" t/*.t
# Testing Sub::Called 0.03, Perl 5.014003, /opt/perl444-27-no-5.14.3/bin/perl
t/00_load.t .................... ok
t/01_base.t .................... ok
t/02_module.t .................. ok
t/03_module2.t ................. ok
t/04_main.t .................... ok
t/05_two_calls_in_one_line.t ... ok
t/06_called_at_module_start.t .. skipped: These are tests for the limitations.
t/07_module3.t ................. ok
t/08_without_strict.t .......... ok
t/09_export.t .................. ok
t/10_not_called.t .............. ok
t/11_already_called.t .......... ok
t/96_boilerplate.t ............. skipped: Set RELEASE_TESTING=1 to run this test
t/97_test_manifest.t ........... skipped: Set RELEASE_TESTING=1 to run this test
t/98_pod.t ..................... skipped: Set RELEASE_TESTING=1 to run this test
t/99_pod-coverage.t ............ skipped: Set RELEASE_TESTING=1 to run this test
All tests successful.

Test Summary Report
-------------------
t/04_main.t                  (Wstat: 0 Tests: 6 Failed: 0)
  TODO passed:   5-6
Files=16, Tests=30,  2 wallclock secs ( 0.15 usr  0.04 sys +  0.95 cusr  0.21 csys =  1.35 CPU)
Result: PASS

------------------------------
PREREQUISITES
------------------------------

Prerequisite modules loaded:

requires:

    Module              Need Have    
    ------------------- ---- --------
    Test::More          0    1.001002

build_requires:

    Module              Need Have    
    ------------------- ---- --------
    ExtUtils::MakeMaker 0    6.82    


------------------------------
ENVIRONMENT AND OTHER CONTEXT
------------------------------

Environment variables:

    AUTOMATED_TESTING = 1
    LANG = en_US.UTF-8
    LD_LIBRARY_PATH = /usr/local/lib
    PATH = /usr/lib/qt-3.3/bin:/usr/kerberos/sbin:/usr/kerberos/bin:/usr/lib/ccache:/usr/local/sbin:/usr/local/bin:/sbin:/bin:/usr/sbin:/usr/bin:/usr/lib/alliance/bin:/opt/real/RealPlayer:/root/bin:/usr/lib/alliance/bin:/opt/real/RealPlayer
    PERL5LIB = 
    PERL5OPT = 
    PERL5_CPANPLUS_IS_RUNNING = 31081
    PERL5_CPAN_IS_RUNNING = 31081
    PERL_MM_USE_DEFAULT = 1
    SHELL = /bin/bash
    TERM = xterm

Perl special variables (and OS-specific diagnostics, for MSWin32):

    $^X = /opt/perl444-27-no-5.14.3/bin/perl
    $UID/$EUID = 0 / 0
    $GID = 0 0 1 2 3 4 6 10
    $EGID = 0 0 1 2 3 4 6 10

Perl module toolchain versions installed:

    Module              Have     
    ------------------- ---------
    CPAN                1.9600_01
    CPAN::Meta          2.132830 
    Cwd                 3.40     
    ExtUtils::CBuilder  0.280212 
    ExtUtils::Command   1.17     
    ExtUtils::Install   1.54     
    ExtUtils::MakeMaker 6.82     
    ExtUtils::Manifest  1.63     
    ExtUtils::ParseXS   3.22     
    File::Spec          3.40     
    JSON                2.90     
    JSON::PP            2.27203  
    Module::Build       0.4008   
    Module::Signature   0.73     
    Parse::CPAN::Meta   1.4409   
    Test::Harness       3.29     
    Test::More          1.001002 
    YAML                0.84     
    YAML::Syck          1.27     
    version             0.9904   


--

Summary of my perl5 (revision 5 version 14 subversion 3) configuration:
   
  Platform:
    osname=linux, osvers=2.6.27-repin.1, archname=i686-linux
    uname='linux localhost.localdomain 2.6.27-repin.1 #1 smp tue jan 25 20:07:21 msk 2011 i686 i686 i386 gnulinux '
    config_args='-Dcc=/opt/444/bin/gcc -Doptimize=-O3 -DDMALLOC=/usr/local/bin/dmalloc -Dprefix=/opt/perl444-27-no-5.14.3 -DDEBUGGING'
    hint=recommended, useposix=true, d_sigaction=define
    useithreads=undef, usemultiplicity=undef
    useperlio=define, d_sfio=undef, uselargefiles=define, usesocks=undef
    use64bitint=undef, use64bitall=undef, uselongdouble=undef
    usemymalloc=n, bincompat5005=undef
  Compiler:
    cc='/opt/444/bin/gcc', ccflags ='-DDMALLOC -D_LARGEFILE_SOURCE -D_FILE_OFFSET_BITS=64',
    optimize='-O3 -g',
    cppflags='-DDMALLOC'
    ccversion='', gccversion='4.4.4', gccosandvers=''
    intsize=4, longsize=4, ptrsize=4, doublesize=8, byteorder=1234
    d_longlong=define, longlongsize=8, d_longdbl=define, longdblsize=12
    ivtype='long', ivsize=4, nvtype='double', nvsize=8, Off_t='off_t', lseeksize=8
    alignbytes=4, prototype=define
  Linker and Libraries:
    ld='/opt/444/bin/gcc', ldflags =' -L/usr/local/lib'
    libpth=/usr/local/lib /lib /usr/lib
    libs=-lnsl -lgdbm -ldb -ldl -lm -lcrypt -lutil -lc
    perllibs=-lnsl -ldl -lm -lcrypt -lutil -lc
    libc=/lib/libc-2.5.so, so=so, useshrplib=false, libperl=libperl.a
    gnulibc_version='2.5'
  Dynamic Linking:
    dlsrc=dl_dlopen.xs, dlext=so, d_dlsymun=undef, ccdlflags='-Wl,-E'
    cccdlflags='-fPIC', lddlflags='-shared -O3 -g -L/usr/local/lib'


Characteristics of this binary (from libperl): 
  Compile-time options: PERL_DONT_CREATE_GVSV PERL_MAD PERL_MALLOC_WRAP
                        PERL_PRESERVE_IVUV USE_FAST_STDIO USE_LARGE_FILES
                        USE_PERLIO USE_PERL_ATOF
  Built under linux
  Compiled at Nov  9 2013 15:49:58
  %ENV:
    PERL5LIB=""
    PERL5OPT=""
    PERL5_CPANPLUS_IS_RUNNING="31081"
    PERL5_CPAN_IS_RUNNING="31081"
    PERL_MM_USE_DEFAULT="1"
  @INC:
    /opt/perl444-27-no-5.14.3/lib/site_perl/5.14.3/i686-linux
    /opt/perl444-27-no-5.14.3/lib/site_perl/5.14.3
    /opt/perl444-27-no-5.14.3/lib/5.14.3/i686-linux
    /opt/perl444-27-no-5.14.3/lib/5.14.3
    .