Syntax-Feature-QwComments vv1.16.0 Perl 5 v5.41.13 amd64-freebsd
- Status
- Pass
- From
- Carlos Guevara
- Dist
-
Syntax-Feature-QwComments vv1.16.0
- Platform
- Perl 5 v5.41.13 amd64-freebsd
- Date
- 2025-05-11 01:02:40
- ID
- a325aadc-2e03-11f0-9982-b7688b550f29
This distribution has been tested as part of the CPAN Testers
project, supporting the Perl programming language. See
http://wiki.cpantesters.org/ for more information or email
questions to cpan-testers-discuss@perl.org
--
Dear ikegami,
This is a computer-generated report for Syntax-Feature-QwComments-v1.16.0
on perl 5.41.13, created by CPAN-Reporter-1.2020.
Thank you for uploading your work to CPAN. Congratulations!
All tests were successful.
Sections of this report:
* Tester comments
* Program output
* Prerequisites
* Environment and other context
------------------------------
TESTER COMMENTS
------------------------------
Additional comments from tester:
this report is from an automated smoke testing program
and was not reviewed by a human for accuracy
------------------------------
PROGRAM OUTPUT
------------------------------
Output from '/usr/bin/make test':
"/home/cpan/bin/perl/bin/perl5.41.13" -MExtUtils::Command::MM -e 'cp_nonempty' -- QwComments.bs blib/arch/auto/Syntax/Feature/QwComments/QwComments.bs 644
PERL_DL_NONLAZY=1 "/home/cpan/bin/perl/bin/perl5.41.13" "-MExtUtils::Command::MM" "-MTest::Harness" "-e" "undef *Test::Harness::Switches; test_harness(0, 'blib/lib', 'blib/arch')" t/*.t
# Testing Syntax::Feature::QwComments v1.16.0
# Using Perl 5.041013
# Carp 1.54
# Config 5.041013
# DynaLoader 1.57
# Exporter 5.79
# List::Util 1.69
# Scalar::Util 1.69
# Syntax::Feature::QwComments v1.16.0
# Test::Builder 1.302211
# Test::Builder::Formatter 1.302211
# Test::Builder::Module 1.302211
# Test::Builder::TodoDiag 1.302211
# Test::More 1.302211
# Test2::API 1.302211
# Test2::API::Context 1.302211
# Test2::API::Instance 1.302211
# Test2::API::Stack 1.302211
# Test2::Event 1.302211
# Test2::Event::Bail 1.302211
# Test2::Event::Diag 1.302211
# Test2::Event::Exception 1.302211
# Test2::Event::Fail 1.302211
# Test2::Event::Note 1.302211
# Test2::Event::Ok 1.302211
# Test2::Event::Pass 1.302211
# Test2::Event::Plan 1.302211
# Test2::Event::Skip 1.302211
# Test2::Event::Subtest 1.302211
# Test2::Event::V2 1.302211
# Test2::Event::Waiting 1.302211
# Test2::EventFacet 1.302211
# Test2::EventFacet::About 1.302211
# Test2::EventFacet::Amnesty 1.302211
# Test2::EventFacet::Assert 1.302211
# Test2::EventFacet::Control 1.302211
# Test2::EventFacet::Error 1.302211
# Test2::EventFacet::Hub 1.302211
# Test2::EventFacet::Info 1.302211
# Test2::EventFacet::Meta 1.302211
# Test2::EventFacet::Parent 1.302211
# Test2::EventFacet::Plan 1.302211
# Test2::EventFacet::Trace 1.302211
# Test2::Formatter 1.302211
# Test2::Formatter::TAP 1.302211
# Test2::Hub 1.302211
# Test2::Hub::Interceptor 1.302211
# Test2::Hub::Interceptor::Terminator 1.302211
# Test2::Hub::Subtest 1.302211
# Test2::Util 1.302211
# Test2::Util::ExternalMeta 1.302211
# Test2::Util::Facets2Legacy 1.302211
# Test2::Util::HashBase 1.302211
# Test2::Util::Trace 1.302211
# Time::HiRes 1.9778
# XSLoader 0.32
# mro 1.29
# overloading 0.02
# strict 1.14
# vars 1.05
# version 0.9933
# version::regex 0.9933
# warnings 1.74
# warnings::register 1.06
t/00_load.t ................. ok
t/01_devel_mark_check.t ..... skipped: Mark checks are only performed when DEVEL_TESTS=1
t/02_devel_version_check.t .. skipped: Version checks are only performed when DEVEL_TESTS=1
t/03_devel_whitespace.t ..... skipped: Whitespace checks are only performed when DEVEL_TESTS=1
t/04_devel_permissions.t .... skipped: Permission checks are only performed when DEVEL_TESTS=1
t/05_pod.t .................. ok
t/06_devel_pod_coverage.t ... skipped: Pod coverage is only tested when DEVEL_TESTS=1
t/07_basic.t ................ ok
t/08_pragma_a.t ............. ok
t/09_pragma_b.t ............. ok
t/10_line_numbers.t ......... ok
t/11_errors.t ............... ok
t/12_unicode.t .............. ok
All tests successful.
Files=13, Tests=66, 0 wallclock secs ( 0.03 usr 0.02 sys + 0.41 cusr 0.05 csys = 0.52 CPU)
Result: PASS
------------------------------
PREREQUISITES
------------------------------
Prerequisite modules loaded:
requires:
Module Need Have
------------------- ----- --------
perl 5.014 5.041013
strict 0 1.14
syntax 0.004 0.004
version 0 0.9933
warnings 0 1.74
XSLoader 0 0.32
build_requires:
Module Need Have
------------------- ----- --------
Test::More 0 1.302211
configure_requires:
Module Need Have
------------------- ----- --------
ExtUtils::MakeMaker 6.74 7.74
opt_requires:
Module Need Have
------------------- ----- --------
perl 5.028 5.041013
opt_build_requires:
Module Need Have
------------------- ----- --------
Test::Pod 1.22 1.52
------------------------------
ENVIRONMENT AND OTHER CONTEXT
------------------------------
Environment variables:
AUTOMATED_TESTING = 1
DATE_MANIP_TEST_DM5 = 1
LANG = C.UTF-8
LC_ALL = C
NONINTERACTIVE_TESTING = 1
NO_NETWORK_TESTING = 1
PATH = /home/cpan/bin/perl/bin:/home/cpan/bin:/sbin:/bin:/usr/sbin:/usr/bin:/usr/local/sbin:/usr/local/bin:/home/cpan/bin
PERL5LIB =
PERL5OPT =
PERL5_CPANPLUS_IS_RUNNING = 80196
PERL5_CPAN_IS_RUNNING = 80196
PERL_MM_USE_DEFAULT = 1
PERL_USE_UNSAFE_INC = 1
SHELL = /usr/local/bin/bash
TERM = screen
TMPDIR = /home/cpan/tmp
Perl special variables (and OS-specific diagnostics, for MSWin32):
$^X = /home/cpan/bin/perl/bin/perl5.41.13
$UID/$EUID = 1002 / 1002
$GID = 1002 1002
$EGID = 1002 1002
Perl module toolchain versions installed:
Module Have
------------------- --------
CPAN 2.38
CPAN::Meta 2.150010
Cwd 3.94
ExtUtils::CBuilder 0.280241
ExtUtils::Command 7.74
ExtUtils::Install 2.22
ExtUtils::MakeMaker 7.74
ExtUtils::Manifest 1.75
ExtUtils::ParseXS 3.57
File::Spec 3.94
JSON 4.10
JSON::PP 4.16
Module::Build 0.4234
Module::Signature 0.89
Parse::CPAN::Meta 2.150010
Test2 1.302211
Test::Harness 3.50
Test::More 1.302211
YAML 1.31
YAML::Syck 1.34
version 0.9933
--
Summary of my perl5 (revision 5 version 41 subversion 13) configuration:
Commit id: c1c689ee834ffcbd6a12588dd12dfc5dcbfb39d5
Platform:
osname=freebsd
osvers=14.2-release-p1
archname=amd64-freebsd
uname='freebsd cjg-freebsd14 14.2-release-p1 freebsd 14.2-release-p1 generic amd64 '
config_args='-des -Dprefix=/home/cpan/bin/perl -Dscriptdir=/home/cpan/bin/perl/bin -Dusedevel -Duse64bitall'
hint=recommended
useposix=true
d_sigaction=define
useithreads=undef
usemultiplicity=undef
use64bitint=define
use64bitall=define
uselongdouble=undef
usemymalloc=n
default_inc_excludes_dot=define
Compiler:
cc='cc'
ccflags ='-DHAS_FPSETMASK -DHAS_FLOATINGPOINT_H -DNO_POSIX_2008_LOCALE -fno-strict-aliasing -pipe -fstack-protector-strong -I/usr/local/include'
optimize='-O2'
cppflags='-DHAS_FPSETMASK -DHAS_FLOATINGPOINT_H -DNO_POSIX_2008_LOCALE -fno-strict-aliasing -pipe -fstack-protector-strong -I/usr/local/include'
ccversion=''
gccversion='FreeBSD Clang 18.1.6 (https://github.com/llvm/llvm-project.git llvmorg-18.1.6-0-g1118c2e05e67)'
gccosandvers=''
intsize=4
longsize=8
ptrsize=8
doublesize=8
byteorder=12345678
doublekind=3
d_longlong=define
longlongsize=8
d_longdbl=define
longdblsize=16
longdblkind=3
ivtype='long'
ivsize=8
nvtype='double'
nvsize=8
Off_t='off_t'
lseeksize=8
alignbytes=8
prototype=define
Linker and Libraries:
ld='cc'
ldflags ='-Wl,-E -fstack-protector-strong -L/usr/local/lib'
libpth=/usr/lib /usr/local/lib /usr/lib/clang/18/lib
libs=-lpthread -lgdbm -ldl -lm -lcrypt -lutil -lc
perllibs=-lpthread -ldl -lm -lcrypt -lutil -lc
libc=
so=so
useshrplib=false
libperl=libperl.a
gnulibc_version=''
Dynamic Linking:
dlsrc=dl_dlopen.xs
dlext=so
d_dlsymun=undef
ccdlflags=' '
cccdlflags='-DPIC -fPIC'
lddlflags='-shared -L/usr/local/lib -fstack-protector-strong'
Characteristics of this binary (from libperl):
Compile-time options:
HAS_LONG_DOUBLE
HAS_STRTOLD
HAS_TIMES
PERLIO_LAYERS
PERL_COPY_ON_WRITE
PERL_DONT_CREATE_GVSV
PERL_HASH_FUNC_SIPHASH13
PERL_HASH_USE_SBOX32
PERL_MALLOC_WRAP
PERL_OP_PARENT
PERL_PRESERVE_IVUV
PERL_USE_DEVEL
PERL_USE_SAFE_PUTENV
USE_64_BIT_ALL
USE_64_BIT_INT
USE_LARGE_FILES
USE_LOCALE
USE_LOCALE_COLLATE
USE_LOCALE_CTYPE
USE_LOCALE_NUMERIC
USE_LOCALE_TIME
USE_PERLIO
USE_PERL_ATOF
Built under freebsd
Compiled at May 10 2025 15:29:06
%ENV:
PERL5LIB=""
PERL5OPT=""
PERL5_CPANPLUS_IS_RUNNING="80196"
PERL5_CPAN_IS_RUNNING="80196"
PERL_MM_USE_DEFAULT="1"
PERL_USE_UNSAFE_INC="1"
@INC:
/home/cpan/bin/perl/lib/site_perl/5.41.13/amd64-freebsd
/home/cpan/bin/perl/lib/site_perl/5.41.13
/home/cpan/bin/perl/lib/5.41.13/amd64-freebsd
/home/cpan/bin/perl/lib/5.41.13
.